BEGIN:VCALENDAR
VERSION:2.0
PRODID:-//Kino Tuškanac//Filmski programi//HR
URL:http://kinotuskanac/calendar/cycle/1003
NAME:Kino Tuškanac ciklus Omiljeni dječji klasici
X-WR-CALNAME:Kino Tuškanac ciklus Omiljeni dječji klasici
TIMEZONE-ID:Europe/Zagreb
X-WR-TIMEZONE:Europe/Zagreb
REFRESH-INTERVAL;VALUE=DURATION:PT12H
X-PUBLISHED-TTL:PT12H
METHOD:PUBLISH
BEGIN:VEVENT
UID:94072c462263f01625d0143beb7376ea@kinotuskanac.hr
DTSTAMP:20260422T025757Z
DTSTART:20250308T110000
DTEND:20250308T130000
SUMMARY:Vlak u snijegu
LOCATION:Kino Tuškanac
DESCRIPTION:Jugoslavija: Hrvatska, 1976 | Mjesto prikazivanja filma: Scena Ribnjak (Centar mladih Ribnjak, Park Ribnjak 1) R: Mate Relja
END:VEVENT

BEGIN:VEVENT
UID:d89b705284b3fea8d13f6f5f01f9d17d@kinotuskanac.hr
DTSTAMP:20260422T025757Z
DTSTART:20250412T110000
DTEND:20250412T130000
SUMMARY:Čudesna šuma
LOCATION:Kino Tuškanac
DESCRIPTION:Jugoslavija: Hrvatska, SAD, 1986 | Mjesto prikazivanja filma: Scena Ribnjak (Centar mladih Ribnjak, Park Ribnjak 1) R: Milan Blažeković
END:VEVENT

BEGIN:VEVENT
UID:6906bca9a0116c661436025f34f2aaee@kinotuskanac.hr
DTSTAMP:20260422T025757Z
DTSTART:20250510T110000
DTEND:20250510T130000
SUMMARY:Družba Pere Kvržice
LOCATION:Kino Tuškanac
DESCRIPTION:Jugoslavija: Hrvatska, 1970 | Mjesto prikazivanja filma: Scena Ribnjak (Centar mladih Ribnjak, Park Ribnjak 1) R: Vladimir Tadej
END:VEVENT
END:VCALENDAR