BEGIN:VCALENDAR
VERSION:2.0
PRODID:-//Kino Tuškanac//Filmski programi//HR
URL:http://kinotuskanac/calendar/cycle/1004
NAME:Kino Tuškanac ciklus Portreti: Sean Connery
X-WR-CALNAME:Kino Tuškanac ciklus Portreti: Sean Connery
TIMEZONE-ID:Europe/Zagreb
X-WR-TIMEZONE:Europe/Zagreb
REFRESH-INTERVAL;VALUE=DURATION:PT12H
X-PUBLISHED-TTL:PT12H
METHOD:PUBLISH
BEGIN:VEVENT
UID:0bdab2c2b16493767eb517de852c688f@kinotuskanac.hr
DTSTAMP:20260420T142050Z
DTSTART:20250404T210000
DTEND:20250404T230000
SUMMARY:Dr. No
LOCATION:Kino Tuškanac
DESCRIPTION:Velika Britanija, 1962 | Mjesto prikazivanja filma: Kulturno informativni centar KIC (Preradovićeva ul. 5) R: Terence Young
END:VEVENT

BEGIN:VEVENT
UID:14f15825bd60c060ea4d7bb84c12073c@kinotuskanac.hr
DTSTAMP:20260420T142050Z
DTSTART:20250405T210000
DTEND:20250405T230000
SUMMARY:Marnie
LOCATION:Kino Tuškanac
DESCRIPTION:SAD, 1964 | Mjesto prikazivanja filma: Kulturno informativni centar KIC (Preradovićeva ul. 5) R: Alfred Hitchcock
END:VEVENT

BEGIN:VEVENT
UID:6f53284b315f5f9b45ffd55f299bdfcb@kinotuskanac.hr
DTSTAMP:20260420T142050Z
DTSTART:20250406T210000
DTEND:20250406T230000
SUMMARY:Brdo
LOCATION:Kino Tuškanac
DESCRIPTION:The Hill, UK, 1965 | Mjesto prikazivanja filma: Kulturno informativni centar KIC (Preradovićeva ul. 5) R: Sidney Lumet
END:VEVENT

BEGIN:VEVENT
UID:adda820744f8c547ebf11005e37ab1b4@kinotuskanac.hr
DTSTAMP:20260420T142050Z
DTSTART:20250411T210000
DTEND:20250411T230000
SUMMARY:Zardoz
LOCATION:Kino Tuškanac
DESCRIPTION:UK, Irska, SAD, 1974 | Mjesto prikazivanja filma: Kulturno informativni centar KIC (Preradovićeva ul. 5) R: John Boorman
END:VEVENT

BEGIN:VEVENT
UID:1e4ce280b30b243b0017a8cc9d86e963@kinotuskanac.hr
DTSTAMP:20260420T142050Z
DTSTART:20250412T210000
DTEND:20250412T230000
SUMMARY:Čovjek koji je želio postati kralj
LOCATION:Kino Tuškanac
DESCRIPTION:The Man Who Would Be A King, SAD, 1975 | Mjesto prikazivanja filma: Kulturno informativni centar KIC (Preradovićeva ul. 5) R: John Huston
END:VEVENT

BEGIN:VEVENT
UID:f7938efcde605123859165c77aec97e2@kinotuskanac.hr
DTSTAMP:20260420T142050Z
DTSTART:20250413T210000
DTEND:20250413T230000
SUMMARY:Ime ruže
LOCATION:Kino Tuškanac
DESCRIPTION:The Name of the Rose, Italija, Zapadna Njemačka, Francuska, 1986 | Mjesto prikazivanja filma: Kulturno informativni centar KIC (Preradovićeva ul. 5) R: Jean-Jacques Annaud
END:VEVENT

BEGIN:VEVENT
UID:c48475076dd103c35f445589a9b3c0e3@kinotuskanac.hr
DTSTAMP:20260420T142050Z
DTSTART:20250418T210000
DTEND:20250418T230000
SUMMARY:Lov na Crveni Oktobar
LOCATION:Kino Tuškanac
DESCRIPTION:The Hunt for Red October, SAD, 1990 | Mjesto prikazivanja filma: Kulturno informativni centar KIC (Preradovićeva ul. 5) R: John McTiernan
END:VEVENT

BEGIN:VEVENT
UID:3be37d4e3a91724e6fe5f5c66e061e68@kinotuskanac.hr
DTSTAMP:20260420T142050Z
DTSTART:20250419T210000
DTEND:20250419T230000
SUMMARY:Hrid
LOCATION:Kino Tuškanac
DESCRIPTION:The Rock, SAD, 1996 | Mjesto prikazivanja filma: Kulturno informativni centar KIC (Preradovićeva ul. 5) R: Michael Bay
END:VEVENT
END:VCALENDAR