BEGIN:VCALENDAR
VERSION:2.0
PRODID:-//Kino Tuškanac//Filmski programi//HR
URL:http://kinotuskanac/calendar/cycle/1015
NAME:Kino Tuškanac ciklus Andrzej Wajda
X-WR-CALNAME:Kino Tuškanac ciklus Andrzej Wajda
TIMEZONE-ID:Europe/Zagreb
X-WR-TIMEZONE:Europe/Zagreb
REFRESH-INTERVAL;VALUE=DURATION:PT12H
X-PUBLISHED-TTL:PT12H
METHOD:PUBLISH
BEGIN:VEVENT
UID:13b1f79efa54271eef167e89311e3bc2@kinotuskanac.hr
DTSTAMP:20260420T191159Z
DTSTART:20250605T190000
DTEND:20250605T210000
SUMMARY:Pokoljenje
LOCATION:Kino Tuškanac
DESCRIPTION:Pokolenie, Poljska, 1955 | Mjesto prikazivanja filma: Kino Forum (SD Stjepan Radić, Jarunska ul. 2) R: Andrzej Wajda
END:VEVENT

BEGIN:VEVENT
UID:4ad7326b0c25fe6f7fc8689b7d142ddd@kinotuskanac.hr
DTSTAMP:20260420T191159Z
DTSTART:20250612T190000
DTEND:20250612T210000
SUMMARY:Kanal
LOCATION:Kino Tuškanac
DESCRIPTION:Poljska, 1957 | Mjesto prikazivanja filma: Kino Forum (SD Stjepan Radić, Jarunska ul. 2) R: Andrzej Wajda
END:VEVENT

BEGIN:VEVENT
UID:4cd171d9a50a3d1aef2af77f5d7b8b56@kinotuskanac.hr
DTSTAMP:20260420T191159Z
DTSTART:20250613T190000
DTEND:20250613T210000
SUMMARY:Pepeo i dijamant
LOCATION:Kino Tuškanac
DESCRIPTION:Popiól i diament, Poljska, 1958 | Mjesto prikazivanja filma: Kino Forum (SD Stjepan Radić, Jarunska ul. 2) R: Andrzej Wajda
END:VEVENT

BEGIN:VEVENT
UID:c94aa17656ed3df013da2a32905fe829@kinotuskanac.hr
DTSTAMP:20260420T191159Z
DTSTART:20250613T210000
DTEND:20250613T230000
SUMMARY:Nevini čarobnjaci
LOCATION:Kino Tuškanac
DESCRIPTION:Niewinni czarodzieje, Poljska, 1960 | Mjesto prikazivanja filma: Kino Forum (SD Stjepan Radić, Jarunska ul. 2) R: Andrzej Wajda
END:VEVENT

BEGIN:VEVENT
UID:5b61c56ca3f5f5145e2075e3f88e85b6@kinotuskanac.hr
DTSTAMP:20260420T191159Z
DTSTART:20250620T190000
DTEND:20250620T210000
SUMMARY:Obećana zemlja
LOCATION:Kino Tuškanac
DESCRIPTION:Ziemia obiecana, Poljska, 1975 | Mjesto prikazivanja filma: Kino Forum (SD Stjepan Radić, Jarunska ul. 2) R: Andrzej Wajda
END:VEVENT

BEGIN:VEVENT
UID:046dd7d76a0ba826cf3107018d7f17d8@kinotuskanac.hr
DTSTAMP:20260420T191159Z
DTSTART:20250621T190000
DTEND:20250621T210000
SUMMARY:Čovjek od mramora
LOCATION:Kino Tuškanac
DESCRIPTION:Czlowiek z marmuru, Poljska, 1977 | Mjesto prikazivanja filma: Kino Forum (SD Stjepan Radić, Jarunska ul. 2) R: Andrzej Wajda
END:VEVENT

BEGIN:VEVENT
UID:066d1063ab9a9c0f814fb93a1f6bce38@kinotuskanac.hr
DTSTAMP:20260420T191159Z
DTSTART:20250628T190000
DTEND:20250628T210000
SUMMARY:Gospođice iz Wilka
LOCATION:Kino Tuškanac
DESCRIPTION:Panny z Wilka, Poljska, 1979 | Mjesto prikazivanja filma: Kino Forum (SD Stjepan Radić, Jarunska ul. 2) R: Andrzej Wajda
END:VEVENT

BEGIN:VEVENT
UID:d0e6fb7b1b88ec2fa2c807dc171e9838@kinotuskanac.hr
DTSTAMP:20260420T191159Z
DTSTART:20250629T190000
DTEND:20250629T210000
SUMMARY:Čovjek od željeza
LOCATION:Kino Tuškanac
DESCRIPTION:Czlowiek z zelaza, Poljska, 1981 | Mjesto prikazivanja filma: Kino Forum (SD Stjepan Radić, Jarunska ul. 2) R: Andrzej Wajda
END:VEVENT
END:VCALENDAR