BEGIN:VCALENDAR
VERSION:2.0
PRODID:-//Kino Tuškanac//Filmski programi//HR
URL:http://kinotuskanac/calendar/cycle/1020
NAME:Kino Tuškanac ciklus 11. Rendez-vous au cinéma
X-WR-CALNAME:Kino Tuškanac ciklus 11. Rendez-vous au cinéma
TIMEZONE-ID:Europe/Zagreb
X-WR-TIMEZONE:Europe/Zagreb
REFRESH-INTERVAL;VALUE=DURATION:PT12H
X-PUBLISHED-TTL:PT12H
METHOD:PUBLISH
BEGIN:VEVENT
UID:b7c09142eb11f7cf666fc9a12429af1c@kinotuskanac.hr
DTSTAMP:20260421T014224Z
DTSTART:20250929T210000
DTEND:20250929T230000
SUMMARY:Otići jednog dana
LOCATION:Kino Tuškanac
DESCRIPTION:Partir un jour, Francuska, 2025 | Mjesto prikazivanja filma: Kino Forum (SD Stjepan Radić, Jarunska ul. 2) R: Amélie Bonnin
END:VEVENT

BEGIN:VEVENT
UID:301d2ac27ef9d058c8dd1a506e187db6@kinotuskanac.hr
DTSTAMP:20260421T014224Z
DTSTART:20251002T210000
DTEND:20251002T230000
SUMMARY:Adolescenti
LOCATION:Kino Tuškanac
DESCRIPTION:Adolescentes, Francuska, 2019 | Mjesto prikazivanja filma: Kino Forum (SD Stjepan Radić, Jarunska ul. 2) R: Sébastien Lifshitz
END:VEVENT

BEGIN:VEVENT
UID:7d6e54761b723a3e452de094d3db97f4@kinotuskanac.hr
DTSTAMP:20260421T014224Z
DTSTART:20251003T210000
DTEND:20251003T230000
SUMMARY:Tri prijateljice
LOCATION:Kino Tuškanac
DESCRIPTION:Trois amies, Francuska, 2024 | Mjesto prikazivanja filma: Kino Forum (SD Stjepan Radić, Jarunska ul. 2) R: Emmanuel Mouret
END:VEVENT
END:VCALENDAR