BEGIN:VCALENDAR
VERSION:2.0
PRODID:-//Kino Tuškanac//Filmski programi//HR
URL:http://kinotuskanac/calendar/cycle/1023
NAME:Kino Tuškanac ciklus Svjetski dan audiovizualne baštine
X-WR-CALNAME:Kino Tuškanac ciklus Svjetski dan audiovizualne baštine
TIMEZONE-ID:Europe/Zagreb
X-WR-TIMEZONE:Europe/Zagreb
REFRESH-INTERVAL;VALUE=DURATION:PT12H
X-PUBLISHED-TTL:PT12H
METHOD:PUBLISH
BEGIN:VEVENT
UID:6e82153f60ad77a9444af8ad10c9046f@kinotuskanac.hr
DTSTAMP:20260421T163827Z
DTSTART:20251027T210000
DTEND:20251027T230000
SUMMARY:Ritam zločina
LOCATION:Kino Tuškanac
DESCRIPTION:Jugoslavija: Hrvatska, 1981 | Mjesto prikazivanja filma: Kulturno informativni centar KIC (Preradovićeva ul. 5) R: Zoran Tadić
END:VEVENT
END:VCALENDAR