BEGIN:VCALENDAR
VERSION:2.0
PRODID:-//Kino Tuškanac//Filmski programi//HR
URL:http://kinotuskanac/calendar/cycle/1025
NAME:Kino Tuškanac ciklus Suvremeni dječji klasici
X-WR-CALNAME:Kino Tuškanac ciklus Suvremeni dječji klasici
TIMEZONE-ID:Europe/Zagreb
X-WR-TIMEZONE:Europe/Zagreb
REFRESH-INTERVAL;VALUE=DURATION:PT12H
X-PUBLISHED-TTL:PT12H
METHOD:PUBLISH
BEGIN:VEVENT
UID:ccc5deec39c4e83bb6d3e7c5bb9271ae@kinotuskanac.hr
DTSTAMP:20260421T223011Z
DTSTART:20251011T110000
DTEND:20251011T130000
SUMMARY:Dnevnik Pauline P.
LOCATION:Kino Tuškanac
DESCRIPTION:Hrvatska, 2023 | Mjesto prikazivanja filma: Scena Ribnjak (Centar kulture Ribnjak, Park Ribnjak 1) R: Neven Hitrec
END:VEVENT

BEGIN:VEVENT
UID:9296c5ea816bb3a1914ba990ccd4278c@kinotuskanac.hr
DTSTAMP:20260421T223011Z
DTSTART:20251018T110000
DTEND:20251018T130000
SUMMARY:Uzbuna na Zelenom Vrhu
LOCATION:Kino Tuškanac
DESCRIPTION:Hrvatska, 2017 | Mjesto prikazivanja filma: Scena Ribnjak (Centar kulture Ribnjak, Park Ribnjak 1) R: Čejen Černić Čanak
END:VEVENT

BEGIN:VEVENT
UID:3637999e09e54d785f3f089fff8e52e4@kinotuskanac.hr
DTSTAMP:20260421T223011Z
DTSTART:20251025T110000
DTEND:20251025T130000
SUMMARY:Poplava
LOCATION:Kino Tuškanac
DESCRIPTION:Flow, Latvija, Francuska, Belgija, 2024 | Mjesto prikazivanja filma: Scena Ribnjak (Centar kulture Ribnjak, Park Ribnjak 1) R: Gints Zilbalodis
END:VEVENT
END:VCALENDAR