BEGIN:VCALENDAR
VERSION:2.0
PRODID:-//Kino Tuškanac//Filmski programi//HR
URL:http://kinotuskanac/calendar/cycle/1033
NAME:Kino Tuškanac ciklus Zlatko Vitez
X-WR-CALNAME:Kino Tuškanac ciklus Zlatko Vitez
TIMEZONE-ID:Europe/Zagreb
X-WR-TIMEZONE:Europe/Zagreb
REFRESH-INTERVAL;VALUE=DURATION:PT12H
X-PUBLISHED-TTL:PT12H
METHOD:PUBLISH
BEGIN:VEVENT
UID:c4460fe0538a32ed971d05bd1d2660c5@kinotuskanac.hr
DTSTAMP:20260425T111041Z
DTSTART:20251215T190000
DTEND:20251215T210000
SUMMARY:Vlakom prema jugu
LOCATION:Kino Tuškanac
DESCRIPTION:Hrvatska, 1981 | Mjesto prikazivanja filma: Centar za kulturu Histrionski dom (Ilica 90) R: Petar Krelja
END:VEVENT

BEGIN:VEVENT
UID:960313a662d829b0aafed4f6d396d6f8@kinotuskanac.hr
DTSTAMP:20260425T111041Z
DTSTART:20251215T210000
DTEND:20251215T230000
SUMMARY:Zločin u školi
LOCATION:Kino Tuškanac
DESCRIPTION:Hrvatska, 1982 | Mjesto prikazivanja filma: Centar za kulturu Histrionski dom (Ilica 90) R: Branko Ivanda
END:VEVENT

BEGIN:VEVENT
UID:2e28e2f1032eecb228d119c5cf17960d@kinotuskanac.hr
DTSTAMP:20260425T111041Z
DTSTART:20251216T190000
DTEND:20251216T210000
SUMMARY:Ljubavna pisma s predumišljajem
LOCATION:Kino Tuškanac
DESCRIPTION:Hrvatska, 1985 | Mjesto prikazivanja filma: Centar za kulturu Histrionski dom (Ilica 90) R: Zvonimir Berković
END:VEVENT

BEGIN:VEVENT
UID:cc1a375701f4b35258206d3be1c1293f@kinotuskanac.hr
DTSTAMP:20260425T111041Z
DTSTART:20251216T210000
DTEND:20251216T230000
SUMMARY:Život je truba
LOCATION:Kino Tuškanac
DESCRIPTION:Hrvatska, Slovenija, Srbija, Crna Gora, UK, 2015 | Mjesto prikazivanja filma: Centar za kulturu Histrionski dom (Ilica 90) R: Antonio Nuić
END:VEVENT
END:VCALENDAR