BEGIN:VCALENDAR
VERSION:2.0
PRODID:-//Kino Tuškanac//Filmski programi//HR
URL:http://kinotuskanac/calendar/cycle/104
NAME:Kino Tuškanac ciklus Ciklus madžarskih filmova
X-WR-CALNAME:Kino Tuškanac ciklus Ciklus madžarskih filmova
TIMEZONE-ID:Europe/Zagreb
X-WR-TIMEZONE:Europe/Zagreb
REFRESH-INTERVAL;VALUE=DURATION:PT12H
X-PUBLISHED-TTL:PT12H
METHOD:PUBLISH
BEGIN:VEVENT
UID:9408d65cf6dad411e141a675dad81e39@kinotuskanac.hr
DTSTAMP:20260423T144513Z
DTSTART:20060410T190000
DTEND:20060410T210000
SUMMARY:Magareći kašalj
LOCATION:Kino Tuškanac
DESCRIPTION:Szamárköhögés, 1987 R: Péter Gárdos
END:VEVENT

BEGIN:VEVENT
UID:9336a91e7b867b45838e347c561a976f@kinotuskanac.hr
DTSTAMP:20260423T144513Z
DTSTART:20060410T210000
DTEND:20060410T230000
SUMMARY:Eldorádó
LOCATION:Kino Tuškanac
DESCRIPTION:1988 R: Géza Bereményi
END:VEVENT

BEGIN:VEVENT
UID:923371d8b6a61e7830d1392c21ca5f3a@kinotuskanac.hr
DTSTAMP:20260423T144513Z
DTSTART:20060411T190000
DTEND:20060411T210000
SUMMARY:Eldorádó
LOCATION:Kino Tuškanac
DESCRIPTION:1988 R: Géza Bereményi
END:VEVENT

BEGIN:VEVENT
UID:708919f2eea258bb6412bffb42c796bb@kinotuskanac.hr
DTSTAMP:20260423T144513Z
DTSTART:20060411T210000
DTEND:20060411T230000
SUMMARY:Magareći kašalj
LOCATION:Kino Tuškanac
DESCRIPTION:Szamárköhögés, 1987 R: Péter Gárdos
END:VEVENT

BEGIN:VEVENT
UID:9792ec7ed9df894b01096e0570c7649c@kinotuskanac.hr
DTSTAMP:20260423T144513Z
DTSTART:20060412T190000
DTEND:20060412T210000
SUMMARY:Vrijeme je stalo
LOCATION:Kino Tuškanac
DESCRIPTION:Megáll az idö, 1982 R: Péter Gothár
END:VEVENT

BEGIN:VEVENT
UID:3a53efa5652515a470020f520d943248@kinotuskanac.hr
DTSTAMP:20260423T144513Z
DTSTART:20060412T210000
DTEND:20060412T230000
SUMMARY:Dnevnik mojim roditeljima
LOCATION:Kino Tuškanac
DESCRIPTION:Napló apámnak, anyámnak, Mađarska, 1990 | Mjesto prikazivanja filma: MM Centar (Studentski centar, Savska cesta 25) R: Márta Mészáros
END:VEVENT

BEGIN:VEVENT
UID:113d70671235584678887df792f01140@kinotuskanac.hr
DTSTAMP:20260423T144513Z
DTSTART:20060413T190000
DTEND:20060413T210000
SUMMARY:Dnevnik mojim roditeljima
LOCATION:Kino Tuškanac
DESCRIPTION:Napló apámnak, anyámnak, Mađarska, 1990 | Mjesto prikazivanja filma: MM Centar (Studentski centar, Savska cesta 25) R: Márta Mészáros
END:VEVENT

BEGIN:VEVENT
UID:27128c135458182316db3686affe396a@kinotuskanac.hr
DTSTAMP:20260423T144513Z
DTSTART:20060414T190000
DTEND:20060414T210000
SUMMARY:Na smrt osuđeni
LOCATION:Kino Tuškanac
DESCRIPTION:A Halálraítélt, 1989 R: János Zsombolyai
END:VEVENT

BEGIN:VEVENT
UID:70dd7dcb1d69445600a15b5e4be600aa@kinotuskanac.hr
DTSTAMP:20260423T144513Z
DTSTART:20060414T210000
DTEND:20060414T230000
SUMMARY:Vrijeme je stalo
LOCATION:Kino Tuškanac
DESCRIPTION:Megáll az idö, 1982 R: Péter Gothár
END:VEVENT

BEGIN:VEVENT
UID:c1f1f4e50312c077d0f74e92a2133aac@kinotuskanac.hr
DTSTAMP:20260423T144513Z
DTSTART:20060415T190000
DTEND:20060415T210000
SUMMARY:Nepokopani čovjek
LOCATION:Kino Tuškanac
DESCRIPTION:A temetetlen halott, 2004 R: Márta Mészáros
END:VEVENT

BEGIN:VEVENT
UID:bac24e04b9c72005a13c0a6693794f16@kinotuskanac.hr
DTSTAMP:20260423T144513Z
DTSTART:20060415T210000
DTEND:20060415T230000
SUMMARY:Na smrt osuđeni
LOCATION:Kino Tuškanac
DESCRIPTION:A Halálraítélt, 1989 R: János Zsombolyai
END:VEVENT

BEGIN:VEVENT
UID:80855690548d15b9461aa9d2bdebc07b@kinotuskanac.hr
DTSTAMP:20260423T144513Z
DTSTART:20060418T190000
DTEND:20060418T210000
SUMMARY:Nepokopani čovjek
LOCATION:Kino Tuškanac
DESCRIPTION:A temetetlen halott, 2004 R: Márta Mészáros
END:VEVENT

BEGIN:VEVENT
UID:26a5a467f38dab5e44f332ebd7bb989f@kinotuskanac.hr
DTSTAMP:20260423T144513Z
DTSTART:20060418T210000
DTEND:20060418T230000
SUMMARY:Senzacija
LOCATION:Kino Tuškanac
DESCRIPTION:Világszám, 2004 R: Róbert Koltai
END:VEVENT

BEGIN:VEVENT
UID:35c492904621be5ad0cc7abcb4072429@kinotuskanac.hr
DTSTAMP:20260423T144513Z
DTSTART:20060419T183000
DTEND:20060419T203000
SUMMARY:Senzacija
LOCATION:Kino Tuškanac
DESCRIPTION:Világszám, 2004 R: Róbert Koltai
END:VEVENT
END:VCALENDAR