BEGIN:VCALENDAR
VERSION:2.0
PRODID:-//Kino Tuškanac//Filmski programi//HR
URL:http://kinotuskanac/calendar/cycle/1041
NAME:Kino Tuškanac ciklus Ljubavni trokuti
X-WR-CALNAME:Kino Tuškanac ciklus Ljubavni trokuti
TIMEZONE-ID:Europe/Zagreb
X-WR-TIMEZONE:Europe/Zagreb
REFRESH-INTERVAL;VALUE=DURATION:PT12H
X-PUBLISHED-TTL:PT12H
METHOD:PUBLISH
BEGIN:VEVENT
UID:797f92047780ac1d0bd63825572a7ea1@kinotuskanac.hr
DTSTAMP:20260422T101819Z
DTSTART:20260302T190000
DTEND:20260302T210000
SUMMARY:Treća Meščanska
LOCATION:Kino Tuškanac
DESCRIPTION:Tretya Meshchanskaya, SSSR, 1927 | Mjesto prikazivanja filma: Kino Forum (SD Stjepan Radić, Jarunska ul. 2) R: Abram Room
END:VEVENT

BEGIN:VEVENT
UID:865b0060102e3df069bed1d18eca7ec9@kinotuskanac.hr
DTSTAMP:20260422T101819Z
DTSTART:20260305T190000
DTEND:20260305T210000
SUMMARY:Casablanca
LOCATION:Kino Tuškanac
DESCRIPTION:SAD, 1942 | Mjesto prikazivanja filma: Kino Forum (SD Stjepan Radić, Jarunska ul. 2) R: Michael Curtiz
END:VEVENT

BEGIN:VEVENT
UID:4a99d7f6a5c8c64d9c0ed565e57a0120@kinotuskanac.hr
DTSTAMP:20260422T101819Z
DTSTART:20260309T190000
DTEND:20260309T210000
SUMMARY:Jules i Jim
LOCATION:Kino Tuškanac
DESCRIPTION:Jules et Jim, Francuska, 1962 | Mjesto prikazivanja filma: Kino Forum (SD Stjepan Radić, Jarunska ul. 2) R: François Truffaut
END:VEVENT

BEGIN:VEVENT
UID:ab8b5644d1bb9c5f0cf325569faf77ac@kinotuskanac.hr
DTSTAMP:20260422T101819Z
DTSTART:20260310T190000
DTEND:20260310T210000
SUMMARY:Zbogom, Philippine
LOCATION:Kino Tuškanac
DESCRIPTION:Adieu Philippine, Francuska, 1962 | Mjesto prikazivanja filma: Kino Forum (SD Stjepan Radić, Jarunska ul. 2) R: Jacques Rozier
END:VEVENT

BEGIN:VEVENT
UID:f0170fc838e75205b9a0f93fcff2fa21@kinotuskanac.hr
DTSTAMP:20260422T101819Z
DTSTART:20260312T190000
DTEND:20260312T210000
SUMMARY:Sreća
LOCATION:Kino Tuškanac
DESCRIPTION:Le Bonheur, Francuska, 1965 | Mjesto prikazivanja filma: Kino Forum (SD Stjepan Radić, Jarunska ul. 2) R: Agnès Varda
END:VEVENT

BEGIN:VEVENT
UID:463f23634674f2accfad3c60ff1c6352@kinotuskanac.hr
DTSTAMP:20260422T101819Z
DTSTART:20260313T190000
DTEND:20260313T210000
SUMMARY:Diplomac
LOCATION:Kino Tuškanac
DESCRIPTION:The Graduate, SAD, 1967 | Mjesto prikazivanja filma: Kino Forum (SD Stjepana Radića, Jarunska ul. 2) R: Mike Nichols
END:VEVENT

BEGIN:VEVENT
UID:8c30982b1db9c27ba0d77da8d1340c39@kinotuskanac.hr
DTSTAMP:20260422T101819Z
DTSTART:20260316T190000
DTEND:20260316T210000
SUMMARY:Drama ljubomore
LOCATION:Kino Tuškanac
DESCRIPTION:Dramma della gelosia (tutti i particolari in cronaca), Italija, Španjolska, 1970 | Mjesto prikazivanja filma: Kino Forum (SD Stjepan Radić, Jarunska ul. 2) R: Ettore Scola
END:VEVENT

BEGIN:VEVENT
UID:b984dde8f6f7e66110d5d85b6ff84836@kinotuskanac.hr
DTSTAMP:20260422T101819Z
DTSTART:20260318T190000
DTEND:20260318T210000
SUMMARY:Nedjelja, krvava nedjelja
LOCATION:Kino Tuškanac
DESCRIPTION:Sunday Bloody Sunday, Ujedinjeno Kraljevstvo, 1971 | Mjesto prikazivanja filma: Kino Forum (SD Stjepan Radić, Jarunska ul. 2) R: John Schlesinger
END:VEVENT

BEGIN:VEVENT
UID:78fddcc1edc179f6b8f9cb82ddde3152@kinotuskanac.hr
DTSTAMP:20260422T101819Z
DTSTART:20260319T190000
DTEND:20260319T210000
SUMMARY:Dvije Engleskinje i kontinent
LOCATION:Kino Tuškanac
DESCRIPTION:Les deux anglaises et le continent, Francuska, 1971 | Mjesto prikazivanja filma: Kino Forum (SD Stjepan Radić, Jarunska ul. 2) R: François Truffaut
END:VEVENT

BEGIN:VEVENT
UID:0814703dbfe2b9eaf86c22948f512054@kinotuskanac.hr
DTSTAMP:20260422T101819Z
DTSTART:20260320T190000
DTEND:20260320T210000
SUMMARY:Dona Flor i njena dva supruga
LOCATION:Kino Tuškanac
DESCRIPTION:Dona Flor e Seus Dois Maridos, Brazil, 1976 | Mjesto prikazivanja filma: Kino Forum (SD Stjepan Radić, Jarunska ul. 2) R: Bruno Barreto
END:VEVENT

BEGIN:VEVENT
UID:65f90f318b243a8144d01d2eb1392579@kinotuskanac.hr
DTSTAMP:20260422T101819Z
DTSTART:20260324T190000
DTEND:20260324T210000
SUMMARY:I tvoju mamu također
LOCATION:Kino Tuškanac
DESCRIPTION:Y Tu Mamá También, Meksiko, 2001 | Mjesto prikazivanja filma: Kino Forum (SD Stjepan Radić, Jarunska ul. 2) R: Alfonso Cuarón
END:VEVENT

BEGIN:VEVENT
UID:766b3d0466889db5d27c8bca0d2cc93c@kinotuskanac.hr
DTSTAMP:20260422T101819Z
DTSTART:20260325T190000
DTEND:20260325T210000
SUMMARY:Sanjari
LOCATION:Kino Tuškanac
DESCRIPTION:The Dreamers, Francuska, Italija, UK, 2003 | Mjesto prikazivanja filma: Kino Forum (SD Stjepan Radić, Jarunska ul. 2) R: Bernardo Bertolucci
END:VEVENT

BEGIN:VEVENT
UID:a8496430eed4aa625c5c0c58e6f1ae1f@kinotuskanac.hr
DTSTAMP:20260422T101819Z
DTSTART:20260326T190000
DTEND:20260326T210000
SUMMARY:Žena je budućnost muškarca
LOCATION:Kino Tuškanac
DESCRIPTION:Yeojaneun namjaui miraeda, Južna Koreja, 2004 | Mjesto prikazivanja filma: Kino Forum (SD Stjepan Radić, Jarunska ul. 2) R: Hong Sang-soo
END:VEVENT

BEGIN:VEVENT
UID:d72cdf620c2b0843bff282480df3d07a@kinotuskanac.hr
DTSTAMP:20260422T101819Z
DTSTART:20260330T190000
DTEND:20260330T210000
SUMMARY:Ljubav
LOCATION:Kino Tuškanac
DESCRIPTION:Love, Francuska, Belgija, 2015 | Mjesto prikazivanja filma: Kino Forum (SD Stjepan Radić, Jarunska ul. 2) R: Gaspar Noé
END:VEVENT

BEGIN:VEVENT
UID:450f7fd6b033cea6473d79e0cc98fed8@kinotuskanac.hr
DTSTAMP:20260422T101819Z
DTSTART:20260331T190000
DTEND:20260331T210000
SUMMARY:Prošli životi
LOCATION:Kino Tuškanac
DESCRIPTION:Past Lives, SAD, Južna Koreja, 2023 | Mjesto prikazivanja filma: Kino Forum (SD Stjepan Radić, Jarunska ul. 2) R: Celine Song
END:VEVENT

BEGIN:VEVENT
UID:34f64ae228ad92b9bfdd055d89d67df7@kinotuskanac.hr
DTSTAMP:20260422T101819Z
DTSTART:20260327T190000
DTEND:20260327T210000
SUMMARY:Izmišljene ljubavi
LOCATION:Kino Tuškanac
DESCRIPTION:Les amours imaginaires, Kanada, 2010 | Mjesto prikazivanja filma: Kino Forum (SD Stjepan Radić, Jarunska ul. 2) R: Xavier Dolan
END:VEVENT
END:VCALENDAR