BEGIN:VCALENDAR
VERSION:2.0
PRODID:-//Kino Tuškanac//Filmski programi//HR
URL:http://kinotuskanac/calendar/cycle/1048
NAME:Kino Tuškanac ciklus Sergej Ejzenštejn
X-WR-CALNAME:Kino Tuškanac ciklus Sergej Ejzenštejn
TIMEZONE-ID:Europe/Zagreb
X-WR-TIMEZONE:Europe/Zagreb
REFRESH-INTERVAL;VALUE=DURATION:PT12H
X-PUBLISHED-TTL:PT12H
METHOD:PUBLISH
BEGIN:VEVENT
UID:000c7cc81f6226b40780ac08653d669e@kinotuskanac.hr
DTSTAMP:20260425T225516Z
DTSTART:20260503T210000
DTEND:20260503T230000
SUMMARY:Štrajk
LOCATION:Kino Tuškanac
DESCRIPTION:Stachka, SSSR, 1925 | Mjesto prikazivanja filma: Kulturno informativni centar KIC (Preradovićeva ul. 5) R: Sergej Ejzenštejn
END:VEVENT

BEGIN:VEVENT
UID:b7b1be75b877b71bf4dd08c51ae33f1d@kinotuskanac.hr
DTSTAMP:20260425T225516Z
DTSTART:20260504T210000
DTEND:20260504T230000
SUMMARY:Oklopnjača Potemkin
LOCATION:Kino Tuškanac
DESCRIPTION:Bronenosets Potyomkin, SSSR, 1925 | Mjesto prikazivanja filma: Kulturno informativni centar KIC (Preradovićeva ul. 5) R: Sergej Ejzenštejn
END:VEVENT

BEGIN:VEVENT
UID:b72a67bf2ef1faffd0b8e097be8b2a46@kinotuskanac.hr
DTSTAMP:20260425T225516Z
DTSTART:20260506T210000
DTEND:20260506T230000
SUMMARY:Oktobar
LOCATION:Kino Tuškanac
DESCRIPTION:Oktjabr, SSSR, 1927 | Mjesto prikazivanja filma: Kulturno informativni centar KIC (Preradovićeva ul. 5) R: Sergej Ejzenštejn
END:VEVENT

BEGIN:VEVENT
UID:45e2b66ac53e21871bdea6b989b9c4f8@kinotuskanac.hr
DTSTAMP:20260425T225516Z
DTSTART:20260508T210000
DTEND:20260508T230000
SUMMARY:Staro i novo
LOCATION:Kino Tuškanac
DESCRIPTION:Staroye i novoye, SSSR, 1929 | Mjesto prikazivanja filma: Kulturno informativni centar KIC (Preradovićeva ul. 5) R: Sergej Ejzenštejn
END:VEVENT

BEGIN:VEVENT
UID:b1d5839cb85bab2818646ab5611863b3@kinotuskanac.hr
DTSTAMP:20260425T225516Z
DTSTART:20260509T210000
DTEND:20260509T230000
SUMMARY:Da živi Meksiko!
LOCATION:Kino Tuškanac
DESCRIPTION:¡Que viva Mexico!, SSSR, 1932 | Mjesto prikazivanja filma: Kulturno informativni centar KIC (Preradovićeva ul. 5) R: Sergej Ejzenštejn
END:VEVENT

BEGIN:VEVENT
UID:67e4ae6cb18f08754007f172c33af409@kinotuskanac.hr
DTSTAMP:20260425T225516Z
DTSTART:20260510T210000
DTEND:20260510T230000
SUMMARY:Aleksandar Nevski
LOCATION:Kino Tuškanac
DESCRIPTION:Aleksandr Nevsky, SSSR, 1938 | Mjesto prikazivanja filma: Kulturno informativni centar KIC (Preradovićeva ul. 5) R: Sergej Ejzenštejn
END:VEVENT

BEGIN:VEVENT
UID:1805cdac099aab1e1526dfe5e91ea753@kinotuskanac.hr
DTSTAMP:20260425T225516Z
DTSTART:20260516T210000
DTEND:20260516T230000
SUMMARY:Ivan Grozni I
LOCATION:Kino Tuškanac
DESCRIPTION:Ivan Groznyy, SSSR, 1944 | Mjesto prikazivanja filma: Kulturno informativni centar KIC (Preradovićeva ul. 5) R: Sergej Ejzenštejn
END:VEVENT

BEGIN:VEVENT
UID:164b954382ee902b31818b22ed2eca21@kinotuskanac.hr
DTSTAMP:20260425T225516Z
DTSTART:20260517T210000
DTEND:20260517T230000
SUMMARY:Ivan Grozni II
LOCATION:Kino Tuškanac
DESCRIPTION:Ivan Groznyy. Skaz vtoroy: Boyarskiy zagovor, SSSR, 1946 | Mjesto prikazivanja filma: Kulturno informativni centar KIC (Preradovićeva ul. 5) R: Sergej Ejzenštejn
END:VEVENT
END:VCALENDAR