BEGIN:VCALENDAR
VERSION:2.0
PRODID:-//Kino Tuškanac//Filmski programi//HR
URL:http://kinotuskanac/calendar/cycle/1049
NAME:Kino Tuškanac ciklus Isabelle Huppert
X-WR-CALNAME:Kino Tuškanac ciklus Isabelle Huppert
TIMEZONE-ID:Europe/Zagreb
X-WR-TIMEZONE:Europe/Zagreb
REFRESH-INTERVAL;VALUE=DURATION:PT12H
X-PUBLISHED-TTL:PT12H
METHOD:PUBLISH
BEGIN:VEVENT
UID:ef34b0762b9bf57d12391941dbe1ad13@kinotuskanac.hr
DTSTAMP:20260425T225227Z
DTSTART:20260505T190000
DTEND:20260505T210000
SUMMARY:Pletilja čipki
LOCATION:Kino Tuškanac
DESCRIPTION:La dentellière, Francuska, 1977 | Mjesto prikazivanja filma: Centar za kulturu Histrionski dom (Ilica 90) R: Claude Goretta
END:VEVENT

BEGIN:VEVENT
UID:123110eff7d546cb6dc44ec1e4e78b3f@kinotuskanac.hr
DTSTAMP:20260425T225227Z
DTSTART:20260505T210000
DTEND:20260505T230000
SUMMARY:Loulou
LOCATION:Kino Tuškanac
DESCRIPTION:Francuska, 1980 | Mjesto prikazivanja filma: Centar za kulturu Histrionski dom (Ilica 90) R: Maurice Pialat
END:VEVENT

BEGIN:VEVENT
UID:023bbea1b98210ab281d3015da6e60ab@kinotuskanac.hr
DTSTAMP:20260425T225227Z
DTSTART:20260511T190000
DTEND:20260511T210000
SUMMARY:Spasi se tko može
LOCATION:Kino Tuškanac
DESCRIPTION:Sauve qui peut (la vie), Francuska, Švicarska, 1980 | Mjesto prikazivanja filma: Centar za kulturu Histrionski dom (Ilica 90) R: Jean-Luc Godard
END:VEVENT

BEGIN:VEVENT
UID:a650ee6f51cbec7a509d16440aebf8cc@kinotuskanac.hr
DTSTAMP:20260425T225227Z
DTSTART:20260511T210000
DTEND:20260511T230000
SUMMARY:Veliko čišćenje
LOCATION:Kino Tuškanac
DESCRIPTION:Coup de torchon, Francuska, 1981 | Mjesto prikazivanja filma: Centar za kulturu Histrionski dom (Ilica 90) R: Bertrand Tavernier
END:VEVENT

BEGIN:VEVENT
UID:9bc744db833944c528abe91f5ebe3c2e@kinotuskanac.hr
DTSTAMP:20260425T225227Z
DTSTART:20260512T190000
DTEND:20260512T210000
SUMMARY:Ženska posla
LOCATION:Kino Tuškanac
DESCRIPTION:Une affaire de femmes, Francuska, 1988 | Mjesto prikazivanja filma: Centar za kulturu Histrionski dom (Ilica 90) R: Claude Chabrol
END:VEVENT

BEGIN:VEVENT
UID:d052d29ce4d40174dfc394beb32f5c5c@kinotuskanac.hr
DTSTAMP:20260425T225227Z
DTSTART:20260512T210000
DTEND:20260512T230000
SUMMARY:Ceremonija
LOCATION:Kino Tuškanac
DESCRIPTION:La cérémonie, Francuska, Njemačka, 1995 | Mjesto prikazivanja filma: Centar za kulturu Histrionski dom (Ilica 90) R: Claude Chabrol
END:VEVENT

BEGIN:VEVENT
UID:444b3ad0943b851fc825211567452494@kinotuskanac.hr
DTSTAMP:20260425T225227Z
DTSTART:20260518T190000
DTEND:20260518T210000
SUMMARY:Učiteljica glasovira
LOCATION:Kino Tuškanac
DESCRIPTION:La pianiste, Austrija, Francuska, Njemačka, 2001 | Mjesto prikazivanja filma: Centar za kulturu Histrionski dom (Ilica 90) R: Michael Haneke
END:VEVENT

BEGIN:VEVENT
UID:8dae7f8c9ffa823a4e9ec526bbd1682c@kinotuskanac.hr
DTSTAMP:20260425T225227Z
DTSTART:20260519T190000
DTEND:20260519T210000
SUMMARY:8 žena
LOCATION:Kino Tuškanac
DESCRIPTION:8 femmes, Francuska, Italija, 2002 | Mjesto prikazivanja filma: Centar za kulturu Histrionski dom (Ilica 90) R: François Ozon
END:VEVENT

BEGIN:VEVENT
UID:e9ed8ab28599c28544ce84ff7cf8111d@kinotuskanac.hr
DTSTAMP:20260425T225227Z
DTSTART:20260519T210000
DTEND:20260519T230000
SUMMARY:Bijela roba
LOCATION:Kino Tuškanac
DESCRIPTION:White material, Francuska, 2009 | Mjesto prikazivanja filma: Centar za kulturu Histrionski dom (Ilica 90) R: Claire Denis
END:VEVENT

BEGIN:VEVENT
UID:6bc35bb7b7af2dad229cd5de2efda433@kinotuskanac.hr
DTSTAMP:20260425T225227Z
DTSTART:20260526T190000
DTEND:20260526T210000
SUMMARY:Ona
LOCATION:Kino Tuškanac
DESCRIPTION:Elle, Francuska, Njemačka, 2016 | Mjesto prikazivanja filma: Centar za kulturu Histrionski dom (Ilica 90) R: Paul Verhoeven
END:VEVENT
END:VCALENDAR