BEGIN:VCALENDAR
VERSION:2.0
PRODID:-//Kino Tuškanac//Filmski programi//HR
URL:http://kinotuskanac/calendar/cycle/109
NAME:Kino Tuškanac ciklus Ciklus japanskih filmova
X-WR-CALNAME:Kino Tuškanac ciklus Ciklus japanskih filmova
TIMEZONE-ID:Europe/Zagreb
X-WR-TIMEZONE:Europe/Zagreb
REFRESH-INTERVAL;VALUE=DURATION:PT12H
X-PUBLISHED-TTL:PT12H
METHOD:PUBLISH
BEGIN:VEVENT
UID:d2e8734242c478e235c0bdc11908917d@kinotuskanac.hr
DTSTAMP:20260423T143614Z
DTSTART:20060419T203000
DTEND:20060419T223000
SUMMARY:Prije zore (1953)
LOCATION:Kino Tuškanac
DESCRIPTION:Yoake mae, 1953. R: Kozaburo Yoshimura
END:VEVENT

BEGIN:VEVENT
UID:7523910e8d2c8dbb3e91e57e5c823265@kinotuskanac.hr
DTSTAMP:20260423T143614Z
DTSTART:20060420T183000
DTEND:20060420T203000
SUMMARY:Prije zore (1953)
LOCATION:Kino Tuškanac
DESCRIPTION:Yoake mae, 1953. R: Kozaburo Yoshimura
END:VEVENT

BEGIN:VEVENT
UID:b4e11046786e4f7cdaa2f639a9a2ba35@kinotuskanac.hr
DTSTAMP:20260423T143614Z
DTSTART:20060420T210000
DTEND:20060420T230000
SUMMARY:Zločin
LOCATION:Kino Tuškanac
DESCRIPTION:Jiken, 1978 R: Yoshitaro Nomura
END:VEVENT

BEGIN:VEVENT
UID:b26ca01d30408c138a4db42cf4eda03e@kinotuskanac.hr
DTSTAMP:20260423T143614Z
DTSTART:20060424T183000
DTEND:20060424T203000
SUMMARY:Zločin
LOCATION:Kino Tuškanac
DESCRIPTION:Jiken, 1978 R: Yoshitaro Nomura
END:VEVENT

BEGIN:VEVENT
UID:e8b4dcf78c9fcb6b4bb7a80a167c288d@kinotuskanac.hr
DTSTAMP:20260423T143614Z
DTSTART:20060424T210000
DTEND:20060424T230000
SUMMARY:Čovjek koji je ukrao sunce
LOCATION:Kino Tuškanac
DESCRIPTION:Taiyo o nusunda otoko, 1979 R: Kazuhiko Hasegawa
END:VEVENT

BEGIN:VEVENT
UID:b7183601fc5b23ad41e1a997074a4d6d@kinotuskanac.hr
DTSTAMP:20260423T143614Z
DTSTART:20060425T183000
DTEND:20060425T203000
SUMMARY:Čovjek koji je ukrao sunce
LOCATION:Kino Tuškanac
DESCRIPTION:Taiyo o nusunda otoko, 1979 R: Kazuhiko Hasegawa
END:VEVENT

BEGIN:VEVENT
UID:02a3d672c4ce7d9fa66dbcaacf9525e6@kinotuskanac.hr
DTSTAMP:20260423T143614Z
DTSTART:20060425T210000
DTEND:20060425T230000
SUMMARY:Kamata koshin-kyoku
LOCATION:Kino Tuškanac
DESCRIPTION:1982 R: Kinji Fukasaku
END:VEVENT

BEGIN:VEVENT
UID:836050fbc7302b337b00a1bfdc144336@kinotuskanac.hr
DTSTAMP:20260423T143614Z
DTSTART:20060426T190000
DTEND:20060426T210000
SUMMARY:Kamata koshin-kyoku
LOCATION:Kino Tuškanac
DESCRIPTION:1982 R: Kinji Fukasaku
END:VEVENT

BEGIN:VEVENT
UID:2a285aa424bb6d11add8fa772627a439@kinotuskanac.hr
DTSTAMP:20260423T143614Z
DTSTART:20060426T210000
DTEND:20060426T230000
SUMMARY:Tenkosei
LOCATION:Kino Tuškanac
DESCRIPTION:1982 R: Nobuhiko Obayashi
END:VEVENT

BEGIN:VEVENT
UID:cd4fc70ccea41c223c026eed3608cf70@kinotuskanac.hr
DTSTAMP:20260423T143614Z
DTSTART:20060427T210000
DTEND:20060427T230000
SUMMARY:Tenkosei
LOCATION:Kino Tuškanac
DESCRIPTION:1982 R: Nobuhiko Obayashi
END:VEVENT

BEGIN:VEVENT
UID:7508fb3beefc23e45b9bd06c115d3973@kinotuskanac.hr
DTSTAMP:20260423T143614Z
DTSTART:20060428T190000
DTEND:20060428T210000
SUMMARY:Yari no gonza
LOCATION:Kino Tuškanac
DESCRIPTION:1986 R: Masahiro Shinoda
END:VEVENT

BEGIN:VEVENT
UID:7b7c201e1c0938435ba1b249c8961653@kinotuskanac.hr
DTSTAMP:20260423T143614Z
DTSTART:20060428T210000
DTEND:20060428T230000
SUMMARY:Glumica
LOCATION:Kino Tuškanac
DESCRIPTION:Eiga joyu, 1987 R: Kon Ichikawa
END:VEVENT

BEGIN:VEVENT
UID:c8b60ed092597ce18829759651114b2a@kinotuskanac.hr
DTSTAMP:20260423T143614Z
DTSTART:20060429T190000
DTEND:20060429T210000
SUMMARY:Glumica
LOCATION:Kino Tuškanac
DESCRIPTION:Eiga joyu, 1987 R: Kon Ichikawa
END:VEVENT

BEGIN:VEVENT
UID:b919c8cfbe96316eb7f05a0790052915@kinotuskanac.hr
DTSTAMP:20260423T143614Z
DTSTART:20060429T210000
DTEND:20060429T230000
SUMMARY:Yari no gonza
LOCATION:Kino Tuškanac
DESCRIPTION:1986 R: Masahiro Shinoda
END:VEVENT

BEGIN:VEVENT
UID:05a7d6787694045f02296de2fb0d8164@kinotuskanac.hr
DTSTAMP:20260423T143614Z
DTSTART:20060502T190000
DTEND:20060502T210000
SUMMARY:Tsugumi
LOCATION:Kino Tuškanac
DESCRIPTION:1990 R: Jun Ichikawa
END:VEVENT

BEGIN:VEVENT
UID:95954ff2deb9a0a9ec0ab9a628578d46@kinotuskanac.hr
DTSTAMP:20260423T143614Z
DTSTART:20060502T210000
DTEND:20060502T230000
SUMMARY:Muno no hito
LOCATION:Kino Tuškanac
DESCRIPTION:1991 R: Naoto Takenaka
END:VEVENT

BEGIN:VEVENT
UID:938193f2679ae188f39fa3d3642b9490@kinotuskanac.hr
DTSTAMP:20260423T143614Z
DTSTART:20060503T190000
DTEND:20060503T210000
SUMMARY:Muno no hito
LOCATION:Kino Tuškanac
DESCRIPTION:1991 R: Naoto Takenaka
END:VEVENT

BEGIN:VEVENT
UID:7f55f3773829455e5d4741d9840ea05d@kinotuskanac.hr
DTSTAMP:20260423T143614Z
DTSTART:20060503T210000
DTEND:20060503T230000
SUMMARY:Tsugumi
LOCATION:Kino Tuškanac
DESCRIPTION:1990 R: Jun Ichikawa
END:VEVENT

BEGIN:VEVENT
UID:ad85fa6f543beb671f6ff5ea2d1ef88e@kinotuskanac.hr
DTSTAMP:20260423T143614Z
DTSTART:20060504T190000
DTEND:20060504T210000
SUMMARY:Ohikkoshi
LOCATION:Kino Tuškanac
DESCRIPTION:1993 R: Shinji Somai
END:VEVENT

BEGIN:VEVENT
UID:41391275a8f134f07d94d6c65ddcac2d@kinotuskanac.hr
DTSTAMP:20260423T143614Z
DTSTART:20060504T210000
DTEND:20060504T230000
SUMMARY:Kamikaze takushî
LOCATION:Kino Tuškanac
DESCRIPTION:1995 R: Masato Harada
END:VEVENT

BEGIN:VEVENT
UID:179082731aba9aecbf2767b5424bf096@kinotuskanac.hr
DTSTAMP:20260423T143614Z
DTSTART:20060505T183000
DTEND:20060505T203000
SUMMARY:Kamikaze takushî
LOCATION:Kino Tuškanac
DESCRIPTION:1995 R: Masato Harada
END:VEVENT

BEGIN:VEVENT
UID:556d5d589cd0cd6d947bda03a08918cc@kinotuskanac.hr
DTSTAMP:20260423T143614Z
DTSTART:20060505T210000
DTEND:20060505T230000
SUMMARY:Ohikkoshi
LOCATION:Kino Tuškanac
DESCRIPTION:1993 R: Shinji Somai
END:VEVENT

BEGIN:VEVENT
UID:af6078f730e1c750134d364e5d45a21b@kinotuskanac.hr
DTSTAMP:20260423T143614Z
DTSTART:20060506T190000
DTEND:20060506T210000
SUMMARY:Haru
LOCATION:Kino Tuškanac
DESCRIPTION:1996 R: Yoshimitsu Morita
END:VEVENT

BEGIN:VEVENT
UID:b4066d8443361a0ce9d49e2efe8be455@kinotuskanac.hr
DTSTAMP:20260423T143614Z
DTSTART:20060506T210000
DTEND:20060506T230000
SUMMARY:Dora-heita
LOCATION:Kino Tuškanac
DESCRIPTION:2000 R: Kon Ichikawa
END:VEVENT

BEGIN:VEVENT
UID:7c0aa82bd1d27827090bce7fb420d34d@kinotuskanac.hr
DTSTAMP:20260423T143614Z
DTSTART:20060508T190000
DTEND:20060508T210000
SUMMARY:Dora-heita
LOCATION:Kino Tuškanac
DESCRIPTION:2000 R: Kon Ichikawa
END:VEVENT

BEGIN:VEVENT
UID:ff06a09e60ae70fc4da46bafb12bf0ef@kinotuskanac.hr
DTSTAMP:20260423T143614Z
DTSTART:20060508T210000
DTEND:20060508T230000
SUMMARY:Haru
LOCATION:Kino Tuškanac
DESCRIPTION:1996 R: Yoshimitsu Morita
END:VEVENT

BEGIN:VEVENT
UID:40657a72671913e87125e07449fadd95@kinotuskanac.hr
DTSTAMP:20260423T143614Z
DTSTART:20060515T210000
DTEND:20060515T230000
SUMMARY:Nippon no kuroi natsu - Enzai
LOCATION:Kino Tuškanac
DESCRIPTION:2001 R: Kei Kumai
END:VEVENT

BEGIN:VEVENT
UID:c1f69380f3d7b6c1947744615656a55f@kinotuskanac.hr
DTSTAMP:20260423T143614Z
DTSTART:20060516T190000
DTEND:20060516T210000
SUMMARY:Nippon no kuroi natsu - Enzai
LOCATION:Kino Tuškanac
DESCRIPTION:2001 R: Kei Kumai
END:VEVENT

BEGIN:VEVENT
UID:bccc9bd1dbb66fb44b1577e974f54b35@kinotuskanac.hr
DTSTAMP:20260423T143614Z
DTSTART:20060516T210000
DTEND:20060516T230000
SUMMARY:Utsukushii natsu kirishima
LOCATION:Kino Tuškanac
DESCRIPTION:2002 R: Kazuo Kuroki
END:VEVENT

BEGIN:VEVENT
UID:3d38f7d1a2d6a0db5f2ee0f477113612@kinotuskanac.hr
DTSTAMP:20260423T143614Z
DTSTART:20060517T190000
DTEND:20060517T210000
SUMMARY:Utsukushii natsu kirishima
LOCATION:Kino Tuškanac
DESCRIPTION:2002 R: Kazuo Kuroki
END:VEVENT
END:VCALENDAR