BEGIN:VCALENDAR
VERSION:2.0
PRODID:-//Kino Tuškanac//Filmski programi//HR
URL:http://kinotuskanac/calendar/cycle/126
NAME:Kino Tuškanac ciklus Ciklus filmova Josepha Loseya
X-WR-CALNAME:Kino Tuškanac ciklus Ciklus filmova Josepha Loseya
TIMEZONE-ID:Europe/Zagreb
X-WR-TIMEZONE:Europe/Zagreb
REFRESH-INTERVAL;VALUE=DURATION:PT12H
X-PUBLISHED-TTL:PT12H
METHOD:PUBLISH
BEGIN:VEVENT
UID:f777853ba7ea2fb7763844cd565c169c@kinotuskanac.hr
DTSTAMP:20260423T143614Z
DTSTART:20070209T190000
DTEND:20070209T210000
SUMMARY:Dječak zelene kose
LOCATION:Kino Tuškanac
DESCRIPTION:The Boy with Green Hair, 1948 R: Joseph Losey
END:VEVENT

BEGIN:VEVENT
UID:b3100d69fbe14a1704144ec630117566@kinotuskanac.hr
DTSTAMP:20260423T143614Z
DTSTART:20070209T210000
DTEND:20070209T230000
SUMMARY:Vrijeme bez milosti
LOCATION:Kino Tuškanac
DESCRIPTION:Time Without Pity, 1957 R: Joseph Losey
END:VEVENT

BEGIN:VEVENT
UID:3dca66c01dbeefe5fffd57ccc7892361@kinotuskanac.hr
DTSTAMP:20260423T143614Z
DTSTART:20070210T190000
DTEND:20070210T210000
SUMMARY:Vrijeme bez milosti
LOCATION:Kino Tuškanac
DESCRIPTION:Time Without Pity, 1957 R: Joseph Losey
END:VEVENT

BEGIN:VEVENT
UID:8d40876863afff302f72118eec7924be@kinotuskanac.hr
DTSTAMP:20260423T143614Z
DTSTART:20070210T210000
DTEND:20070210T230000
SUMMARY:Dječak zelene kose
LOCATION:Kino Tuškanac
DESCRIPTION:The Boy with Green Hair, 1948 R: Joseph Losey
END:VEVENT

BEGIN:VEVENT
UID:6ea23e107fc2e65f177dc979a09fce4a@kinotuskanac.hr
DTSTAMP:20260423T143614Z
DTSTART:20070212T190000
DTEND:20070212T210000
SUMMARY:Nenajavljeni sastanak
LOCATION:Kino Tuškanac
DESCRIPTION:Blind Date, 1959 R: Joseph Losey
END:VEVENT

BEGIN:VEVENT
UID:8c9a6244d58defe56b00433bf52783b1@kinotuskanac.hr
DTSTAMP:20260423T143614Z
DTSTART:20070212T210000
DTEND:20070212T230000
SUMMARY:Sluga
LOCATION:Kino Tuškanac
DESCRIPTION:The Servant, 1963 R: Joseph Losey
END:VEVENT

BEGIN:VEVENT
UID:d8d0f53ec59a9af4f616966328dc0990@kinotuskanac.hr
DTSTAMP:20260423T143614Z
DTSTART:20070213T190000
DTEND:20070213T210000
SUMMARY:Sluga
LOCATION:Kino Tuškanac
DESCRIPTION:The Servant, 1963 R: Joseph Losey
END:VEVENT

BEGIN:VEVENT
UID:e82adb7adf20c87b6eb668b4ebff47a5@kinotuskanac.hr
DTSTAMP:20260423T143614Z
DTSTART:20070213T210000
DTEND:20070213T230000
SUMMARY:Nenajavljeni sastanak
LOCATION:Kino Tuškanac
DESCRIPTION:Blind Date, 1959 R: Joseph Losey
END:VEVENT

BEGIN:VEVENT
UID:c5c749d63043972118cc20e10bec0095@kinotuskanac.hr
DTSTAMP:20260423T143614Z
DTSTART:20070214T190000
DTEND:20070214T210000
SUMMARY:Rafali u zoru
LOCATION:Kino Tuškanac
DESCRIPTION:King and Country, 1964 R: Joseph Losey
END:VEVENT

BEGIN:VEVENT
UID:6968d71011ff4a333e79411eab1d6046@kinotuskanac.hr
DTSTAMP:20260423T143614Z
DTSTART:20070214T210000
DTEND:20070214T230000
SUMMARY:Modesty Blaise
LOCATION:Kino Tuškanac
DESCRIPTION:Velika Britanija, 1966 R: Joseph Losey
END:VEVENT

BEGIN:VEVENT
UID:2ed0b69512d0284fd92de0a8e473fd60@kinotuskanac.hr
DTSTAMP:20260423T143614Z
DTSTART:20070215T190000
DTEND:20070215T210000
SUMMARY:Modesty Blaise
LOCATION:Kino Tuškanac
DESCRIPTION:Velika Britanija, 1966 R: Joseph Losey
END:VEVENT

BEGIN:VEVENT
UID:bd09fac8f20e74fe0e92eab1aea82945@kinotuskanac.hr
DTSTAMP:20260423T143614Z
DTSTART:20070215T210000
DTEND:20070215T230000
SUMMARY:Rafali u zoru
LOCATION:Kino Tuškanac
DESCRIPTION:King and Country, 1964 R: Joseph Losey
END:VEVENT

BEGIN:VEVENT
UID:8ad1b4628276095fdc1cc226e567c535@kinotuskanac.hr
DTSTAMP:20260423T143614Z
DTSTART:20070217T190000
DTEND:20070217T210000
SUMMARY:Nesreća
LOCATION:Kino Tuškanac
DESCRIPTION:Accident, 1967 R: Joseph Losey
END:VEVENT

BEGIN:VEVENT
UID:2703d40b0a6aea7670cec6062cd3d46d@kinotuskanac.hr
DTSTAMP:20260423T143614Z
DTSTART:20070217T210000
DTEND:20070217T230000
SUMMARY:Tajna ceremonija
LOCATION:Kino Tuškanac
DESCRIPTION:Secret Ceremony, 1968 R: Joseph Losey
END:VEVENT

BEGIN:VEVENT
UID:82e22d499b4b86de15b1ae77f149a76d@kinotuskanac.hr
DTSTAMP:20260423T143614Z
DTSTART:20070219T190000
DTEND:20070219T210000
SUMMARY:Tajna ceremonija
LOCATION:Kino Tuškanac
DESCRIPTION:Secret Ceremony, 1968 R: Joseph Losey
END:VEVENT

BEGIN:VEVENT
UID:f669b2860cda190c5f06fa90e436de36@kinotuskanac.hr
DTSTAMP:20260423T143614Z
DTSTART:20070219T210000
DTEND:20070219T230000
SUMMARY:Nesreća
LOCATION:Kino Tuškanac
DESCRIPTION:Accident, 1967 R: Joseph Losey
END:VEVENT

BEGIN:VEVENT
UID:70a49e47bdd1e9a954859b708f57318e@kinotuskanac.hr
DTSTAMP:20260423T143614Z
DTSTART:20070220T190000
DTEND:20070220T210000
SUMMARY:Ljubavni glasnik
LOCATION:Kino Tuškanac
DESCRIPTION:The Go-Between, 1970 R: Joseph Losey
END:VEVENT

BEGIN:VEVENT
UID:8b11ecca368a6ebdd0a76bb8360715c8@kinotuskanac.hr
DTSTAMP:20260423T143614Z
DTSTART:20070221T190000
DTEND:20070221T210000
SUMMARY:Umorstvo Trockoga
LOCATION:Kino Tuškanac
DESCRIPTION:The Assassination of Trotsky, 1972 R: Joseph Losey
END:VEVENT

BEGIN:VEVENT
UID:08a8378106b141a1d0919b9692c236e0@kinotuskanac.hr
DTSTAMP:20260423T143614Z
DTSTART:20070221T210000
DTEND:20070221T230000
SUMMARY:Ljubavni glasnik
LOCATION:Kino Tuškanac
DESCRIPTION:The Go-Between, 1970 R: Joseph Losey
END:VEVENT

BEGIN:VEVENT
UID:43f87ae7e69ad75741fed09a27977d77@kinotuskanac.hr
DTSTAMP:20260423T143614Z
DTSTART:20070222T190000
DTEND:20070222T210000
SUMMARY:Romantična Engleskinja
LOCATION:Kino Tuškanac
DESCRIPTION:The Romantic Englishwoman, 1975 R: Joseph Losey
END:VEVENT

BEGIN:VEVENT
UID:84902984533acc7a0b0f079988c53dcd@kinotuskanac.hr
DTSTAMP:20260423T143614Z
DTSTART:20070222T210000
DTEND:20070222T230000
SUMMARY:Gospodin Klein
LOCATION:Kino Tuškanac
DESCRIPTION:Monsieur Klein, Francuska, Italija, 1976 | Mjesto prikazivanja filma: Centar za kulturu Histrionski dom (Ilica 90) R: Joseph Losey
END:VEVENT

BEGIN:VEVENT
UID:55a14e944c432680a46a32c885744e5b@kinotuskanac.hr
DTSTAMP:20260423T143614Z
DTSTART:20070224T190000
DTEND:20070224T210000
SUMMARY:Gospodin Klein
LOCATION:Kino Tuškanac
DESCRIPTION:Monsieur Klein, Francuska, Italija, 1976 | Mjesto prikazivanja filma: Centar za kulturu Histrionski dom (Ilica 90) R: Joseph Losey
END:VEVENT

BEGIN:VEVENT
UID:cf51387ac72f1ba614ea028e1d81db1e@kinotuskanac.hr
DTSTAMP:20260423T143614Z
DTSTART:20070224T210000
DTEND:20070224T230000
SUMMARY:Umorstvo Trockoga
LOCATION:Kino Tuškanac
DESCRIPTION:The Assassination of Trotsky, 1972 R: Joseph Losey
END:VEVENT

BEGIN:VEVENT
UID:45f8d7028779816686a2dba88d6fe42d@kinotuskanac.hr
DTSTAMP:20260423T143614Z
DTSTART:20070226T190000
DTEND:20070226T210000
SUMMARY:Putovi na jug
LOCATION:Kino Tuškanac
DESCRIPTION:Les routes du sud, 1978 R: Joseph Losey
END:VEVENT

BEGIN:VEVENT
UID:15edf7c918f7a740b8764aeaff40c7a6@kinotuskanac.hr
DTSTAMP:20260423T143614Z
DTSTART:20070226T210000
DTEND:20070226T230000
SUMMARY:Romantična Engleskinja
LOCATION:Kino Tuškanac
DESCRIPTION:The Romantic Englishwoman, 1975 R: Joseph Losey
END:VEVENT

BEGIN:VEVENT
UID:d145b9eee18f24697f181ded18d2c5d6@kinotuskanac.hr
DTSTAMP:20260423T143614Z
DTSTART:20070227T190000
DTEND:20070227T210000
SUMMARY:Putovi na jug
LOCATION:Kino Tuškanac
DESCRIPTION:Les routes du sud, 1978 R: Joseph Losey
END:VEVENT
END:VCALENDAR