BEGIN:VCALENDAR
VERSION:2.0
PRODID:-//Kino Tuškanac//Filmski programi//HR
URL:http://kinotuskanac/calendar/cycle/128
NAME:Kino Tuškanac ciklus Ciklus suvremenog iranskog filma
X-WR-CALNAME:Kino Tuškanac ciklus Ciklus suvremenog iranskog filma
TIMEZONE-ID:Europe/Zagreb
X-WR-TIMEZONE:Europe/Zagreb
REFRESH-INTERVAL;VALUE=DURATION:PT12H
X-PUBLISHED-TTL:PT12H
METHOD:PUBLISH
BEGIN:VEVENT
UID:0c9e0ad186f7357add74e00bdada7bb8@kinotuskanac.hr
DTSTAMP:20260419T154251Z
DTSTART:20070305T200000
DTEND:20070305T220000
SUMMARY:Dječak i vojnik
LOCATION:Kino Tuškanac
DESCRIPTION:Kudak va sarbaz, 2001 R: Seyyed Mir-Karimi
END:VEVENT

BEGIN:VEVENT
UID:f50321259a8e9095b9f13484a8fdf02b@kinotuskanac.hr
DTSTAMP:20260419T154251Z
DTSTART:20070306T190000
DTEND:20070306T210000
SUMMARY:Dječak i vojnik
LOCATION:Kino Tuškanac
DESCRIPTION:Kudak va sarbaz, 2001 R: Seyyed Mir-Karimi
END:VEVENT

BEGIN:VEVENT
UID:8dfca3fa3d0abfd4b0f4ee426ce9d9ac@kinotuskanac.hr
DTSTAMP:20260419T154251Z
DTSTART:20070307T190000
DTEND:20070307T210000
SUMMARY:Pod mjesečinom
LOCATION:Kino Tuškanac
DESCRIPTION:Zire nue mah, 2001 R: Seyyed Mir-Karimi
END:VEVENT

BEGIN:VEVENT
UID:ebdecb2fe33e2dc7b9b441aab27f12f3@kinotuskanac.hr
DTSTAMP:20260419T154251Z
DTSTART:20070307T210000
DTEND:20070307T230000
SUMMARY:Hladne suze
LOCATION:Kino Tuškanac
DESCRIPTION:Ashk-e sarma, 2002 R: Azizollah Hamidnezhad
END:VEVENT

BEGIN:VEVENT
UID:d9b4c078458173aed1d03358d404653b@kinotuskanac.hr
DTSTAMP:20260419T154251Z
DTSTART:20070308T190000
DTEND:20070308T210000
SUMMARY:Hladne suze
LOCATION:Kino Tuškanac
DESCRIPTION:Ashk-e sarma, 2002 R: Azizollah Hamidnezhad
END:VEVENT

BEGIN:VEVENT
UID:ca2124bbb6f33cead3d52e0a7d85de27@kinotuskanac.hr
DTSTAMP:20260419T154251Z
DTSTART:20070308T210000
DTEND:20070308T230000
SUMMARY:Pod mjesečinom
LOCATION:Kino Tuškanac
DESCRIPTION:Zire nue mah, 2001 R: Seyyed Mir-Karimi
END:VEVENT

BEGIN:VEVENT
UID:1515d839762e7eb51493c0db703d7872@kinotuskanac.hr
DTSTAMP:20260419T154251Z
DTSTART:20070309T190000
DTEND:20070309T210000
SUMMARY:Ovdje gori svjetlo
LOCATION:Kino Tuškanac
DESCRIPTION:Inja cheraghi roushan ast, 2002 R: Seyyed Mir-Karimi
END:VEVENT

BEGIN:VEVENT
UID:43f899a0735bbba2e772e9eefff8ad45@kinotuskanac.hr
DTSTAMP:20260419T154251Z
DTSTART:20070309T210000
DTEND:20070309T230000
SUMMARY:Iza zavjese od magle
LOCATION:Kino Tuškanac
DESCRIPTION:Posht-e pardeh-e meh, 2004 R: Parviz Sheikhtadi
END:VEVENT

BEGIN:VEVENT
UID:3b936404c5b31c7d1e272711dcd50d03@kinotuskanac.hr
DTSTAMP:20260419T154251Z
DTSTART:20070310T190000
DTEND:20070310T210000
SUMMARY:Iza zavjese od magle
LOCATION:Kino Tuškanac
DESCRIPTION:Posht-e pardeh-e meh, 2004 R: Parviz Sheikhtadi
END:VEVENT

BEGIN:VEVENT
UID:0df15e718a4038b745bc8d48aa507b31@kinotuskanac.hr
DTSTAMP:20260419T154251Z
DTSTART:20070310T210000
DTEND:20070310T230000
SUMMARY:Tako blizu tako daleko
LOCATION:Kino Tuškanac
DESCRIPTION:Kheili dur, kheili nazdik, 2004 R: Seyyed Mir-Karimi
END:VEVENT

BEGIN:VEVENT
UID:0e36fbe263346ff1917cb581243a3dab@kinotuskanac.hr
DTSTAMP:20260419T154251Z
DTSTART:20070312T190000
DTEND:20070312T210000
SUMMARY:Tako blizu tako daleko
LOCATION:Kino Tuškanac
DESCRIPTION:Kheili dur, kheili nazdik, 2004 R: Seyyed Mir-Karimi
END:VEVENT

BEGIN:VEVENT
UID:d3c9a14349cd6a69296544809f90761f@kinotuskanac.hr
DTSTAMP:20260419T154251Z
DTSTART:20070312T210000
DTEND:20070312T230000
SUMMARY:Ovdje gori svjetlo
LOCATION:Kino Tuškanac
DESCRIPTION:Inja cheraghi roushan ast, 2002 R: Seyyed Mir-Karimi
END:VEVENT
END:VCALENDAR