BEGIN:VCALENDAR
VERSION:2.0
PRODID:-//Kino Tuškanac//Filmski programi//HR
URL:http://kinotuskanac/calendar/cycle/131
NAME:Kino Tuškanac ciklus Ciklus filmova Béle Tarra
X-WR-CALNAME:Kino Tuškanac ciklus Ciklus filmova Béle Tarra
TIMEZONE-ID:Europe/Zagreb
X-WR-TIMEZONE:Europe/Zagreb
REFRESH-INTERVAL;VALUE=DURATION:PT12H
X-PUBLISHED-TTL:PT12H
METHOD:PUBLISH
BEGIN:VEVENT
UID:520dfa1df17f716b698b3b41846351c9@kinotuskanac.hr
DTSTAMP:20260423T144544Z
DTSTART:20070416T200000
DTEND:20070416T220000
SUMMARY:Werckmeisterove harmonije
LOCATION:Kino Tuškanac
DESCRIPTION:Werckmeister harmóniák, Mađarska, Francuska, Italija, Njemačka, 2000 R: Béla Tarr
END:VEVENT

BEGIN:VEVENT
UID:70eb331f0c9bbeaa9487c3e04cf11554@kinotuskanac.hr
DTSTAMP:20260423T144544Z
DTSTART:20070417T190000
DTEND:20070417T210000
SUMMARY:Obiteljsko gnijezdo
LOCATION:Kino Tuškanac
DESCRIPTION:Családi tüzfészek, Mađarska, 1977 R: Béla Tarr
END:VEVENT

BEGIN:VEVENT
UID:e122dd7257b380be0d1662ac23ec9cd0@kinotuskanac.hr
DTSTAMP:20260423T144544Z
DTSTART:20070418T183000
DTEND:20070418T203000
SUMMARY:Autsajder
LOCATION:Kino Tuškanac
DESCRIPTION:Szabadgyalog, Mađarska, 1981 R: Béla Tarr
END:VEVENT

BEGIN:VEVENT
UID:21882111c2f3ec5b5ba7f18590a53e55@kinotuskanac.hr
DTSTAMP:20260423T144544Z
DTSTART:20070418T210000
DTEND:20070418T230000
SUMMARY:Obiteljsko gnijezdo
LOCATION:Kino Tuškanac
DESCRIPTION:Családi tüzfészek, Mađarska, 1977 R: Béla Tarr
END:VEVENT

BEGIN:VEVENT
UID:96f5b5c8163bd0882f4f7cff695a013c@kinotuskanac.hr
DTSTAMP:20260423T144544Z
DTSTART:20070419T190000
DTEND:20070419T210000
SUMMARY:Ljudi iz radničkih baraka
LOCATION:Kino Tuškanac
DESCRIPTION:Panelkapcsolat, 1982 R: Béla Tarr
END:VEVENT

BEGIN:VEVENT
UID:98469cdf80e67051de91d94e34c6b88a@kinotuskanac.hr
DTSTAMP:20260423T144544Z
DTSTART:20070419T210000
DTEND:20070419T230000
SUMMARY:Autsajder
LOCATION:Kino Tuškanac
DESCRIPTION:Szabadgyalog, Mađarska, 1981 R: Béla Tarr
END:VEVENT

BEGIN:VEVENT
UID:55be036843592346080341fa650ad441@kinotuskanac.hr
DTSTAMP:20260423T144544Z
DTSTART:20070421T160000
DTEND:20070421T180000
SUMMARY:Sotonski tango
LOCATION:Kino Tuškanac
DESCRIPTION:Sátántangó, Mađarska, Njemačka, Švicarska, 1994 R: Béla Tarr
END:VEVENT

BEGIN:VEVENT
UID:90ecaea7532dcade419c0498189cce29@kinotuskanac.hr
DTSTAMP:20260423T144544Z
DTSTART:20070423T190000
DTEND:20070423T210000
SUMMARY:Almanah jeseni
LOCATION:Kino Tuškanac
DESCRIPTION:Őszi almanach, Mađarska, 1984 R: Béla Tarr
END:VEVENT

BEGIN:VEVENT
UID:575ee23472bc1defe46c33d11708b2e5@kinotuskanac.hr
DTSTAMP:20260423T144544Z
DTSTART:20070423T210000
DTEND:20070423T230000
SUMMARY:Ljudi iz radničkih baraka
LOCATION:Kino Tuškanac
DESCRIPTION:Panelkapcsolat, 1982 R: Béla Tarr
END:VEVENT

BEGIN:VEVENT
UID:a497f1f4ef4ce083ef73669dba9089fd@kinotuskanac.hr
DTSTAMP:20260423T144544Z
DTSTART:20070424T190000
DTEND:20070424T210000
SUMMARY:Prokletstvo
LOCATION:Kino Tuškanac
DESCRIPTION:Kárhozat, Mađarska, 1988 R: Béla Tarr
END:VEVENT

BEGIN:VEVENT
UID:b0eae1c89821a46d68041ec7b924ea2f@kinotuskanac.hr
DTSTAMP:20260423T144544Z
DTSTART:20070424T210000
DTEND:20070424T230000
SUMMARY:Almanah jeseni
LOCATION:Kino Tuškanac
DESCRIPTION:Őszi almanach, Mađarska, 1984 R: Béla Tarr
END:VEVENT

BEGIN:VEVENT
UID:4667f442ea5e44d48d340bf9cff3e5dd@kinotuskanac.hr
DTSTAMP:20260423T144544Z
DTSTART:20070425T160000
DTEND:20070425T180000
SUMMARY:Sotonski tango
LOCATION:Kino Tuškanac
DESCRIPTION:Sátántangó, Mađarska, Njemačka, Švicarska, 1994 R: Béla Tarr
END:VEVENT

BEGIN:VEVENT
UID:c4256158d7fc262f46cc09c0a7ab21a8@kinotuskanac.hr
DTSTAMP:20260423T144544Z
DTSTART:20070426T190000
DTEND:20070426T210000
SUMMARY:Prokletstvo
LOCATION:Kino Tuškanac
DESCRIPTION:Kárhozat, Mađarska, 1988 R: Béla Tarr
END:VEVENT

BEGIN:VEVENT
UID:9970e21af130387d525a1e5101602513@kinotuskanac.hr
DTSTAMP:20260423T144544Z
DTSTART:20070427T180000
DTEND:20070427T200000
SUMMARY:Werckmeisterove harmonije
LOCATION:Kino Tuškanac
DESCRIPTION:Werckmeister harmóniák, Mađarska, Francuska, Italija, Njemačka, 2000 R: Béla Tarr
END:VEVENT
END:VCALENDAR