BEGIN:VCALENDAR
VERSION:2.0
PRODID:-//Kino Tuškanac//Filmski programi//HR
URL:http://kinotuskanac/calendar/cycle/132
NAME:Kino Tuškanac ciklus Ciklus Akija Kaurismäkija
X-WR-CALNAME:Kino Tuškanac ciklus Ciklus Akija Kaurismäkija
TIMEZONE-ID:Europe/Zagreb
X-WR-TIMEZONE:Europe/Zagreb
REFRESH-INTERVAL;VALUE=DURATION:PT12H
X-PUBLISHED-TTL:PT12H
METHOD:PUBLISH
BEGIN:VEVENT
UID:e4f89413ce98a20c702a241607cc42be@kinotuskanac.hr
DTSTAMP:20260425T215438Z
DTSTART:20070427T210000
DTEND:20070427T230000
SUMMARY:Svjetla u sumraku
LOCATION:Kino Tuškanac
DESCRIPTION:Laitakaupungin valot, Finska, Njemačka, Francuska, Italija, Švedska, 2006 R: Aki Kaurismäki
END:VEVENT

BEGIN:VEVENT
UID:461202008aeafccaf242420f9dda2073@kinotuskanac.hr
DTSTAMP:20260425T215438Z
DTSTART:20070428T190000
DTEND:20070428T210000
SUMMARY:Svjetla u sumraku
LOCATION:Kino Tuškanac
DESCRIPTION:Laitakaupungin valot, Finska, Njemačka, Francuska, Italija, Švedska, 2006 R: Aki Kaurismäki
END:VEVENT

BEGIN:VEVENT
UID:20ada3261b0fe0f398e366c0dad48eb2@kinotuskanac.hr
DTSTAMP:20260425T215438Z
DTSTART:20070428T210000
DTEND:20070428T230000
SUMMARY:Zločin i kazna
LOCATION:Kino Tuškanac
DESCRIPTION:Rikos ja rangaistus, Finska, 1983 R: Aki Kaurismäki
END:VEVENT

BEGIN:VEVENT
UID:cd828a12fbf796446521a5365fd304a3@kinotuskanac.hr
DTSTAMP:20260425T215438Z
DTSTART:20070430T190000
DTEND:20070430T210000
SUMMARY:Zločin i kazna
LOCATION:Kino Tuškanac
DESCRIPTION:Rikos ja rangaistus, Finska, 1983 R: Aki Kaurismäki
END:VEVENT

BEGIN:VEVENT
UID:f58a88629fc2da7d36200bf57fe5b871@kinotuskanac.hr
DTSTAMP:20260425T215438Z
DTSTART:20070430T210000
DTEND:20070430T230000
SUMMARY:Calamari Union
LOCATION:Kino Tuškanac
DESCRIPTION:Finska, 1985 R: Aki Kaurismäki
END:VEVENT

BEGIN:VEVENT
UID:7b129f242e815d33c69db7153035a5e1@kinotuskanac.hr
DTSTAMP:20260425T215438Z
DTSTART:20070502T193000
DTEND:20070502T213000
SUMMARY:Calamari Union
LOCATION:Kino Tuškanac
DESCRIPTION:Finska, 1985 R: Aki Kaurismäki
END:VEVENT

BEGIN:VEVENT
UID:768767defca17dc0d73f5f98a2c8886e@kinotuskanac.hr
DTSTAMP:20260425T215438Z
DTSTART:20070502T210000
DTEND:20070502T230000
SUMMARY:Sjenke u raju
LOCATION:Kino Tuškanac
DESCRIPTION:Varjoja paratiisissa, Finska, 1986 R: Aki Kaurismäki
END:VEVENT

BEGIN:VEVENT
UID:7f17fc3d74dc2f0e059de56ec94fff49@kinotuskanac.hr
DTSTAMP:20260425T215438Z
DTSTART:20070503T193000
DTEND:20070503T213000
SUMMARY:Sjenke u raju
LOCATION:Kino Tuškanac
DESCRIPTION:Varjoja paratiisissa, Finska, 1986 R: Aki Kaurismäki
END:VEVENT

BEGIN:VEVENT
UID:5128de7aa345f9b6e61df28badd83657@kinotuskanac.hr
DTSTAMP:20260425T215438Z
DTSTART:20070503T210000
DTEND:20070503T230000
SUMMARY:Hamlet se okreće biznisu
LOCATION:Kino Tuškanac
DESCRIPTION:Hamlet liikemaailmassa, Finska, 1987 R: Aki Kaurismäki
END:VEVENT

BEGIN:VEVENT
UID:727b380cfbbcc33e53d92804e5aa9ecc@kinotuskanac.hr
DTSTAMP:20260425T215438Z
DTSTART:20070505T193000
DTEND:20070505T213000
SUMMARY:Hamlet se okreće biznisu
LOCATION:Kino Tuškanac
DESCRIPTION:Hamlet liikemaailmassa, Finska, 1987 R: Aki Kaurismäki
END:VEVENT

BEGIN:VEVENT
UID:016827e0f57a898190a765af26c240aa@kinotuskanac.hr
DTSTAMP:20260425T215438Z
DTSTART:20070505T210000
DTEND:20070505T230000
SUMMARY:Ariel
LOCATION:Kino Tuškanac
DESCRIPTION:Finska, 1988 R: Aki Kaurismäki
END:VEVENT

BEGIN:VEVENT
UID:1a4fe55d4490faddb9bf4f39f2819cab@kinotuskanac.hr
DTSTAMP:20260425T215438Z
DTSTART:20070507T193000
DTEND:20070507T213000
SUMMARY:Ariel
LOCATION:Kino Tuškanac
DESCRIPTION:Finska, 1988 R: Aki Kaurismäki
END:VEVENT

BEGIN:VEVENT
UID:40b3acba57490e4608f0e73892159b24@kinotuskanac.hr
DTSTAMP:20260425T215438Z
DTSTART:20070507T210000
DTEND:20070507T230000
SUMMARY:Lenjingradski kauboji idu u Ameriku
LOCATION:Kino Tuškanac
DESCRIPTION:Leningrad Cowboys Go America, Finska, Švedska, 1989 R: Aki Kaurismäki
END:VEVENT

BEGIN:VEVENT
UID:e9abe9f980d0d388318aac329c40db56@kinotuskanac.hr
DTSTAMP:20260425T215438Z
DTSTART:20070508T193000
DTEND:20070508T213000
SUMMARY:Lenjingradski kauboji idu u Ameriku
LOCATION:Kino Tuškanac
DESCRIPTION:Leningrad Cowboys Go America, Finska, Švedska, 1989 R: Aki Kaurismäki
END:VEVENT

BEGIN:VEVENT
UID:f50ac023e342cfa668c1e380360cc480@kinotuskanac.hr
DTSTAMP:20260425T215438Z
DTSTART:20070511T193000
DTEND:20070511T213000
SUMMARY:Djevojka iz tvornice šibica
LOCATION:Kino Tuškanac
DESCRIPTION:Tulitikkutehtaan tyttö, Finska, Švedska, 1990 R: Aki Kaurismäki
END:VEVENT

BEGIN:VEVENT
UID:ef60b920b6ff800a2943a04f0b3fb4d6@kinotuskanac.hr
DTSTAMP:20260425T215438Z
DTSTART:20070512T193000
DTEND:20070512T213000
SUMMARY:Unajmio sam plaćenog ubojicu
LOCATION:Kino Tuškanac
DESCRIPTION:I Hired a Contract Killer, Finska, Švedska, Njemačka, Francuska, UK, 1990 R: Aki Kaurismäki
END:VEVENT

BEGIN:VEVENT
UID:c3d09e33f7217aad4b45fa7efc051395@kinotuskanac.hr
DTSTAMP:20260425T215438Z
DTSTART:20070512T210000
DTEND:20070512T230000
SUMMARY:Djevojka iz tvornice šibica
LOCATION:Kino Tuškanac
DESCRIPTION:Tulitikkutehtaan tyttö, Finska, Švedska, 1990 R: Aki Kaurismäki
END:VEVENT

BEGIN:VEVENT
UID:d1cf975ea447062233aea747eeb15ef3@kinotuskanac.hr
DTSTAMP:20260425T215438Z
DTSTART:20070514T190000
DTEND:20070514T210000
SUMMARY:Boemski život
LOCATION:Kino Tuškanac
DESCRIPTION:La vie de boheme, Finska, Francuska, Švedska, Njemačka, 1992 R: Aki Kaurismäki
END:VEVENT

BEGIN:VEVENT
UID:bc3feae8f3fa51fc85d16db166c2f26c@kinotuskanac.hr
DTSTAMP:20260425T215438Z
DTSTART:20070514T210000
DTEND:20070514T230000
SUMMARY:Unajmio sam plaćenog ubojicu
LOCATION:Kino Tuškanac
DESCRIPTION:I Hired a Contract Killer, Finska, Švedska, Njemačka, Francuska, UK, 1990 R: Aki Kaurismäki
END:VEVENT

BEGIN:VEVENT
UID:28d78d145138d4d3b96a8115f5b922a8@kinotuskanac.hr
DTSTAMP:20260425T215438Z
DTSTART:20070515T193000
DTEND:20070515T213000
SUMMARY:Pazi na svoj rubac, Tatjana
LOCATION:Kino Tuškanac
DESCRIPTION:Pidä huivista kiinni, Tatjana, Finska, Njemačka, 1994 R: Aki Kaurismäki
END:VEVENT

BEGIN:VEVENT
UID:0c15c74ff464c109100435938f6c6e33@kinotuskanac.hr
DTSTAMP:20260425T215438Z
DTSTART:20070515T210000
DTEND:20070515T230000
SUMMARY:Boemski život
LOCATION:Kino Tuškanac
DESCRIPTION:La vie de boheme, Finska, Francuska, Švedska, Njemačka, 1992 R: Aki Kaurismäki
END:VEVENT

BEGIN:VEVENT
UID:cc2f619bdbdf0f7e9750a9ea9f4782d0@kinotuskanac.hr
DTSTAMP:20260425T215438Z
DTSTART:20070516T190000
DTEND:20070516T210000
SUMMARY:Lenjingradski kauboji susreću Mojsija
LOCATION:Kino Tuškanac
DESCRIPTION:Leningrad Cowboys Meet Moses, 1994 R: Aki Kaurismäki
END:VEVENT

BEGIN:VEVENT
UID:62b5e4bddeb2180f7c2ece3096909796@kinotuskanac.hr
DTSTAMP:20260425T215438Z
DTSTART:20070516T210000
DTEND:20070516T230000
SUMMARY:Pazi na svoj rubac, Tatjana
LOCATION:Kino Tuškanac
DESCRIPTION:Pidä huivista kiinni, Tatjana, Finska, Njemačka, 1994 R: Aki Kaurismäki
END:VEVENT

BEGIN:VEVENT
UID:97ea3a7445b360343449794832e6afb7@kinotuskanac.hr
DTSTAMP:20260425T215438Z
DTSTART:20070517T190000
DTEND:20070517T210000
SUMMARY:Total Balalaika Show
LOCATION:Kino Tuškanac
DESCRIPTION:1994 R: Aki Kaurismäki
END:VEVENT

BEGIN:VEVENT
UID:a2213339716a48302a26a150c80af72b@kinotuskanac.hr
DTSTAMP:20260425T215438Z
DTSTART:20070517T210000
DTEND:20070517T230000
SUMMARY:Lenjingradski kauboji susreću Mojsija
LOCATION:Kino Tuškanac
DESCRIPTION:Leningrad Cowboys Meet Moses, 1994 R: Aki Kaurismäki
END:VEVENT

BEGIN:VEVENT
UID:f678910841a2fd590d353b103ec269fd@kinotuskanac.hr
DTSTAMP:20260425T215438Z
DTSTART:20070518T190000
DTEND:20070518T210000
SUMMARY:Plutajući oblaci
LOCATION:Kino Tuškanac
DESCRIPTION:Kauas pilvet karkaavat, Finska, Njemačka, Francuska, 1996 R: Aki Kaurismäki
END:VEVENT

BEGIN:VEVENT
UID:3189c214a31f42a7be72313c70898340@kinotuskanac.hr
DTSTAMP:20260425T215438Z
DTSTART:20070518T210000
DTEND:20070518T230000
SUMMARY:Total Balalaika Show
LOCATION:Kino Tuškanac
DESCRIPTION:1994 R: Aki Kaurismäki
END:VEVENT

BEGIN:VEVENT
UID:2001105af4908d22b090119727ef0b48@kinotuskanac.hr
DTSTAMP:20260425T215438Z
DTSTART:20070519T190000
DTEND:20070519T210000
SUMMARY:Juha
LOCATION:Kino Tuškanac
DESCRIPTION:Finska, Njemačka, Francuska, 1999 R: Aki Kaurismäki
END:VEVENT

BEGIN:VEVENT
UID:8916c2ee0365a71b519b26d5978c8475@kinotuskanac.hr
DTSTAMP:20260425T215438Z
DTSTART:20070519T210000
DTEND:20070519T230000
SUMMARY:Plutajući oblaci
LOCATION:Kino Tuškanac
DESCRIPTION:Kauas pilvet karkaavat, Finska, Njemačka, Francuska, 1996 R: Aki Kaurismäki
END:VEVENT

BEGIN:VEVENT
UID:42a63b6bb95c4dd248c8758e45269aa5@kinotuskanac.hr
DTSTAMP:20260425T215438Z
DTSTART:20070521T190000
DTEND:20070521T210000
SUMMARY:Čovjek bez prošlosti
LOCATION:Kino Tuškanac
DESCRIPTION:Mies vailla menneisyyttä, Finska, Njemačka, Francuska, 2002 R: Aki Kaurismäki
END:VEVENT

BEGIN:VEVENT
UID:a97d0d778ebc7820b3d7a4e6adc1b795@kinotuskanac.hr
DTSTAMP:20260425T215438Z
DTSTART:20070521T210000
DTEND:20070521T230000
SUMMARY:Juha
LOCATION:Kino Tuškanac
DESCRIPTION:Finska, Njemačka, Francuska, 1999 R: Aki Kaurismäki
END:VEVENT

BEGIN:VEVENT
UID:84aa9ccfb530209f60b4916188779164@kinotuskanac.hr
DTSTAMP:20260425T215438Z
DTSTART:20070523T210000
DTEND:20070523T230000
SUMMARY:Čovjek bez prošlosti
LOCATION:Kino Tuškanac
DESCRIPTION:Mies vailla menneisyyttä, Finska, Njemačka, Francuska, 2002 R: Aki Kaurismäki
END:VEVENT

BEGIN:VEVENT
UID:52cea2736a994e526eba2a9464e8eb43@kinotuskanac.hr
DTSTAMP:20260425T215438Z
DTSTART:20070524T190000
DTEND:20070524T210000
SUMMARY:Lenjingradski kauboji susreću Mojsija
LOCATION:Kino Tuškanac
DESCRIPTION:Leningrad Cowboys Meet Moses, 1994 R: Aki Kaurismäki
END:VEVENT

BEGIN:VEVENT
UID:ceab752a338a61e5c7b7086259a6d9ec@kinotuskanac.hr
DTSTAMP:20260425T215438Z
DTSTART:20070524T210000
DTEND:20070524T230000
SUMMARY:Total Balalaika Show
LOCATION:Kino Tuškanac
DESCRIPTION:1994 R: Aki Kaurismäki
END:VEVENT
END:VCALENDAR