BEGIN:VCALENDAR
VERSION:2.0
PRODID:-//Kino Tuškanac//Filmski programi//HR
URL:http://kinotuskanac/calendar/cycle/135
NAME:Kino Tuškanac ciklus Retrospektiva Lordana Zafranovića
X-WR-CALNAME:Kino Tuškanac ciklus Retrospektiva Lordana Zafranovića
TIMEZONE-ID:Europe/Zagreb
X-WR-TIMEZONE:Europe/Zagreb
REFRESH-INTERVAL;VALUE=DURATION:PT12H
X-PUBLISHED-TTL:PT12H
METHOD:PUBLISH
BEGIN:VEVENT
UID:e45fd2865fd952904d58b05b786832a9@kinotuskanac.hr
DTSTAMP:20260419T214922Z
DTSTART:20061218T200000
DTEND:20061218T220000
SUMMARY:Dragi Džoni, kradu ti zlato
LOCATION:Kino Tuškanac
DESCRIPTION:1966 R: Lordan Zafranović
END:VEVENT

BEGIN:VEVENT
UID:e322e05157aca502ff52967ba8b1300e@kinotuskanac.hr
DTSTAMP:20260419T214922Z
DTSTART:20061219T160000
DTEND:20061219T180000
SUMMARY:Okupacija u 26 slika
LOCATION:Kino Tuškanac
DESCRIPTION:Jugoslavija: Hrvatska, Jadran film, Croatia film, 1978 R: Lordan Zafranović
END:VEVENT

BEGIN:VEVENT
UID:6fea3ceef52a7ee65433a56e709a4925@kinotuskanac.hr
DTSTAMP:20260419T214922Z
DTSTART:20061219T181000
DTEND:20061219T201000
SUMMARY:Dnevnik
LOCATION:Kino Tuškanac
DESCRIPTION:Kino-klub Split, 1964 R: Lordan Zafranović
END:VEVENT

BEGIN:VEVENT
UID:727636ee17c4139f9715e3b0534a3b50@kinotuskanac.hr
DTSTAMP:20260419T214922Z
DTSTART:20061219T203000
DTEND:20061219T223000
SUMMARY:Muke po Mati
LOCATION:Kino Tuškanac
DESCRIPTION:1975 R: Lordan Zafranović
END:VEVENT

BEGIN:VEVENT
UID:9b0b3fc9934627ffc7481fea011c6cc2@kinotuskanac.hr
DTSTAMP:20260419T214922Z
DTSTART:20061220T160000
DTEND:20061220T180000
SUMMARY:San (1975)
LOCATION:Kino Tuškanac
DESCRIPTION:1975 R: Lordan Zafranović
END:VEVENT

BEGIN:VEVENT
UID:57a5ea304ba5c933e906a09dc94695cf@kinotuskanac.hr
DTSTAMP:20260419T214922Z
DTSTART:20061220T180000
DTEND:20061220T200000
SUMMARY:ZAVNOH
LOCATION:Kino Tuškanac
DESCRIPTION:1973 R: Lordan Zafranović
END:VEVENT

BEGIN:VEVENT
UID:e04fc3335f691cc00f997dda0127dbe2@kinotuskanac.hr
DTSTAMP:20260419T214922Z
DTSTART:20061220T201000
DTEND:20061220T221000
SUMMARY:Film o gostima i radnicima
LOCATION:Kino Tuškanac
DESCRIPTION:1977 R: Lordan Zafranović
END:VEVENT

BEGIN:VEVENT
UID:954ee35e379657f04d95f1b8466234f4@kinotuskanac.hr
DTSTAMP:20260419T214922Z
DTSTART:20061221T180000
DTEND:20061221T200000
SUMMARY:Valcer (Moj prvi ples)
LOCATION:Kino Tuškanac
DESCRIPTION:1970 R: Lordan Zafranović
END:VEVENT

BEGIN:VEVENT
UID:58de23dd1304c75e2a75872248ccae22@kinotuskanac.hr
DTSTAMP:20260419T214922Z
DTSTART:20061221T201000
DTEND:20061221T221000
SUMMARY:Pad Italije
LOCATION:Kino Tuškanac
DESCRIPTION:Hrvatska, 1981 R: Lordan Zafranović
END:VEVENT

BEGIN:VEVENT
UID:65064525889de60ff4b50246e80d5057@kinotuskanac.hr
DTSTAMP:20260419T214922Z
DTSTART:20061222T170000
DTEND:20061222T190000
SUMMARY:Zalazak stoljeća (Testament L. Z.)
LOCATION:Kino Tuškanac
DESCRIPTION:1993 R: Lordan Zafranović
END:VEVENT

BEGIN:VEVENT
UID:c631e41cd2d7471d187992eb83d2b009@kinotuskanac.hr
DTSTAMP:20260419T214922Z
DTSTART:20061222T203000
DTEND:20061222T223000
SUMMARY:Ubistvo u noćnom vozu
LOCATION:Kino Tuškanac
DESCRIPTION:Jugoslavija, 1972 R: Lordan Zafranović
END:VEVENT

BEGIN:VEVENT
UID:44fef04ff08f6ec64e47797d1cdceb18@kinotuskanac.hr
DTSTAMP:20260419T214922Z
DTSTART:20061223T160000
DTEND:20061223T180000
SUMMARY:Simfonija nebeskog grada
LOCATION:Kino Tuškanac
DESCRIPTION:2004 R: Lordan Zafranović
END:VEVENT

BEGIN:VEVENT
UID:cc6e619db1cd64903747cc97d194bb58@kinotuskanac.hr
DTSTAMP:20260419T214922Z
DTSTART:20061218T200000
DTEND:20061218T220000
SUMMARY:Ljudi / U prolazu
LOCATION:Kino Tuškanac
DESCRIPTION:1967 R: Lordan Zafranović
END:VEVENT

BEGIN:VEVENT
UID:38ab361d2f9647821df1b85d2234b019@kinotuskanac.hr
DTSTAMP:20260419T214922Z
DTSTART:20061218T200000
DTEND:20061218T220000
SUMMARY:Dan i noć (Pjaca)
LOCATION:Kino Tuškanac
DESCRIPTION:1966 R: Lordan Zafranović
END:VEVENT

BEGIN:VEVENT
UID:9875b52765ad721847db95c5f5175b14@kinotuskanac.hr
DTSTAMP:20260419T214922Z
DTSTART:20061218T200000
DTEND:20061218T220000
SUMMARY:Poslije podne (Puška)
LOCATION:Kino Tuškanac
DESCRIPTION:Jugoslavija: Hrvatska, 1968 R: Lordan Zafranović
END:VEVENT

BEGIN:VEVENT
UID:503dc5cacf3183b28faa78cfc1a5d2fe@kinotuskanac.hr
DTSTAMP:20260419T214922Z
DTSTART:20061218T200000
DTEND:20061218T220000
SUMMARY:Ave Marija / Moje prvo pijanstvo
LOCATION:Kino Tuškanac
DESCRIPTION:1971 R: Lordan Zafranović
END:VEVENT

BEGIN:VEVENT
UID:5448ea8e12a6787e58437a9df8502e84@kinotuskanac.hr
DTSTAMP:20260419T214922Z
DTSTART:20061218T200000
DTEND:20061218T220000
SUMMARY:Antika
LOCATION:Kino Tuškanac
DESCRIPTION:1972 R: Lordan Zafranović
END:VEVENT

BEGIN:VEVENT
UID:0dbaa104a6da2674a8bbcc5d68b9ed11@kinotuskanac.hr
DTSTAMP:20260419T214922Z
DTSTART:20061219T160000
DTEND:20061219T180000
SUMMARY:Slobodna interpretacija
LOCATION:Kino Tuškanac
DESCRIPTION:1979 R: Lordan Zafranović
END:VEVENT

BEGIN:VEVENT
UID:d8a6d297374dac48dc746182d691b416@kinotuskanac.hr
DTSTAMP:20260419T214922Z
DTSTART:20061219T181000
DTEND:20061219T201000
SUMMARY:Priča
LOCATION:Kino Tuškanac
DESCRIPTION:1963 R: Lordan Zafranović
END:VEVENT

BEGIN:VEVENT
UID:1c0c4a49731d68ccc07a928ac8ecbb1f@kinotuskanac.hr
DTSTAMP:20260419T214922Z
DTSTART:20061219T181000
DTEND:20061219T201000
SUMMARY:Koncert (1965)
LOCATION:Kino Tuškanac
DESCRIPTION:1965 R: Lordan Zafranović
END:VEVENT

BEGIN:VEVENT
UID:16590b3fa94c07ab8936691ef460d786@kinotuskanac.hr
DTSTAMP:20260419T214922Z
DTSTART:20061219T181000
DTEND:20061219T201000
SUMMARY:Noć i poslije noći noć
LOCATION:Kino Tuškanac
DESCRIPTION:1965 R: Lordan Zafranović
END:VEVENT

BEGIN:VEVENT
UID:6657f8d5561ae6bf8fa6a3ddf19bf9c1@kinotuskanac.hr
DTSTAMP:20260419T214922Z
DTSTART:20061219T181000
DTEND:20061219T201000
SUMMARY:Živjela mladost / Dnevnik 2
LOCATION:Kino Tuškanac
DESCRIPTION:1965 R: Lordan Zafranović
END:VEVENT

BEGIN:VEVENT
UID:c4f43bd3737ffaafec7e8aeb46e1b443@kinotuskanac.hr
DTSTAMP:20260419T214922Z
DTSTART:20061219T181000
DTEND:20061219T201000
SUMMARY:Kišno / Nevina subota
LOCATION:Kino Tuškanac
DESCRIPTION:1965 R: Lordan Zafranović
END:VEVENT

BEGIN:VEVENT
UID:59e29494b8664768b2ee5569f618f2f0@kinotuskanac.hr
DTSTAMP:20260419T214922Z
DTSTART:20061219T181000
DTEND:20061219T201000
SUMMARY:Maestral
LOCATION:Kino Tuškanac
DESCRIPTION:1967 R: Lordan Zafranović
END:VEVENT

BEGIN:VEVENT
UID:a0fbd25f779488dd46e268daca8f019f@kinotuskanac.hr
DTSTAMP:20260419T214922Z
DTSTART:20061219T181000
DTEND:20061219T201000
SUMMARY:Mora
LOCATION:Kino Tuškanac
DESCRIPTION:1972 R: Lordan Zafranović
END:VEVENT

BEGIN:VEVENT
UID:c844b112fd0670cff0369f238ae702fe@kinotuskanac.hr
DTSTAMP:20260419T214922Z
DTSTART:20061219T203000
DTEND:20061219T223000
SUMMARY:Rad zida grad
LOCATION:Kino Tuškanac
DESCRIPTION:1974 R: Lordan Zafranović
END:VEVENT

BEGIN:VEVENT
UID:d3be95f307b92ac20f8a2455180def09@kinotuskanac.hr
DTSTAMP:20260419T214922Z
DTSTART:20061220T160000
DTEND:20061220T180000
SUMMARY:Nedjelja
LOCATION:Kino Tuškanac
DESCRIPTION:1969 R: Lordan Zafranović
END:VEVENT

BEGIN:VEVENT
UID:0d1f01d9be484bf50b54a282f7814bb2@kinotuskanac.hr
DTSTAMP:20260419T214922Z
DTSTART:20061220T180000
DTEND:20061220T200000
SUMMARY:Večernja zvona
LOCATION:Kino Tuškanac
DESCRIPTION:1986 R: Lordan Zafranović
END:VEVENT

BEGIN:VEVENT
UID:fe0916a15c83feff45f90f80de53129a@kinotuskanac.hr
DTSTAMP:20260419T214922Z
DTSTART:20061220T180000
DTEND:20061220T200000
SUMMARY:Zagreb živi s Titom
LOCATION:Kino Tuškanac
DESCRIPTION:1980 R: Lordan Zafranović
END:VEVENT

BEGIN:VEVENT
UID:8811f528a3f6d7a0bc104ad5ace24989@kinotuskanac.hr
DTSTAMP:20260419T214922Z
DTSTART:20061220T201000
DTEND:20061220T221000
SUMMARY:Predgrađe (Ibisa)
LOCATION:Kino Tuškanac
DESCRIPTION:1972 R: Lordan Zafranović
END:VEVENT

BEGIN:VEVENT
UID:e28a6d33ee732a12e4e7ab2d34e542af@kinotuskanac.hr
DTSTAMP:20260419T214922Z
DTSTART:20061220T201000
DTEND:20061220T221000
SUMMARY:Zavičaj (Vladimir Nazor)
LOCATION:Kino Tuškanac
DESCRIPTION:1982 R: Lordan Zafranović
END:VEVENT

BEGIN:VEVENT
UID:4b318b08b385f812c7c1b5ca37fb72b1@kinotuskanac.hr
DTSTAMP:20260419T214922Z
DTSTART:20061221T180000
DTEND:20061221T200000
SUMMARY:Haloa (Praznik kurvi)
LOCATION:Kino Tuškanac
DESCRIPTION:1988 R: Lordan Zafranović
END:VEVENT

BEGIN:VEVENT
UID:4cec0006c0b8a988b4f4c198ba49455d@kinotuskanac.hr
DTSTAMP:20260419T214922Z
DTSTART:20061221T201000
DTEND:20061221T221000
SUMMARY:Krv i pepeo Jasenovca
LOCATION:Kino Tuškanac
DESCRIPTION:1985 R: Lordan Zafranović
END:VEVENT

BEGIN:VEVENT
UID:85a9fe6cd98a06877488b208da0b1370@kinotuskanac.hr
DTSTAMP:20260419T214922Z
DTSTART:20061222T203000
DTEND:20061222T223000
SUMMARY:Ujed anđela
LOCATION:Kino Tuškanac
DESCRIPTION:1983 R: Lordan Zafranović
END:VEVENT

BEGIN:VEVENT
UID:11d6efe3b735bbdaddcaf79d8d090d48@kinotuskanac.hr
DTSTAMP:20260419T214922Z
DTSTART:20061223T160000
DTEND:20061223T180000
SUMMARY:Lacrimosa (Osveta je moja)
LOCATION:Kino Tuškanac
DESCRIPTION:1995 R: Lordan Zafranović
END:VEVENT

BEGIN:VEVENT
UID:1238fe60c2a4881915ffe47b725a6967@kinotuskanac.hr
DTSTAMP:20260419T214922Z
DTSTART:20061223T190000
DTEND:20061223T210000
SUMMARY:Kronika jednog zločina
LOCATION:Kino Tuškanac
DESCRIPTION:1973 R: Lordan Zafranović
END:VEVENT
END:VCALENDAR