BEGIN:VCALENDAR
VERSION:2.0
PRODID:-//Kino Tuškanac//Filmski programi//HR
URL:http://kinotuskanac/calendar/cycle/138
NAME:Kino Tuškanac ciklus Mediteranske igre u Zagrebu
X-WR-CALNAME:Kino Tuškanac ciklus Mediteranske igre u Zagrebu
TIMEZONE-ID:Europe/Zagreb
X-WR-TIMEZONE:Europe/Zagreb
REFRESH-INTERVAL;VALUE=DURATION:PT12H
X-PUBLISHED-TTL:PT12H
METHOD:PUBLISH
BEGIN:VEVENT
UID:9df1921f887bc3f5459bc8a8e673808b@kinotuskanac.hr
DTSTAMP:20260419T222820Z
DTSTART:20070609T200000
DTEND:20070609T220000
SUMMARY:Bled Number One
LOCATION:Kino Tuškanac
DESCRIPTION:2006 R: Rabah Ameur-Zaimeche
END:VEVENT

BEGIN:VEVENT
UID:5b1d2d6305af3e0ca6bc8a184511f933@kinotuskanac.hr
DTSTAMP:20260419T222820Z
DTSTART:20070611T190000
DTEND:20070611T210000
SUMMARY:Karov la bayit
LOCATION:Kino Tuškanac
DESCRIPTION:2006 R: Vidi Bilu, Dalia Hager
END:VEVENT

BEGIN:VEVENT
UID:fa5ca63118a83f4fff248d3fb9cb43ce@kinotuskanac.hr
DTSTAMP:20260419T222820Z
DTSTART:20070611T210000
DTEND:20070611T230000
SUMMARY:Klime
LOCATION:Kino Tuškanac
DESCRIPTION:Iklimler, Turska, Francuska, 2006 R: Nuri Bilge Ceylan
END:VEVENT

BEGIN:VEVENT
UID:27e5ed51ae8d53787c61ef6e9986c4e2@kinotuskanac.hr
DTSTAMP:20260419T222820Z
DTSTART:20070612T190000
DTEND:20070612T210000
SUMMARY:Bes vakit
LOCATION:Kino Tuškanac
DESCRIPTION:2006 R: Reha Erdem
END:VEVENT

BEGIN:VEVENT
UID:a5ca2a22cdbf1129e67cac71c08aa309@kinotuskanac.hr
DTSTAMP:20260419T222820Z
DTSTART:20070612T210000
DTEND:20070612T230000
SUMMARY:Tamno plavo gotovo crno
LOCATION:Kino Tuškanac
DESCRIPTION:Azul oscuro casi negro, 2006 R: Arévalo, Sánchez
END:VEVENT

BEGIN:VEVENT
UID:e816ea20976ba98c7b0d1f7afe68fe44@kinotuskanac.hr
DTSTAMP:20260419T222820Z
DTSTART:20070613T190000
DTEND:20070613T210000
SUMMARY:A Perfect Day
LOCATION:Kino Tuškanac
DESCRIPTION:2005 R: Joana Hadjithomas, Khalil Joreige
END:VEVENT

BEGIN:VEVENT
UID:bd76e01d40bedae7fbdc72f10ca48a09@kinotuskanac.hr
DTSTAMP:20260419T222820Z
DTSTART:20070613T210000
DTEND:20070613T230000
SUMMARY:De bares
LOCATION:Kino Tuškanac
DESCRIPTION:2006 R: Mario Iglesias
END:VEVENT

BEGIN:VEVENT
UID:a27245a2f7938ace8b3678d9d71b374b@kinotuskanac.hr
DTSTAMP:20260419T222820Z
DTSTART:20070614T190000
DTEND:20070614T210000
SUMMARY:La Californie
LOCATION:Kino Tuškanac
DESCRIPTION:2006 R: Jacques Fieschi
END:VEVENT

BEGIN:VEVENT
UID:24d73746fa82566a9480e2f038a44207@kinotuskanac.hr
DTSTAMP:20260419T222820Z
DTSTART:20070614T210000
DTEND:20070614T230000
SUMMARY:Izgubljeni zavičaj
LOCATION:Kino Tuškanac
DESCRIPTION:1980 R: Ante Babaja
END:VEVENT
END:VCALENDAR