BEGIN:VCALENDAR
VERSION:2.0
PRODID:-//Kino Tuškanac//Filmski programi//HR
URL:http://kinotuskanac/calendar/cycle/142
NAME:Kino Tuškanac ciklus Ciklus Coste-Gavrasa
X-WR-CALNAME:Kino Tuškanac ciklus Ciklus Coste-Gavrasa
TIMEZONE-ID:Europe/Zagreb
X-WR-TIMEZONE:Europe/Zagreb
REFRESH-INTERVAL;VALUE=DURATION:PT12H
X-PUBLISHED-TTL:PT12H
METHOD:PUBLISH
BEGIN:VEVENT
UID:d230847a9ae3dcce6925afa65f832766@kinotuskanac.hr
DTSTAMP:20260419T154140Z
DTSTART:20071211T190000
DTEND:20071211T210000
SUMMARY:Kupe za ubojice
LOCATION:Kino Tuškanac
DESCRIPTION:Compartiment tueurs, 1965 R: Costa-Gavras Costa-Gavras
END:VEVENT

BEGIN:VEVENT
UID:acabb27f832dd282896e56e3b1a8f2f6@kinotuskanac.hr
DTSTAMP:20260419T154140Z
DTSTART:20071211T210000
DTEND:20071211T230000
SUMMARY:Z
LOCATION:Kino Tuškanac
DESCRIPTION:1968 R: Costa-Gavras Costa-Gavras
END:VEVENT

BEGIN:VEVENT
UID:08c60351a312eee084cece9b8f431441@kinotuskanac.hr
DTSTAMP:20260419T154140Z
DTSTART:20071212T190000
DTEND:20071212T210000
SUMMARY:Z
LOCATION:Kino Tuškanac
DESCRIPTION:1968 R: Costa-Gavras Costa-Gavras
END:VEVENT

BEGIN:VEVENT
UID:26e42030d96299cc19c5f98bddf5c101@kinotuskanac.hr
DTSTAMP:20260419T154140Z
DTSTART:20071212T210000
DTEND:20071212T230000
SUMMARY:Kupe za ubojice
LOCATION:Kino Tuškanac
DESCRIPTION:Compartiment tueurs, 1965 R: Costa-Gavras Costa-Gavras
END:VEVENT

BEGIN:VEVENT
UID:97e55300869a793811fd6f6968a9bb48@kinotuskanac.hr
DTSTAMP:20260419T154140Z
DTSTART:20071213T190000
DTEND:20071213T210000
SUMMARY:Opsadno stanje
LOCATION:Kino Tuškanac
DESCRIPTION:État de siege, 1972 R: Costa-Gavras Costa-Gavras
END:VEVENT

BEGIN:VEVENT
UID:a3bb68c2e2f2602b731e08d57dc24155@kinotuskanac.hr
DTSTAMP:20260419T154140Z
DTSTART:20071213T211500
DTEND:20071213T231500
SUMMARY:Sjaj žene
LOCATION:Kino Tuškanac
DESCRIPTION:Clair de femme, 1979 R: Costa-Gavras Costa-Gavras
END:VEVENT

BEGIN:VEVENT
UID:f47748e9d3f96bb842cdca68d1847389@kinotuskanac.hr
DTSTAMP:20260419T154140Z
DTSTART:20071215T190000
DTEND:20071215T210000
SUMMARY:Sjaj žene
LOCATION:Kino Tuškanac
DESCRIPTION:Clair de femme, 1979 R: Costa-Gavras Costa-Gavras
END:VEVENT

BEGIN:VEVENT
UID:5bd260fe3e07ba3d256e7b9c9662b559@kinotuskanac.hr
DTSTAMP:20260419T154140Z
DTSTART:20071217T190000
DTEND:20071217T210000
SUMMARY:Opsadno stanje
LOCATION:Kino Tuškanac
DESCRIPTION:État de siege, 1972 R: Costa-Gavras Costa-Gavras
END:VEVENT

BEGIN:VEVENT
UID:8277ce9169919da81b72e53c75d40ba3@kinotuskanac.hr
DTSTAMP:20260419T154140Z
DTSTART:20071218T190000
DTEND:20071218T210000
SUMMARY:Nestao
LOCATION:Kino Tuškanac
DESCRIPTION:Missing, 1982 R: Costa-Gavras Costa-Gavras
END:VEVENT

BEGIN:VEVENT
UID:650f7f5375d65c04e10308d9469f39d6@kinotuskanac.hr
DTSTAMP:20260419T154140Z
DTSTART:20071219T190000
DTEND:20071219T210000
SUMMARY:Nestao
LOCATION:Kino Tuškanac
DESCRIPTION:Missing, 1982 R: Costa-Gavras Costa-Gavras
END:VEVENT
END:VCALENDAR