BEGIN:VCALENDAR
VERSION:2.0
PRODID:-//Kino Tuškanac//Filmski programi//HR
URL:http://kinotuskanac/calendar/cycle/143
NAME:Kino Tuškanac ciklus Ciklus njemačkog filma
X-WR-CALNAME:Kino Tuškanac ciklus Ciklus njemačkog filma
TIMEZONE-ID:Europe/Zagreb
X-WR-TIMEZONE:Europe/Zagreb
REFRESH-INTERVAL;VALUE=DURATION:PT12H
X-PUBLISHED-TTL:PT12H
METHOD:PUBLISH
BEGIN:VEVENT
UID:1a0c7aaca93e300cdb9e198f2f3b7556@kinotuskanac.hr
DTSTAMP:20260421T113559Z
DTSTART:20071126T190000
DTEND:20071126T210000
SUMMARY:Romanca u molu
LOCATION:Kino Tuškanac
DESCRIPTION:Romanze in Moll, 1943 R: Helmut Käutner
END:VEVENT

BEGIN:VEVENT
UID:c1b85d0cb578cf0f273839681f5e011f@kinotuskanac.hr
DTSTAMP:20260421T113559Z
DTSTART:20071126T210000
DTEND:20071126T230000
SUMMARY:Njemačka, blijeda mati
LOCATION:Kino Tuškanac
DESCRIPTION:Deutschland, bleiche Mutter, 1979 R: Helma Sanders-Brahms
END:VEVENT

BEGIN:VEVENT
UID:a2e950bf01b1bcf92ea0d5c05b19ab04@kinotuskanac.hr
DTSTAMP:20260421T113559Z
DTSTART:20071127T190000
DTEND:20071127T210000
SUMMARY:Ulica Velika sloboda br. 7
LOCATION:Kino Tuškanac
DESCRIPTION:Große Freiheit Nr. 7, 1944 R: Helmut Käutner
END:VEVENT

BEGIN:VEVENT
UID:84a28e53b3560b48792760a27732fbc5@kinotuskanac.hr
DTSTAMP:20260421T113559Z
DTSTART:20071127T210000
DTEND:20071127T230000
SUMMARY:Romanca u molu
LOCATION:Kino Tuškanac
DESCRIPTION:Romanze in Moll, 1943 R: Helmut Käutner
END:VEVENT

BEGIN:VEVENT
UID:5a2425d5d4637efb158ed3bc235f7768@kinotuskanac.hr
DTSTAMP:20260421T113559Z
DTSTART:20071128T190000
DTEND:20071128T210000
SUMMARY:Zvijezde
LOCATION:Kino Tuškanac
DESCRIPTION:Sterne, 1959 R: Konrad Wolf
END:VEVENT

BEGIN:VEVENT
UID:8c319eb72d85da0c838656d5949d9d3e@kinotuskanac.hr
DTSTAMP:20260421T113559Z
DTSTART:20071129T190000
DTEND:20071129T210000
SUMMARY:Ulica Velika sloboda br. 7
LOCATION:Kino Tuškanac
DESCRIPTION:Große Freiheit Nr. 7, 1944 R: Helmut Käutner
END:VEVENT

BEGIN:VEVENT
UID:f4f666b3eb83bf4237bbeeb30ccf3988@kinotuskanac.hr
DTSTAMP:20260421T113559Z
DTSTART:20071129T210000
DTEND:20071129T230000
SUMMARY:Zvijezde
LOCATION:Kino Tuškanac
DESCRIPTION:Sterne, 1959 R: Konrad Wolf
END:VEVENT

BEGIN:VEVENT
UID:e27bcd40a71c08aeec7a0a877f34b6c2@kinotuskanac.hr
DTSTAMP:20260421T113559Z
DTSTART:20071201T200000
DTEND:20071201T220000
SUMMARY:Njemačka, blijeda mati
LOCATION:Kino Tuškanac
DESCRIPTION:Deutschland, bleiche Mutter, 1979 R: Helma Sanders-Brahms
END:VEVENT
END:VCALENDAR