BEGIN:VCALENDAR
VERSION:2.0
PRODID:-//Kino Tuškanac//Filmski programi//HR
URL:http://kinotuskanac/calendar/cycle/147
NAME:Kino Tuškanac ciklus Druga smotra suvremenog talijanskog filma u Zagrebu
X-WR-CALNAME:Kino Tuškanac ciklus Druga smotra suvremenog talijanskog filma u Zagrebu
TIMEZONE-ID:Europe/Zagreb
X-WR-TIMEZONE:Europe/Zagreb
REFRESH-INTERVAL;VALUE=DURATION:PT12H
X-PUBLISHED-TTL:PT12H
METHOD:PUBLISH
BEGIN:VEVENT
UID:36d2a2efb47c0c7e47d9a04a2fe9b095@kinotuskanac.hr
DTSTAMP:20260423T143530Z
DTSTART:20071112T183000
DTEND:20071112T203000
SUMMARY:Otvara se rasprava
LOCATION:Kino Tuškanac
DESCRIPTION:L' udienza e aperta, 2006 R: Vincenzo Marra
END:VEVENT

BEGIN:VEVENT
UID:4657818a13011798a2dee8a9596053d1@kinotuskanac.hr
DTSTAMP:20260423T143530Z
DTSTART:20071112T194500
DTEND:20071112T214500
SUMMARY:Gospa na nebu, mater na zemlji
LOCATION:Kino Tuškanac
DESCRIPTION:Madonna in cielo, la” matre” in terra, 2006 R: Luigi Di Gianni
END:VEVENT

BEGIN:VEVENT
UID:a57065f8852dfdf4cddc819490149d6b@kinotuskanac.hr
DTSTAMP:20260423T143530Z
DTSTART:20071112T210000
DTEND:20071112T230000
SUMMARY:Nepostojeća zvijezda
LOCATION:Kino Tuškanac
DESCRIPTION:La stella che non c’e, 2006 R: Gianni Amelio
END:VEVENT

BEGIN:VEVENT
UID:6dfbdc6e4f529357bd5b6db40bdeeba1@kinotuskanac.hr
DTSTAMP:20260423T143530Z
DTSTART:20071113T183000
DTEND:20071113T203000
SUMMARY:Ljeto moga brata
LOCATION:Kino Tuškanac
DESCRIPTION:L' estate di mio fratello, 2005 R: Pietro Reggiani
END:VEVENT

BEGIN:VEVENT
UID:c606e618726561813479e72cbf388f3d@kinotuskanac.hr
DTSTAMP:20260423T143530Z
DTSTART:20071113T210000
DTEND:20071113T230000
SUMMARY:Orkestar s Trga Vittorio
LOCATION:Kino Tuškanac
DESCRIPTION:L' orchestra di Piazza Vittorio, 2006 R: Agostino Ferrente
END:VEVENT

BEGIN:VEVENT
UID:e1e8b40de1bb590b6693a28c48f735d2@kinotuskanac.hr
DTSTAMP:20260423T143530Z
DTSTART:20071114T183000
DTEND:20071114T203000
SUMMARY:Preodgajanje
LOCATION:Kino Tuškanac
DESCRIPTION:La rieducazione, 2006 R: Davide Alfonsi, Alessandro Fusto, Denis Malagnino
END:VEVENT

BEGIN:VEVENT
UID:1e903fc3cc30c5068f9bfabbca615e79@kinotuskanac.hr
DTSTAMP:20260423T143530Z
DTSTART:20071114T210000
DTEND:20071114T230000
SUMMARY:Tri dana anarhije
LOCATION:Kino Tuškanac
DESCRIPTION:Tre giorni di anarchia, 2004 R: Vito Zagarrio
END:VEVENT

BEGIN:VEVENT
UID:b8273ef9ee5ba42b0346787d14565497@kinotuskanac.hr
DTSTAMP:20260423T143530Z
DTSTART:20071115T183000
DTEND:20071115T203000
SUMMARY:Zaručnici
LOCATION:Kino Tuškanac
DESCRIPTION:I promessi sposi, 2007 R: Massimo D’Anolfi
END:VEVENT

BEGIN:VEVENT
UID:28aea846c01e1ae84224554167f7fbda@kinotuskanac.hr
DTSTAMP:20260423T143530Z
DTSTART:20071115T210000
DTEND:20071115T230000
SUMMARY:Pisma iz Sahare
LOCATION:Kino Tuškanac
DESCRIPTION:Lettere dal Sahara, 2006 R: Vittorio De Seta
END:VEVENT

BEGIN:VEVENT
UID:74852629a2be534397aeed8553b6bfcf@kinotuskanac.hr
DTSTAMP:20260423T143530Z
DTSTART:20071116T183000
DTEND:20071116T203000
SUMMARY:Baiano
LOCATION:Kino Tuškanac
DESCRIPTION:2005 R: Elisabetta Bernardini
END:VEVENT

BEGIN:VEVENT
UID:aba7080ee1e9ad3fff69e61da6369a57@kinotuskanac.hr
DTSTAMP:20260423T143530Z
DTSTART:20071116T184500
DTEND:20071116T204500
SUMMARY:Kad se vatra ugasi
LOCATION:Kino Tuškanac
DESCRIPTION:Quando il fuoco si spegne, 2006 R: Ivan Gergolet
END:VEVENT

BEGIN:VEVENT
UID:97ceabd7194cdf83dc3b926fd275bc6e@kinotuskanac.hr
DTSTAMP:20260423T143530Z
DTSTART:20071116T191500
DTEND:20071116T211500
SUMMARY:Naš dragi Pasolini
LOCATION:Kino Tuškanac
DESCRIPTION:Pasolini prossimo nostro, 2006 R: Giuseppe Bertolucci
END:VEVENT

BEGIN:VEVENT
UID:5c27886f5b4ad64fbe0dc6caae912cab@kinotuskanac.hr
DTSTAMP:20260423T143530Z
DTSTART:20071116T210000
DTEND:20071116T230000
SUMMARY:Brđanin Jimmy
LOCATION:Kino Tuškanac
DESCRIPTION:Jimmy della collina, 2006 R: Enrico Pau
END:VEVENT

BEGIN:VEVENT
UID:6d1d7d43f81aaf712ddcfbfda314d8e2@kinotuskanac.hr
DTSTAMP:20260423T143530Z
DTSTART:20071117T183000
DTEND:20071117T203000
SUMMARY:4-4-2 Najljepša igra na svijetu
LOCATION:Kino Tuškanac
DESCRIPTION:4-4-2 Il gioco più bello del mondo, 2006 R: Michele Carillo
END:VEVENT

BEGIN:VEVENT
UID:7bdb2ece03cb69495030739c20e1b414@kinotuskanac.hr
DTSTAMP:20260423T143530Z
DTSTART:20071117T210000
DTEND:20071117T230000
SUMMARY:Okrznuti se
LOCATION:Kino Tuškanac
DESCRIPTION:Sfiorarsi, 2006 R: Angelo Orlando
END:VEVENT
END:VCALENDAR