BEGIN:VCALENDAR
VERSION:2.0
PRODID:-//Kino Tuškanac//Filmski programi//HR
URL:http://kinotuskanac/calendar/cycle/153
NAME:Kino Tuškanac ciklus Ciklus suvremenog iranskog filma II
X-WR-CALNAME:Kino Tuškanac ciklus Ciklus suvremenog iranskog filma II
TIMEZONE-ID:Europe/Zagreb
X-WR-TIMEZONE:Europe/Zagreb
REFRESH-INTERVAL;VALUE=DURATION:PT12H
X-PUBLISHED-TTL:PT12H
METHOD:PUBLISH
BEGIN:VEVENT
UID:3e48f02391898c6f546b2c090fb2ef0a@kinotuskanac.hr
DTSTAMP:20260420T003237Z
DTSTART:20080304T200000
DTEND:20080304T220000
SUMMARY:Noćni autobus
LOCATION:Kino Tuškanac
DESCRIPTION:Autobus-e Shahbaneh, 2007 R: Kiomars Pourahmad
END:VEVENT

BEGIN:VEVENT
UID:3bfff2a06371591272ab680d09156c77@kinotuskanac.hr
DTSTAMP:20260420T003237Z
DTSTART:20080305T190000
DTEND:20080305T210000
SUMMARY:Noćni autobus
LOCATION:Kino Tuškanac
DESCRIPTION:Autobus-e Shahbaneh, 2007 R: Kiomars Pourahmad
END:VEVENT

BEGIN:VEVENT
UID:c9fd542b461380bece303c972bb0cf40@kinotuskanac.hr
DTSTAMP:20260420T003237Z
DTSTART:20080305T210000
DTEND:20080305T230000
SUMMARY:Sunce svima jednako sije
LOCATION:Kino Tuškanac
DESCRIPTION:Aftab Bar Hame Yeksan Mitabad, 2006 R: Abbas Rafei
END:VEVENT

BEGIN:VEVENT
UID:90b148323eb1af62863985a067e31a00@kinotuskanac.hr
DTSTAMP:20260420T003237Z
DTSTART:20080306T190000
DTEND:20080306T210000
SUMMARY:Sunce svima jednako sije
LOCATION:Kino Tuškanac
DESCRIPTION:Aftab Bar Hame Yeksan Mitabad, 2006 R: Abbas Rafei
END:VEVENT

BEGIN:VEVENT
UID:0905b08c5d7248a803d4e991ad298f52@kinotuskanac.hr
DTSTAMP:20260420T003237Z
DTSTART:20080306T210000
DTEND:20080306T230000
SUMMARY:Obrisi dana
LOCATION:Kino Tuškanac
DESCRIPTION:Rooz bar miadad, 2007 R: Bijan Mirbagheri
END:VEVENT

BEGIN:VEVENT
UID:368620cfc786ddfedff60215d8843fdc@kinotuskanac.hr
DTSTAMP:20260420T003237Z
DTSTART:20080307T190000
DTEND:20080307T210000
SUMMARY:Obrisi dana
LOCATION:Kino Tuškanac
DESCRIPTION:Rooz bar miadad, 2007 R: Bijan Mirbagheri
END:VEVENT

BEGIN:VEVENT
UID:e9b6f3989b16e03b87a0b868f7be5550@kinotuskanac.hr
DTSTAMP:20260420T003237Z
DTSTART:20080307T210000
DTEND:20080307T230000
SUMMARY:Ubrizgavanje
LOCATION:Kino Tuškanac
DESCRIPTION:Khoon bazi, Iran, 2006 R: Rakhshan Bani-Etemad, Mohsen Abdolvahab
END:VEVENT

BEGIN:VEVENT
UID:8de070019d823acb51e23a73b2e4c074@kinotuskanac.hr
DTSTAMP:20260420T003237Z
DTSTART:20080308T190000
DTEND:20080308T210000
SUMMARY:Ubrizgavanje
LOCATION:Kino Tuškanac
DESCRIPTION:Khoon bazi, Iran, 2006 R: Rakhshan Bani-Etemad, Mohsen Abdolvahab
END:VEVENT

BEGIN:VEVENT
UID:24fc6130e5a790385e2e095790b7e836@kinotuskanac.hr
DTSTAMP:20260420T003237Z
DTSTART:20080308T210000
DTEND:20080308T230000
SUMMARY:Mamin gost
LOCATION:Kino Tuškanac
DESCRIPTION:Mehmane maman, 2004 R: Dariush Mehrjui
END:VEVENT

BEGIN:VEVENT
UID:82bf79d023bd7acb4ad47598d6b2f0cd@kinotuskanac.hr
DTSTAMP:20260420T003237Z
DTSTART:20080309T190000
DTEND:20080309T210000
SUMMARY:Mamin gost
LOCATION:Kino Tuškanac
DESCRIPTION:Mehmane maman, 2004 R: Dariush Mehrjui
END:VEVENT
END:VCALENDAR