BEGIN:VCALENDAR
VERSION:2.0
PRODID:-//Kino Tuškanac//Filmski programi//HR
URL:http://kinotuskanac/calendar/cycle/158
NAME:Kino Tuškanac ciklus Filmovi Jacquesa Demyja
X-WR-CALNAME:Kino Tuškanac ciklus Filmovi Jacquesa Demyja
TIMEZONE-ID:Europe/Zagreb
X-WR-TIMEZONE:Europe/Zagreb
REFRESH-INTERVAL;VALUE=DURATION:PT12H
X-PUBLISHED-TTL:PT12H
METHOD:PUBLISH
BEGIN:VEVENT
UID:94ea34c6ef256e919694c9e2d335449e@kinotuskanac.hr
DTSTAMP:20260423T150115Z
DTSTART:20080429T200000
DTEND:20080429T220000
SUMMARY:Cherbourški kišobrani
LOCATION:Kino Tuškanac
DESCRIPTION:Les parapluies de Cherbourg, Francuska, Zapadna Njemačka, 1964 | Mjesto prikazivanja filma: Kulturno informativni centar KIC (Preradovićeva ul. 5) R: Jacques Demy
END:VEVENT

BEGIN:VEVENT
UID:e5e06e515a7335f7d27c29a3b717ed22@kinotuskanac.hr
DTSTAMP:20260423T150115Z
DTSTART:20080430T190000
DTEND:20080430T210000
SUMMARY:Cherbourški kišobrani
LOCATION:Kino Tuškanac
DESCRIPTION:Les parapluies de Cherbourg, Francuska, Zapadna Njemačka, 1964 | Mjesto prikazivanja filma: Kulturno informativni centar KIC (Preradovićeva ul. 5) R: Jacques Demy
END:VEVENT

BEGIN:VEVENT
UID:eb91b38f40cee09c7075c8ed80e85040@kinotuskanac.hr
DTSTAMP:20260423T150115Z
DTSTART:20080430T210000
DTEND:20080430T230000
SUMMARY:Lola
LOCATION:Kino Tuškanac
DESCRIPTION:Francuska, Italija, 1961 | Mjesto prikazivanja filma: Kulturno informativni centar KIC (Preradovićeva ul. 5) R: Jacques Demy
END:VEVENT

BEGIN:VEVENT
UID:eddca58541a9550327a5e05d4844e7c8@kinotuskanac.hr
DTSTAMP:20260423T150115Z
DTSTART:20080502T190000
DTEND:20080502T210000
SUMMARY:Lola
LOCATION:Kino Tuškanac
DESCRIPTION:Francuska, Italija, 1961 | Mjesto prikazivanja filma: Kulturno informativni centar KIC (Preradovićeva ul. 5) R: Jacques Demy
END:VEVENT

BEGIN:VEVENT
UID:bd268823d993a83633832fcdd2553ed1@kinotuskanac.hr
DTSTAMP:20260423T150115Z
DTSTART:20080502T210000
DTEND:20080502T230000
SUMMARY:Zaljev anđela
LOCATION:Kino Tuškanac
DESCRIPTION:La baie des anges, Francuska, 1963 | Mjesto prikazivanja filma: Kulturno informativni centar KIC (Preradovićeva ul. 5) R: Jacques Demy
END:VEVENT

BEGIN:VEVENT
UID:50aab83c9b8a0a5f6901b80c9d11ff47@kinotuskanac.hr
DTSTAMP:20260423T150115Z
DTSTART:20080503T190000
DTEND:20080503T210000
SUMMARY:Zaljev anđela
LOCATION:Kino Tuškanac
DESCRIPTION:La baie des anges, Francuska, 1963 | Mjesto prikazivanja filma: Kulturno informativni centar KIC (Preradovićeva ul. 5) R: Jacques Demy
END:VEVENT

BEGIN:VEVENT
UID:c2aab71bb847e91b4101e5c4dc0d87b1@kinotuskanac.hr
DTSTAMP:20260423T150116Z
DTSTART:20080503T210000
DTEND:20080503T230000
SUMMARY:Magareća koža
LOCATION:Kino Tuškanac
DESCRIPTION:Peau d'âne, Francuska, 1970 | Mjesto prikazivanja filma: Kulturno informativni centar KIC (Preradovićeva ul. 5) R: Jacques Demy
END:VEVENT

BEGIN:VEVENT
UID:cea1ba28bb035276775eb61bba46f28d@kinotuskanac.hr
DTSTAMP:20260423T150116Z
DTSTART:20080505T190000
DTEND:20080505T210000
SUMMARY:Magareća koža
LOCATION:Kino Tuškanac
DESCRIPTION:Peau d'âne, Francuska, 1970 | Mjesto prikazivanja filma: Kulturno informativni centar KIC (Preradovićeva ul. 5) R: Jacques Demy
END:VEVENT

BEGIN:VEVENT
UID:d0dbc11905883de6b0beded9a63c3f91@kinotuskanac.hr
DTSTAMP:20260423T150116Z
DTSTART:20080505T210000
DTEND:20080505T230000
SUMMARY:Gospođice iz Rocheforta
LOCATION:Kino Tuškanac
DESCRIPTION:Les demoiselles de Rochefort, Francuska, 1967 | Mjesto prikazivanja filma: Kulturno informativni centar KIC (Preradovićeva ul. 5) R: Jacques Demy
END:VEVENT

BEGIN:VEVENT
UID:b6527d118a7248598a28afa3436c0582@kinotuskanac.hr
DTSTAMP:20260423T150116Z
DTSTART:20080506T190000
DTEND:20080506T210000
SUMMARY:Gospođice iz Rocheforta
LOCATION:Kino Tuškanac
DESCRIPTION:Les demoiselles de Rochefort, Francuska, 1967 | Mjesto prikazivanja filma: Kulturno informativni centar KIC (Preradovićeva ul. 5) R: Jacques Demy
END:VEVENT

BEGIN:VEVENT
UID:301fe366d50a5d6f6d014ef49b227a2b@kinotuskanac.hr
DTSTAMP:20260423T150116Z
DTSTART:20080506T210000
DTEND:20080506T230000
SUMMARY:Jacquot de Nantes
LOCATION:Kino Tuškanac
DESCRIPTION:1991 R: Agnès Varda
END:VEVENT

BEGIN:VEVENT
UID:fb61d73b4f82089a36805a09311da872@kinotuskanac.hr
DTSTAMP:20260423T150116Z
DTSTART:20140620T190000
DTEND:20140620T210000
SUMMARY:Cherbourški kišobrani
LOCATION:Kino Tuškanac
DESCRIPTION:Les parapluies de Cherbourg, Francuska, Zapadna Njemačka, 1964 | Mjesto prikazivanja filma: Kulturno informativni centar KIC (Preradovićeva ul. 5) R: Jacques Demy
END:VEVENT

BEGIN:VEVENT
UID:0620ae7423380dacfd7bd8f01337767d@kinotuskanac.hr
DTSTAMP:20260423T150116Z
DTSTART:20140620T210000
DTEND:20140620T230000
SUMMARY:Magareća koža
LOCATION:Kino Tuškanac
DESCRIPTION:Peau d'âne, Francuska, 1970 | Mjesto prikazivanja filma: Kulturno informativni centar KIC (Preradovićeva ul. 5) R: Jacques Demy
END:VEVENT

BEGIN:VEVENT
UID:feb9a8749e06afc4511651174a1d1522@kinotuskanac.hr
DTSTAMP:20260423T150116Z
DTSTART:20140621T190000
DTEND:20140621T210000
SUMMARY:Magareća koža
LOCATION:Kino Tuškanac
DESCRIPTION:Peau d'âne, Francuska, 1970 | Mjesto prikazivanja filma: Kulturno informativni centar KIC (Preradovićeva ul. 5) R: Jacques Demy
END:VEVENT

BEGIN:VEVENT
UID:0e95daedd3fd338242156dd15769758d@kinotuskanac.hr
DTSTAMP:20260423T150116Z
DTSTART:20140621T210000
DTEND:20140621T230000
SUMMARY:Cherbourški kišobrani
LOCATION:Kino Tuškanac
DESCRIPTION:Les parapluies de Cherbourg, Francuska, Zapadna Njemačka, 1964 | Mjesto prikazivanja filma: Kulturno informativni centar KIC (Preradovićeva ul. 5) R: Jacques Demy
END:VEVENT

BEGIN:VEVENT
UID:25a839a203c2ad90923dc27ec7d8893b@kinotuskanac.hr
DTSTAMP:20260423T150116Z
DTSTART:20140623T190000
DTEND:20140623T210000
SUMMARY:Gospođice iz Rocheforta
LOCATION:Kino Tuškanac
DESCRIPTION:Les demoiselles de Rochefort, Francuska, 1967 | Mjesto prikazivanja filma: Kulturno informativni centar KIC (Preradovićeva ul. 5) R: Jacques Demy
END:VEVENT

BEGIN:VEVENT
UID:eca92e8ec32b173ddba31ccc6b8d3000@kinotuskanac.hr
DTSTAMP:20260423T150116Z
DTSTART:20140623T210000
DTEND:20140623T230000
SUMMARY:Zaljev anđela
LOCATION:Kino Tuškanac
DESCRIPTION:La baie des anges, Francuska, 1963 | Mjesto prikazivanja filma: Kulturno informativni centar KIC (Preradovićeva ul. 5) R: Jacques Demy
END:VEVENT

BEGIN:VEVENT
UID:aa1c704dd214f542c5c49a5b863e95d3@kinotuskanac.hr
DTSTAMP:20260423T150116Z
DTSTART:20140624T190000
DTEND:20140624T210000
SUMMARY:Zaljev anđela
LOCATION:Kino Tuškanac
DESCRIPTION:La baie des anges, Francuska, 1963 | Mjesto prikazivanja filma: Kulturno informativni centar KIC (Preradovićeva ul. 5) R: Jacques Demy
END:VEVENT

BEGIN:VEVENT
UID:098905f69d5f1307f423cfebdc2f6aa2@kinotuskanac.hr
DTSTAMP:20260423T150116Z
DTSTART:20140624T210000
DTEND:20140624T230000
SUMMARY:Lola
LOCATION:Kino Tuškanac
DESCRIPTION:Francuska, Italija, 1961 | Mjesto prikazivanja filma: Kulturno informativni centar KIC (Preradovićeva ul. 5) R: Jacques Demy
END:VEVENT

BEGIN:VEVENT
UID:04b0b7785ed4bf47f614efdc9de1fdee@kinotuskanac.hr
DTSTAMP:20260423T150116Z
DTSTART:20140626T190000
DTEND:20140626T210000
SUMMARY:Lola
LOCATION:Kino Tuškanac
DESCRIPTION:Francuska, Italija, 1961 | Mjesto prikazivanja filma: Kulturno informativni centar KIC (Preradovićeva ul. 5) R: Jacques Demy
END:VEVENT

BEGIN:VEVENT
UID:f1913e151cc18e705795e4caab633bc1@kinotuskanac.hr
DTSTAMP:20260423T150116Z
DTSTART:20140626T210000
DTEND:20140626T230000
SUMMARY:Gospođice iz Rocheforta
LOCATION:Kino Tuškanac
DESCRIPTION:Les demoiselles de Rochefort, Francuska, 1967 | Mjesto prikazivanja filma: Kulturno informativni centar KIC (Preradovićeva ul. 5) R: Jacques Demy
END:VEVENT
END:VCALENDAR