BEGIN:VCALENDAR
VERSION:2.0
PRODID:-//Kino Tuškanac//Filmski programi//HR
URL:http://kinotuskanac/calendar/cycle/17
NAME:Kino Tuškanac ciklus Program filmova za djecu i mladež
X-WR-CALNAME:Kino Tuškanac ciklus Program filmova za djecu i mladež
TIMEZONE-ID:Europe/Zagreb
X-WR-TIMEZONE:Europe/Zagreb
REFRESH-INTERVAL;VALUE=DURATION:PT12H
X-PUBLISHED-TTL:PT12H
METHOD:PUBLISH
BEGIN:VEVENT
UID:3c974bca0f624edf64826a29d591a1d9@kinotuskanac.hr
DTSTAMP:20260420T043748Z
DTSTART:20011030T150000
DTEND:20011030T170000
SUMMARY:Vuk samotnjak
LOCATION:Kino Tuškanac
DESCRIPTION:Jugoslavija: Hrvatska, 1972 | Mjesto prikazivanja filma: Kulturno informativni centar KIC (Preradovićeva ul. 5) R: Obrad Gluščević
END:VEVENT

BEGIN:VEVENT
UID:2a2f673634f5cb51282a89e2d034119d@kinotuskanac.hr
DTSTAMP:20260420T043748Z
DTSTART:20011106T150000
DTEND:20011106T170000
SUMMARY:Vlak u snijegu
LOCATION:Kino Tuškanac
DESCRIPTION:Jugoslavija: Hrvatska, 1976 | Mjesto prikazivanja filma: Scena Ribnjak (Centar mladih Ribnjak, Park Ribnjak 1) R: Mate Relja
END:VEVENT

BEGIN:VEVENT
UID:de2e5a6d14a8f53ebf8f8436093c8ae4@kinotuskanac.hr
DTSTAMP:20260420T043748Z
DTSTART:20011113T150000
DTEND:20011113T170000
SUMMARY:Imam dvije mame i dva tate
LOCATION:Kino Tuškanac
DESCRIPTION:1968 R: Krešo Golik
END:VEVENT

BEGIN:VEVENT
UID:0a4a381075ec666b6c3b99925c59bd45@kinotuskanac.hr
DTSTAMP:20260420T043748Z
DTSTART:20011120T150000
DTEND:20011120T170000
SUMMARY:Družba Pere Kvržice
LOCATION:Kino Tuškanac
DESCRIPTION:Jugoslavija: Hrvatska, 1970 | Mjesto prikazivanja filma: Scena Ribnjak (Centar mladih Ribnjak, Park Ribnjak 1) R: Vladimir Tadej
END:VEVENT

BEGIN:VEVENT
UID:83942e7865ef37153703f106b8ed6d6b@kinotuskanac.hr
DTSTAMP:20260420T043748Z
DTSTART:20040605T170000
DTEND:20040605T190000
SUMMARY:Družba Pere Kvržice
LOCATION:Kino Tuškanac
DESCRIPTION:Jugoslavija: Hrvatska, 1970 | Mjesto prikazivanja filma: Scena Ribnjak (Centar mladih Ribnjak, Park Ribnjak 1) R: Vladimir Tadej
END:VEVENT

BEGIN:VEVENT
UID:33d0ec6f7860327c0437b11ac49b9899@kinotuskanac.hr
DTSTAMP:20260420T043748Z
DTSTART:20040612T170000
DTEND:20040612T190000
SUMMARY:Vuk samotnjak
LOCATION:Kino Tuškanac
DESCRIPTION:Jugoslavija: Hrvatska, 1972 | Mjesto prikazivanja filma: Kulturno informativni centar KIC (Preradovićeva ul. 5) R: Obrad Gluščević
END:VEVENT

BEGIN:VEVENT
UID:67551ff55ea934b2a1e8645c7cd3f1e5@kinotuskanac.hr
DTSTAMP:20260420T043748Z
DTSTART:20041009T170000
DTEND:20041009T190000
SUMMARY:Imam dvije mame i dva tate
LOCATION:Kino Tuškanac
DESCRIPTION:1968 R: Krešo Golik
END:VEVENT

BEGIN:VEVENT
UID:5c6452199c2236e1d9333258bc17b3e6@kinotuskanac.hr
DTSTAMP:20260420T043748Z
DTSTART:20041023T170000
DTEND:20041023T190000
SUMMARY:Vlak u snijegu
LOCATION:Kino Tuškanac
DESCRIPTION:Jugoslavija: Hrvatska, 1976 | Mjesto prikazivanja filma: Scena Ribnjak (Centar mladih Ribnjak, Park Ribnjak 1) R: Mate Relja
END:VEVENT

BEGIN:VEVENT
UID:01f7ada368713d7483c3e10a385087e4@kinotuskanac.hr
DTSTAMP:20260420T043748Z
DTSTART:20131206T180000
DTEND:20131206T200000
SUMMARY:Družba Pere Kvržice
LOCATION:Kino Tuškanac
DESCRIPTION:Jugoslavija: Hrvatska, 1970 | Mjesto prikazivanja filma: Scena Ribnjak (Centar mladih Ribnjak, Park Ribnjak 1) R: Vladimir Tadej
END:VEVENT

BEGIN:VEVENT
UID:5fe54b2512efc4948a9c011cf83f523a@kinotuskanac.hr
DTSTAMP:20260420T043748Z
DTSTART:20131206T200000
DTEND:20131206T220000
SUMMARY:Vuk samotnjak
LOCATION:Kino Tuškanac
DESCRIPTION:Jugoslavija: Hrvatska, 1972 | Mjesto prikazivanja filma: Kulturno informativni centar KIC (Preradovićeva ul. 5) R: Obrad Gluščević
END:VEVENT

BEGIN:VEVENT
UID:9b0381f48aa7921ddc6b75c767135cd8@kinotuskanac.hr
DTSTAMP:20260420T043748Z
DTSTART:20131207T200000
DTEND:20131207T220000
SUMMARY:Vlak u snijegu
LOCATION:Kino Tuškanac
DESCRIPTION:Jugoslavija: Hrvatska, 1976 | Mjesto prikazivanja filma: Scena Ribnjak (Centar mladih Ribnjak, Park Ribnjak 1) R: Mate Relja
END:VEVENT
END:VCALENDAR