BEGIN:VCALENDAR
VERSION:2.0
PRODID:-//Kino Tuškanac//Filmski programi//HR
URL:http://kinotuskanac/calendar/cycle/171
NAME:Kino Tuškanac ciklus Sjećanje na Charltona Hestona
X-WR-CALNAME:Kino Tuškanac ciklus Sjećanje na Charltona Hestona
TIMEZONE-ID:Europe/Zagreb
X-WR-TIMEZONE:Europe/Zagreb
REFRESH-INTERVAL;VALUE=DURATION:PT12H
X-PUBLISHED-TTL:PT12H
METHOD:PUBLISH
BEGIN:VEVENT
UID:a982674c3f06ce3500b52ff7241e1a11@kinotuskanac.hr
DTSTAMP:20260420T182445Z
DTSTART:20081001T190000
DTEND:20081001T210000
SUMMARY:Dodir zla
LOCATION:Kino Tuškanac
DESCRIPTION:Touch of Evil, SAD, 1958 R: Orson Welles
END:VEVENT

BEGIN:VEVENT
UID:1802e3e7c565af8554aa3ac17a33f1cf@kinotuskanac.hr
DTSTAMP:20260420T182445Z
DTSTART:20151218T190000
DTEND:20151218T210000
SUMMARY:Dodir zla
LOCATION:Kino Tuškanac
DESCRIPTION:Touch of Evil, SAD, 1958 R: Orson Welles
END:VEVENT

BEGIN:VEVENT
UID:3979a257916aabe6cceefba5a957b338@kinotuskanac.hr
DTSTAMP:20260420T182445Z
DTSTART:20151219T210000
DTEND:20151219T230000
SUMMARY:Dodir zla
LOCATION:Kino Tuškanac
DESCRIPTION:Touch of Evil, SAD, 1958 R: Orson Welles
END:VEVENT
END:VCALENDAR