BEGIN:VCALENDAR
VERSION:2.0
PRODID:-//Kino Tuškanac//Filmski programi//HR
URL:http://kinotuskanac/calendar/cycle/172
NAME:Kino Tuškanac ciklus Sjećanje na Dina Risija
X-WR-CALNAME:Kino Tuškanac ciklus Sjećanje na Dina Risija
TIMEZONE-ID:Europe/Zagreb
X-WR-TIMEZONE:Europe/Zagreb
REFRESH-INTERVAL;VALUE=DURATION:PT12H
X-PUBLISHED-TTL:PT12H
METHOD:PUBLISH
BEGIN:VEVENT
UID:79f2e52f48d363de0839a2cba694fefb@kinotuskanac.hr
DTSTAMP:20260422T184155Z
DTSTART:20081002T190000
DTEND:20081002T210000
SUMMARY:Miris žene
LOCATION:Kino Tuškanac
DESCRIPTION:Profumo di donna, 1974 R: Dino Risi
END:VEVENT
END:VCALENDAR