BEGIN:VCALENDAR
VERSION:2.0
PRODID:-//Kino Tuškanac//Filmski programi//HR
URL:http://kinotuskanac/calendar/cycle/173
NAME:Kino Tuškanac ciklus Sjećanje na Roya Scheidera
X-WR-CALNAME:Kino Tuškanac ciklus Sjećanje na Roya Scheidera
TIMEZONE-ID:Europe/Zagreb
X-WR-TIMEZONE:Europe/Zagreb
REFRESH-INTERVAL;VALUE=DURATION:PT12H
X-PUBLISHED-TTL:PT12H
METHOD:PUBLISH
BEGIN:VEVENT
UID:e0da1c51b25527ef25ef4a7c970b8a13@kinotuskanac.hr
DTSTAMP:20260423T143615Z
DTSTART:20081003T190000
DTEND:20081003T210000
SUMMARY:Sav taj jazz
LOCATION:Kino Tuškanac
DESCRIPTION:All That Jazz, SAD, 1979 | Mjesto prikazivanja filma: Kulturno informativni centar KIC (Preradovićeva ul. 5) R: Bob Fosse
END:VEVENT
END:VCALENDAR