BEGIN:VCALENDAR
VERSION:2.0
PRODID:-//Kino Tuškanac//Filmski programi//HR
URL:http://kinotuskanac/calendar/cycle/177
NAME:Kino Tuškanac ciklus Sjećanje na Semku Sokolović Bertok
X-WR-CALNAME:Kino Tuškanac ciklus Sjećanje na Semku Sokolović Bertok
TIMEZONE-ID:Europe/Zagreb
X-WR-TIMEZONE:Europe/Zagreb
REFRESH-INTERVAL;VALUE=DURATION:PT12H
X-PUBLISHED-TTL:PT12H
METHOD:PUBLISH
BEGIN:VEVENT
UID:0ed79708021cf799e9ebba9216055d08@kinotuskanac.hr
DTSTAMP:20260419T155132Z
DTSTART:20081007T190000
DTEND:20081007T210000
SUMMARY:Majstori, majstori!
LOCATION:Kino Tuškanac
DESCRIPTION:1980 R: Goran Marković
END:VEVENT
END:VCALENDAR