BEGIN:VCALENDAR
VERSION:2.0
PRODID:-//Kino Tuškanac//Filmski programi//HR
URL:http://kinotuskanac/calendar/cycle/186
NAME:Kino Tuškanac ciklus Ciklus filmova Andrzeja Wajde
X-WR-CALNAME:Kino Tuškanac ciklus Ciklus filmova Andrzeja Wajde
TIMEZONE-ID:Europe/Zagreb
X-WR-TIMEZONE:Europe/Zagreb
REFRESH-INTERVAL;VALUE=DURATION:PT12H
X-PUBLISHED-TTL:PT12H
METHOD:PUBLISH
BEGIN:VEVENT
UID:c3be1b02078898517765f1caf7ebd95d@kinotuskanac.hr
DTSTAMP:20260420T100412Z
DTSTART:20090228T190000
DTEND:20090228T210000
SUMMARY:Pokoljenje
LOCATION:Kino Tuškanac
DESCRIPTION:Pokolenie, Poljska, 1955 | Mjesto prikazivanja filma: Kino Forum (SD Stjepan Radić, Jarunska ul. 2) R: Andrzej Wajda
END:VEVENT

BEGIN:VEVENT
UID:4870808ccfe96d25b92f75dff343d7ab@kinotuskanac.hr
DTSTAMP:20260420T100412Z
DTSTART:20090228T210000
DTEND:20090228T230000
SUMMARY:Kanal
LOCATION:Kino Tuškanac
DESCRIPTION:Poljska, 1957 | Mjesto prikazivanja filma: Kino Forum (SD Stjepan Radić, Jarunska ul. 2) R: Andrzej Wajda
END:VEVENT

BEGIN:VEVENT
UID:637cee17c454fb0009c069f77321ba58@kinotuskanac.hr
DTSTAMP:20260420T100412Z
DTSTART:20090302T190000
DTEND:20090302T210000
SUMMARY:Kanal
LOCATION:Kino Tuškanac
DESCRIPTION:Poljska, 1957 | Mjesto prikazivanja filma: Kino Forum (SD Stjepan Radić, Jarunska ul. 2) R: Andrzej Wajda
END:VEVENT

BEGIN:VEVENT
UID:312869dbb3f8ab4af274d83ff1bda911@kinotuskanac.hr
DTSTAMP:20260420T100412Z
DTSTART:20090302T210000
DTEND:20090302T230000
SUMMARY:Pokoljenje
LOCATION:Kino Tuškanac
DESCRIPTION:Pokolenie, Poljska, 1955 | Mjesto prikazivanja filma: Kino Forum (SD Stjepan Radić, Jarunska ul. 2) R: Andrzej Wajda
END:VEVENT

BEGIN:VEVENT
UID:4d6656956c553a2625a02f87cacfc4e7@kinotuskanac.hr
DTSTAMP:20260420T100412Z
DTSTART:20090303T190000
DTEND:20090303T210000
SUMMARY:Samson
LOCATION:Kino Tuškanac
DESCRIPTION:1961 R: Andrzej Wajda
END:VEVENT

BEGIN:VEVENT
UID:b7f2fbad9881f81cfa4d93b746223267@kinotuskanac.hr
DTSTAMP:20260420T100412Z
DTSTART:20090303T210000
DTEND:20090303T230000
SUMMARY:Ljubav u dvadesetoj
LOCATION:Kino Tuškanac
DESCRIPTION:L' amour a vingt ans, 1962 R: Andrzej Wajda
END:VEVENT

BEGIN:VEVENT
UID:9904ab729b8bc3ca7f3c64c567ab0f1d@kinotuskanac.hr
DTSTAMP:20260420T100412Z
DTSTART:20090304T200000
DTEND:20090304T220000
SUMMARY:Katyn
LOCATION:Kino Tuškanac
DESCRIPTION:Poljska, 2007 R: Andrzej Wajda
END:VEVENT

BEGIN:VEVENT
UID:bf13a1adf693bebd78d665fcdac40a8a@kinotuskanac.hr
DTSTAMP:20260420T100412Z
DTSTART:20090306T190000
DTEND:20090306T210000
SUMMARY:Ljubav u dvadesetoj
LOCATION:Kino Tuškanac
DESCRIPTION:L' amour a vingt ans, 1962 R: Andrzej Wajda
END:VEVENT

BEGIN:VEVENT
UID:905e3ebf534338fc0cb1b3f6845b0646@kinotuskanac.hr
DTSTAMP:20260420T100412Z
DTSTART:20090306T210000
DTEND:20090306T230000
SUMMARY:Samson
LOCATION:Kino Tuškanac
DESCRIPTION:1961 R: Andrzej Wajda
END:VEVENT

BEGIN:VEVENT
UID:8690cd86b42b0fa0be8d99546dc801aa@kinotuskanac.hr
DTSTAMP:20260420T100412Z
DTSTART:20090307T183000
DTEND:20090307T203000
SUMMARY:Čovjek od mramora
LOCATION:Kino Tuškanac
DESCRIPTION:Czlowiek z marmuru, Poljska, 1977 | Mjesto prikazivanja filma: Kino Forum (SD Stjepan Radić, Jarunska ul. 2) R: Andrzej Wajda
END:VEVENT

BEGIN:VEVENT
UID:436dceaca1b0e48dbcb865b2575b2c7c@kinotuskanac.hr
DTSTAMP:20260420T100412Z
DTSTART:20090307T210000
DTEND:20090307T230000
SUMMARY:Čovjek od željeza
LOCATION:Kino Tuškanac
DESCRIPTION:Czlowiek z zelaza, Poljska, 1981 | Mjesto prikazivanja filma: Kino Forum (SD Stjepan Radić, Jarunska ul. 2) R: Andrzej Wajda
END:VEVENT

BEGIN:VEVENT
UID:2e78ec9d34049f6a3ef80876206bad4a@kinotuskanac.hr
DTSTAMP:20260420T100412Z
DTSTART:20090316T183000
DTEND:20090316T203000
SUMMARY:Čovjek od željeza
LOCATION:Kino Tuškanac
DESCRIPTION:Czlowiek z zelaza, Poljska, 1981 | Mjesto prikazivanja filma: Kino Forum (SD Stjepan Radić, Jarunska ul. 2) R: Andrzej Wajda
END:VEVENT

BEGIN:VEVENT
UID:b98dd4a5b9e925992addc1e71474a53d@kinotuskanac.hr
DTSTAMP:20260420T100412Z
DTSTART:20090316T210000
DTEND:20090316T230000
SUMMARY:Sibirska ledi Magbet
LOCATION:Kino Tuškanac
DESCRIPTION:1961 R: Andrzej Wajda
END:VEVENT

BEGIN:VEVENT
UID:224a4373deebf2602e373b93fcac4ce8@kinotuskanac.hr
DTSTAMP:20260420T100412Z
DTSTART:20090318T190000
DTEND:20090318T210000
SUMMARY:Sibirska ledi Magbet
LOCATION:Kino Tuškanac
DESCRIPTION:1961 R: Andrzej Wajda
END:VEVENT

BEGIN:VEVENT
UID:b4246f539829fb15d4651babd1efb381@kinotuskanac.hr
DTSTAMP:20260420T100412Z
DTSTART:20090319T183000
DTEND:20090319T203000
SUMMARY:Čovjek od mramora
LOCATION:Kino Tuškanac
DESCRIPTION:Czlowiek z marmuru, Poljska, 1977 | Mjesto prikazivanja filma: Kino Forum (SD Stjepan Radić, Jarunska ul. 2) R: Andrzej Wajda
END:VEVENT

BEGIN:VEVENT
UID:6ee5dbf0ed4bf8836742099352a5a2df@kinotuskanac.hr
DTSTAMP:20260420T100412Z
DTSTART:20090305T213000
DTEND:20090305T233000
SUMMARY:Katyn
LOCATION:Kino Tuškanac
DESCRIPTION:Poljska, 2007 R: Andrzej Wajda
END:VEVENT
END:VCALENDAR