BEGIN:VCALENDAR
VERSION:2.0
PRODID:-//Kino Tuškanac//Filmski programi//HR
URL:http://kinotuskanac/calendar/cycle/204
NAME:Kino Tuškanac ciklus Sjećanje na Eliju Kazana
X-WR-CALNAME:Kino Tuškanac ciklus Sjećanje na Eliju Kazana
TIMEZONE-ID:Europe/Zagreb
X-WR-TIMEZONE:Europe/Zagreb
REFRESH-INTERVAL;VALUE=DURATION:PT12H
X-PUBLISHED-TTL:PT12H
METHOD:PUBLISH
BEGIN:VEVENT
UID:f2faf4eef75dc4684c10b5504f493c05@kinotuskanac.hr
DTSTAMP:20260423T144543Z
DTSTART:20090618T190000
DTEND:20090618T210000
SUMMARY:Bumerang (1947)
LOCATION:Kino Tuškanac
DESCRIPTION:Boomerang!, SAD, 1947 R: Elia Kazan
END:VEVENT

BEGIN:VEVENT
UID:776c4ed0a6615229b74b9c10c639ab9d@kinotuskanac.hr
DTSTAMP:20260423T144543Z
DTSTART:20090619T190000
DTEND:20090619T210000
SUMMARY:Panika na ulicama
LOCATION:Kino Tuškanac
DESCRIPTION:Panic in the Streets, SAD, 1950 R: Elia Kazan
END:VEVENT

BEGIN:VEVENT
UID:0c313940ca36ba2d60fc864521497e0d@kinotuskanac.hr
DTSTAMP:20260423T144543Z
DTSTART:20090620T190000
DTEND:20090620T210000
SUMMARY:Na dokovima New Yorka
LOCATION:Kino Tuškanac
DESCRIPTION:On the Waterfront, SAD, 1954 | Mjesto prikazivanja filma: Kino Forum (SD Stjepan Radić, Jarunska ul. 2) R: Elia Kazan
END:VEVENT

BEGIN:VEVENT
UID:cd6d5651912a404c9a15a706c8af1efe@kinotuskanac.hr
DTSTAMP:20260423T144543Z
DTSTART:20090623T190000
DTEND:20090623T210000
SUMMARY:Posljednji magnat
LOCATION:Kino Tuškanac
DESCRIPTION:Last Tycoon, 1976 R: Elia Kazan
END:VEVENT

BEGIN:VEVENT
UID:d71dfaf889e336150a601de19026102b@kinotuskanac.hr
DTSTAMP:20260423T144543Z
DTSTART:20090626T190000
DTEND:20090626T210000
SUMMARY:Amerika, Amerika
LOCATION:Kino Tuškanac
DESCRIPTION:America, America, SAD, 1963 R: Elia Kazan
END:VEVENT
END:VCALENDAR