BEGIN:VCALENDAR
VERSION:2.0
PRODID:-//Kino Tuškanac//Filmski programi//HR
URL:http://kinotuskanac/calendar/cycle/217
NAME:Kino Tuškanac ciklus IV smotra novog talijanskog filma u Zagrebu i Rijeci
X-WR-CALNAME:Kino Tuškanac ciklus IV smotra novog talijanskog filma u Zagrebu i Rijeci
TIMEZONE-ID:Europe/Zagreb
X-WR-TIMEZONE:Europe/Zagreb
REFRESH-INTERVAL;VALUE=DURATION:PT12H
X-PUBLISHED-TTL:PT12H
METHOD:PUBLISH
BEGIN:VEVENT
UID:5c5136568e9cc0dc3c20ebc4cf151e50@kinotuskanac.hr
DTSTAMP:20260423T143527Z
DTSTART:20091117T200000
DTEND:20091117T220000
SUMMARY:Kozmonaut
LOCATION:Kino Tuškanac
DESCRIPTION:Cosmonauta, Italija, 2008 R: Susanna Nicchiarelli
END:VEVENT

BEGIN:VEVENT
UID:07f176438ab1d0ea07804285d6b022d0@kinotuskanac.hr
DTSTAMP:20260423T143527Z
DTSTART:20091118T200000
DTEND:20091118T220000
SUMMARY:Za sve je kriv Juda
LOCATION:Kino Tuškanac
DESCRIPTION:Tutta colpa di Giuda, Italija, 2009 R: Davide Ferrario
END:VEVENT

BEGIN:VEVENT
UID:158794a7c8bfcde20933110cc99a56ae@kinotuskanac.hr
DTSTAMP:20260423T143527Z
DTSTART:20091119T190000
DTEND:20091119T210000
SUMMARY:S druge strane mora
LOCATION:Kino Tuškanac
DESCRIPTION:Dall'altra parte del mare, Italija, 2009 R: Jean Sarto
END:VEVENT

BEGIN:VEVENT
UID:800e241e415d4bd08f8cef19bf924cd6@kinotuskanac.hr
DTSTAMP:20260423T143527Z
DTSTART:20091119T210000
DTEND:20091119T230000
SUMMARY:Buntovnica sa Sicilije
LOCATION:Kino Tuškanac
DESCRIPTION:La siciliana ribelle, Italija, 2008 R: Marco Amenta
END:VEVENT

BEGIN:VEVENT
UID:59c186ef527c5cc8e5e7c8a9117eb08d@kinotuskanac.hr
DTSTAMP:20260423T143527Z
DTSTART:20091120T190000
DTEND:20091120T210000
SUMMARY:Posljednji Pulcinella
LOCATION:Kino Tuškanac
DESCRIPTION:L’ultimo Pulcinella, 2008 R: Maurizio Scaparro
END:VEVENT

BEGIN:VEVENT
UID:90a66c053eb891d052939b29d9d9dcd1@kinotuskanac.hr
DTSTAMP:20260423T143527Z
DTSTART:20091120T210000
DTEND:20091120T230000
SUMMARY:U tvojim rukama
LOCATION:Kino Tuškanac
DESCRIPTION:Nelle tue mani, Italija, 2007 R: Peter Del Monte
END:VEVENT

BEGIN:VEVENT
UID:324aecb35c8941c2478e6a2893d4682e@kinotuskanac.hr
DTSTAMP:20260423T143527Z
DTSTART:20091121T190000
DTEND:20091121T210000
SUMMARY:Giulia ne izlazi noću
LOCATION:Kino Tuškanac
DESCRIPTION:Giulia non esce la sera, Italija, 2009 R: Giuseppe Piccioni
END:VEVENT

BEGIN:VEVENT
UID:af516af7ce1c6ae4df43d664694bd1e0@kinotuskanac.hr
DTSTAMP:20260423T143527Z
DTSTART:20091121T210000
DTEND:20091121T230000
SUMMARY:Drugačiji od koga?
LOCATION:Kino Tuškanac
DESCRIPTION:Diverso da chi?, Italija, 2009 R: Umberto Carteni
END:VEVENT

BEGIN:VEVENT
UID:ceeb0bee1b3d62f4a50cdfa7938754d3@kinotuskanac.hr
DTSTAMP:20260423T143527Z
DTSTART:20091118T200000
DTEND:20091118T220000
SUMMARY:Kozmonaut
LOCATION:Kino Tuškanac
DESCRIPTION:Cosmonauta, Italija, 2008 R: Susanna Nicchiarelli
END:VEVENT

BEGIN:VEVENT
UID:dafa67c97f3490df31aeff907a52491e@kinotuskanac.hr
DTSTAMP:20260423T143527Z
DTSTART:20091119T200000
DTEND:20091119T220000
SUMMARY:Za sve je kriv Juda
LOCATION:Kino Tuškanac
DESCRIPTION:Tutta colpa di Giuda, Italija, 2009 R: Davide Ferrario
END:VEVENT

BEGIN:VEVENT
UID:fdd6c24796312ad74db9930a41e99af0@kinotuskanac.hr
DTSTAMP:20260423T143527Z
DTSTART:20091120T200000
DTEND:20091120T220000
SUMMARY:S druge strane mora
LOCATION:Kino Tuškanac
DESCRIPTION:Dall'altra parte del mare, Italija, 2009 R: Jean Sarto
END:VEVENT

BEGIN:VEVENT
UID:80319ca2cef0dfee9bcb42c0228d5fd0@kinotuskanac.hr
DTSTAMP:20260423T143527Z
DTSTART:20091121T200000
DTEND:20091121T220000
SUMMARY:Buntovnica sa Sicilije
LOCATION:Kino Tuškanac
DESCRIPTION:La siciliana ribelle, Italija, 2008 R: Marco Amenta
END:VEVENT

BEGIN:VEVENT
UID:815ddbd7aeab42cc3072653a10b6e63f@kinotuskanac.hr
DTSTAMP:20260423T143527Z
DTSTART:20091122T200000
DTEND:20091122T220000
SUMMARY:Posljednji Pulcinella
LOCATION:Kino Tuškanac
DESCRIPTION:L’ultimo Pulcinella, 2008 R: Maurizio Scaparro
END:VEVENT
END:VCALENDAR