BEGIN:VCALENDAR
VERSION:2.0
PRODID:-//Kino Tuškanac//Filmski programi//HR
URL:http://kinotuskanac/calendar/cycle/228
NAME:Kino Tuškanac ciklus 200 godina od rođenja Fryderyka Chopina
X-WR-CALNAME:Kino Tuškanac ciklus 200 godina od rođenja Fryderyka Chopina
TIMEZONE-ID:Europe/Zagreb
X-WR-TIMEZONE:Europe/Zagreb
REFRESH-INTERVAL;VALUE=DURATION:PT12H
X-PUBLISHED-TTL:PT12H
METHOD:PUBLISH
BEGIN:VEVENT
UID:66e972672e7a1b8bad6868b9697b2cf5@kinotuskanac.hr
DTSTAMP:20260420T234825Z
DTSTART:20100414T200000
DTEND:20100414T220000
SUMMARY:Želja za ljubavlju
LOCATION:Kino Tuškanac
DESCRIPTION:Pragnienie miłości,  2002. R: Antczak Jerzy
END:VEVENT

BEGIN:VEVENT
UID:2da04f62c819fae04af144842a8d8c27@kinotuskanac.hr
DTSTAMP:20260420T234825Z
DTSTART:20100415T200000
DTEND:20100415T220000
SUMMARY:Odnio me vjetar
LOCATION:Kino Tuškanac
DESCRIPTION:Mnie tu wiatr zapędził, 1969. R: Stanisław Grabowski
END:VEVENT

BEGIN:VEVENT
UID:a6897d837c1f348efb0315a54653bb1e@kinotuskanac.hr
DTSTAMP:20260420T234825Z
DTSTART:20100415T203000
DTEND:20100415T223000
SUMMARY:Želja za ljubavlju
LOCATION:Kino Tuškanac
DESCRIPTION:Pragnienie miłości,  2002. R: Antczak Jerzy
END:VEVENT

BEGIN:VEVENT
UID:d30799dcfa1c0469d2ff2af661235925@kinotuskanac.hr
DTSTAMP:20260420T234825Z
DTSTART:20100416T200000
DTEND:20100416T220000
SUMMARY:Chopin u domovini
LOCATION:Kino Tuškanac
DESCRIPTION:Chopin w kraju, 1961. R: Jarosław Brzozowski
END:VEVENT

BEGIN:VEVENT
UID:9e3b63121008baf00725bdf001d913ca@kinotuskanac.hr
DTSTAMP:20260420T234825Z
DTSTART:20100416T203000
DTEND:20100416T223000
SUMMARY:Mladost Chopina
LOCATION:Kino Tuškanac
DESCRIPTION:Młodość Chopina, 1952. R: Aleksander Ford
END:VEVENT

BEGIN:VEVENT
UID:0c98b39aebfded62ca22dcfde52cf395@kinotuskanac.hr
DTSTAMP:20260420T234825Z
DTSTART:20100417T200000
DTEND:20100417T220000
SUMMARY:Chopin u Parizu
LOCATION:Kino Tuškanac
DESCRIPTION:Chopin w Paryżu, 1969. R: Stanisław Grabowski
END:VEVENT

BEGIN:VEVENT
UID:4692c2f757b752e5e07c2cf7a6461b1f@kinotuskanac.hr
DTSTAMP:20260420T234825Z
DTSTART:20100417T203000
DTEND:20100417T223000
SUMMARY:Mladost Chopina
LOCATION:Kino Tuškanac
DESCRIPTION:Młodość Chopina, 1952. R: Aleksander Ford
END:VEVENT
END:VCALENDAR