BEGIN:VCALENDAR
VERSION:2.0
PRODID:-//Kino Tuškanac//Filmski programi//HR
URL:http://kinotuskanac/calendar/cycle/237
NAME:Kino Tuškanac ciklus Ciklus iberoameričkih filmova III
X-WR-CALNAME:Kino Tuškanac ciklus Ciklus iberoameričkih filmova III
TIMEZONE-ID:Europe/Zagreb
X-WR-TIMEZONE:Europe/Zagreb
REFRESH-INTERVAL;VALUE=DURATION:PT12H
X-PUBLISHED-TTL:PT12H
METHOD:PUBLISH
BEGIN:VEVENT
UID:f34dba5f3c05737900b7950d1ea94a26@kinotuskanac.hr
DTSTAMP:20260423T175355Z
DTSTART:20101103T200000
DTEND:20101103T220000
SUMMARY:Noel, pjesnik sambe
LOCATION:Kino Tuškanac
DESCRIPTION:Noel, Poeta da Vila, 2006. R: Ricardo van Steen
END:VEVENT

BEGIN:VEVENT
UID:d9522066b6f36650e734401e351673c9@kinotuskanac.hr
DTSTAMP:20260423T175355Z
DTSTART:20101104T190000
DTEND:20101104T210000
SUMMARY:Noel, pjesnik sambe
LOCATION:Kino Tuškanac
DESCRIPTION:Noel, Poeta da Vila, 2006. R: Ricardo van Steen
END:VEVENT

BEGIN:VEVENT
UID:345bbf5c277c9f6afd5ea3f63459d505@kinotuskanac.hr
DTSTAMP:20260423T175355Z
DTSTART:20101104T210000
DTEND:20101104T230000
SUMMARY:Poklon
LOCATION:Kino Tuškanac
DESCRIPTION:El regalo, 2008. R: Cristian Galaz
END:VEVENT

BEGIN:VEVENT
UID:29e6c5b9122378849d4237aba87a8d65@kinotuskanac.hr
DTSTAMP:20260423T175355Z
DTSTART:20101105T190000
DTEND:20101105T210000
SUMMARY:Poklon
LOCATION:Kino Tuškanac
DESCRIPTION:El regalo, 2008. R: Cristian Galaz
END:VEVENT

BEGIN:VEVENT
UID:1c9ca3d1e9020feb4d98d14b48e150f7@kinotuskanac.hr
DTSTAMP:20260423T175355Z
DTSTART:20101105T210000
DTEND:20101105T230000
SUMMARY:Tamno plavo gotovo crno
LOCATION:Kino Tuškanac
DESCRIPTION:Azul oscuro casi negro, 2006 R: Arévalo, Sánchez
END:VEVENT

BEGIN:VEVENT
UID:55d28289d9261963b412566b0e7eee28@kinotuskanac.hr
DTSTAMP:20260423T175355Z
DTSTART:20101106T190000
DTEND:20101106T210000
SUMMARY:Tamno plavo gotovo crno
LOCATION:Kino Tuškanac
DESCRIPTION:Azul oscuro casi negro, 2006 R: Arévalo, Sánchez
END:VEVENT

BEGIN:VEVENT
UID:c75fa355aab081b294c00ef5f81bcbe6@kinotuskanac.hr
DTSTAMP:20260423T175355Z
DTSTART:20101106T210000
DTEND:20101106T230000
SUMMARY:Ne, ili isprazna slava zapovijedi
LOCATION:Kino Tuškanac
DESCRIPTION:"Non" ou a Vã Glória de Mandar, 1990. R: Manoel de Oliveira
END:VEVENT

BEGIN:VEVENT
UID:6cf3d9881030d28410b59ccce94c307e@kinotuskanac.hr
DTSTAMP:20260423T175355Z
DTSTART:20101108T190000
DTEND:20101108T210000
SUMMARY:Ne, ili isprazna slava zapovijedi
LOCATION:Kino Tuškanac
DESCRIPTION:"Non" ou a Vã Glória de Mandar, 1990. R: Manoel de Oliveira
END:VEVENT

BEGIN:VEVENT
UID:b6936458c30b37f9271a71832dc9c08e@kinotuskanac.hr
DTSTAMP:20260423T175355Z
DTSTART:20101108T210000
DTEND:20101108T230000
SUMMARY:Lova sa strane
LOCATION:Kino Tuškanac
DESCRIPTION:Caixa Dois, 2007. R: Bruno Barreto
END:VEVENT

BEGIN:VEVENT
UID:e9c9c5971f605c60a7b7f291192a0e0c@kinotuskanac.hr
DTSTAMP:20260423T175355Z
DTSTART:20101109T190000
DTEND:20101109T210000
SUMMARY:Lova sa strane
LOCATION:Kino Tuškanac
DESCRIPTION:Caixa Dois, 2007. R: Bruno Barreto
END:VEVENT

BEGIN:VEVENT
UID:f32161003934754c80165cf418f54ecb@kinotuskanac.hr
DTSTAMP:20260423T175355Z
DTSTART:20101109T210000
DTEND:20101109T230000
SUMMARY:Cachimba
LOCATION:Kino Tuškanac
DESCRIPTION:2004. R: Silvio Caiozzi
END:VEVENT

BEGIN:VEVENT
UID:8019f53d30dd2802a04c8f6b69842580@kinotuskanac.hr
DTSTAMP:20260423T175355Z
DTSTART:20101110T190000
DTEND:20101110T210000
SUMMARY:Cachimba
LOCATION:Kino Tuškanac
DESCRIPTION:2004. R: Silvio Caiozzi
END:VEVENT

BEGIN:VEVENT
UID:c8e27570cca94c86ca475b3bda5aea88@kinotuskanac.hr
DTSTAMP:20260423T175355Z
DTSTART:20101110T210000
DTEND:20101110T230000
SUMMARY:Havana Blues
LOCATION:Kino Tuškanac
DESCRIPTION:2005. R: Benito Zambrano
END:VEVENT

BEGIN:VEVENT
UID:877fb9c23d2559613970221309cf7ef9@kinotuskanac.hr
DTSTAMP:20260423T175355Z
DTSTART:20101111T190000
DTEND:20101111T210000
SUMMARY:Havana Blues
LOCATION:Kino Tuškanac
DESCRIPTION:2005. R: Benito Zambrano
END:VEVENT

BEGIN:VEVENT
UID:ba5665679c9465e46a122a20cb090587@kinotuskanac.hr
DTSTAMP:20260423T175355Z
DTSTART:20101111T210000
DTEND:20101111T230000
SUMMARY:Što turist mora vidjeti
LOCATION:Kino Tuškanac
DESCRIPTION:Os Mistérios de Lisboa, 2009. R: José Fonseca e Costa
END:VEVENT

BEGIN:VEVENT
UID:715c296dbe18b64eba26745f1fafd7e4@kinotuskanac.hr
DTSTAMP:20260423T175355Z
DTSTART:20101112T180000
DTEND:20101112T200000
SUMMARY:Što turist mora vidjeti
LOCATION:Kino Tuškanac
DESCRIPTION:Os Mistérios de Lisboa, 2009. R: José Fonseca e Costa
END:VEVENT
END:VCALENDAR