BEGIN:VCALENDAR
VERSION:2.0
PRODID:-//Kino Tuškanac//Filmski programi//HR
URL:http://kinotuskanac/calendar/cycle/239
NAME:Kino Tuškanac ciklus In memoriam..... Fehmiu
X-WR-CALNAME:Kino Tuškanac ciklus In memoriam..... Fehmiu
TIMEZONE-ID:Europe/Zagreb
X-WR-TIMEZONE:Europe/Zagreb
REFRESH-INTERVAL;VALUE=DURATION:PT12H
X-PUBLISHED-TTL:PT12H
METHOD:PUBLISH
BEGIN:VEVENT
UID:52c20ec1ae284c991a367fbb0837a9e2@kinotuskanac.hr
DTSTAMP:20260425T185928Z
DTSTART:20101129T190000
DTEND:20101129T210000
SUMMARY:Roj
LOCATION:Kino Tuškanac
DESCRIPTION:1966. R: Miodrag Popović
END:VEVENT

BEGIN:VEVENT
UID:fb40bf9c73bd40f819830d1827c34f6f@kinotuskanac.hr
DTSTAMP:20260425T185928Z
DTSTART:20101129T210000
DTEND:20101129T230000
SUMMARY:Skupljači perja
LOCATION:Kino Tuškanac
DESCRIPTION:Jugoslavija, 1967 R: Aleksandar Petrović
END:VEVENT

BEGIN:VEVENT
UID:6d91682a22bd56f244512fbd75a316de@kinotuskanac.hr
DTSTAMP:20260425T185928Z
DTSTART:20101130T190000
DTEND:20101130T210000
SUMMARY:Skupljači perja
LOCATION:Kino Tuškanac
DESCRIPTION:Jugoslavija, 1967 R: Aleksandar Petrović
END:VEVENT

BEGIN:VEVENT
UID:f5fc2bdfc2fc26347362e99e597726e1@kinotuskanac.hr
DTSTAMP:20260425T185928Z
DTSTART:20101206T190000
DTEND:20101206T210000
SUMMARY:Protest
LOCATION:Kino Tuškanac
DESCRIPTION:Jugoslavija: Hrvatska, 1967 R: Fadil Hadžić
END:VEVENT

BEGIN:VEVENT
UID:6ce3e017d80e82a036e04c9bc24a63ee@kinotuskanac.hr
DTSTAMP:20260425T185928Z
DTSTART:20101206T210000
DTEND:20101206T230000
SUMMARY:Roj
LOCATION:Kino Tuškanac
DESCRIPTION:1966. R: Miodrag Popović
END:VEVENT

BEGIN:VEVENT
UID:73ea2c670133ece45812730c0f62e750@kinotuskanac.hr
DTSTAMP:20260425T185928Z
DTSTART:20101207T190000
DTEND:20101207T210000
SUMMARY:Protest
LOCATION:Kino Tuškanac
DESCRIPTION:Jugoslavija: Hrvatska, 1967 R: Fadil Hadžić
END:VEVENT

BEGIN:VEVENT
UID:52cf63d057c02658b0feb546820bae0e@kinotuskanac.hr
DTSTAMP:20260425T185928Z
DTSTART:20110405T192000
DTEND:20110405T212000
SUMMARY:Protest
LOCATION:Kino Tuškanac
DESCRIPTION:Jugoslavija: Hrvatska, 1967 R: Fadil Hadžić
END:VEVENT
END:VCALENDAR