BEGIN:VCALENDAR
VERSION:2.0
PRODID:-//Kino Tuškanac//Filmski programi//HR
URL:http://kinotuskanac/calendar/cycle/24
NAME:Kino Tuškanac ciklus Ciklus filmova Ingmara Bergmana
X-WR-CALNAME:Kino Tuškanac ciklus Ciklus filmova Ingmara Bergmana
TIMEZONE-ID:Europe/Zagreb
X-WR-TIMEZONE:Europe/Zagreb
REFRESH-INTERVAL;VALUE=DURATION:PT12H
X-PUBLISHED-TTL:PT12H
METHOD:PUBLISH
BEGIN:VEVENT
UID:6f6dee6c528454d84c7bf3d65643cfab@kinotuskanac.hr
DTSTAMP:20260421T071852Z
DTSTART:20021011T190000
DTEND:20021011T210000
SUMMARY:Intermezzo
LOCATION:Kino Tuškanac
DESCRIPTION:2002 R: Gunnar Bergdahl
END:VEVENT

BEGIN:VEVENT
UID:a7b1e0473db67da7c0a4c47eb849c656@kinotuskanac.hr
DTSTAMP:20260421T071852Z
DTSTART:20021012T160000
DTEND:20021012T180000
SUMMARY:Bergmans röst / The voice of Bergman
LOCATION:Kino Tuškanac
DESCRIPTION:1997 R: Gunnar Bergdahl
END:VEVENT

BEGIN:VEVENT
UID:5e5b3c051d6f8137b4cae109e86ed53b@kinotuskanac.hr
DTSTAMP:20260421T071852Z
DTSTART:20021013T210000
DTEND:20021013T230000
SUMMARY:Osmijesi ljetne noći
LOCATION:Kino Tuškanac
DESCRIPTION:Sommarnattens leende, Švedska, 1955 R: Ingmar Bergman
END:VEVENT

BEGIN:VEVENT
UID:1820b23aeea81dbb699c098342964432@kinotuskanac.hr
DTSTAMP:20260421T071852Z
DTSTART:20021014T210000
DTEND:20021014T230000
SUMMARY:Sedmi pečat
LOCATION:Kino Tuškanac
DESCRIPTION:Det sjunde inseglet, Švedska, 1957 R: Ingmar Bergman
END:VEVENT

BEGIN:VEVENT
UID:8e96b3e861373fc33e3861af165ff60f@kinotuskanac.hr
DTSTAMP:20260421T071852Z
DTSTART:20021015T190000
DTEND:20021015T210000
SUMMARY:Divlje jagode
LOCATION:Kino Tuškanac
DESCRIPTION:Smultronstället, Švedska, 1957 R: Ingmar Bergman
END:VEVENT

BEGIN:VEVENT
UID:af680416c5e3f4241e4be2e69c1f7116@kinotuskanac.hr
DTSTAMP:20260421T071852Z
DTSTART:20021015T210000
DTEND:20021015T230000
SUMMARY:Tišina (1963)
LOCATION:Kino Tuškanac
DESCRIPTION:Tystnaden, Švedska, 1963 R: Ingmar Bergman
END:VEVENT

BEGIN:VEVENT
UID:cf4e9927e1200597f51f167ae38ce2ed@kinotuskanac.hr
DTSTAMP:20260421T071852Z
DTSTART:20021016T210000
DTEND:20021016T230000
SUMMARY:Lice
LOCATION:Kino Tuškanac
DESCRIPTION:Ansiktet, Švedska, 1958 R: Ingmar Bergman
END:VEVENT

BEGIN:VEVENT
UID:4e9c68c09c3be5571894fbfcd6c7fc95@kinotuskanac.hr
DTSTAMP:20260421T071852Z
DTSTART:20021017T210000
DTEND:20021017T230000
SUMMARY:Krici i šaputanja
LOCATION:Kino Tuškanac
DESCRIPTION:Viskningar och rop, Švedska, 1972 | Mjesto prikazivanja filma: Kino Forum (SD Stjepan Radić, Jarunska ul. 2) R: Ingmar Bergman
END:VEVENT

BEGIN:VEVENT
UID:89c0be14316008dfb65ac758c4d478dd@kinotuskanac.hr
DTSTAMP:20260421T071852Z
DTSTART:20021018T210000
DTEND:20021018T230000
SUMMARY:Jesenja sonata
LOCATION:Kino Tuškanac
DESCRIPTION:Höstsonaten, Francuska, Njemačka, Švedska, UK, 1978 R: Ingmar Bergman
END:VEVENT

BEGIN:VEVENT
UID:730e84eb28adbce4c24cc4335628e250@kinotuskanac.hr
DTSTAMP:20260421T071852Z
DTSTART:20021019T150000
DTEND:20021019T170000
SUMMARY:Fanny i Alexander
LOCATION:Kino Tuškanac
DESCRIPTION:Fanny och Alexander, 1982 R: Ingmar Bergman
END:VEVENT

BEGIN:VEVENT
UID:df95d2997a9adc9a1d972613f03ea84c@kinotuskanac.hr
DTSTAMP:20260421T071852Z
DTSTART:20021020T170000
DTEND:20021020T190000
SUMMARY:Karins ansikte
LOCATION:Kino Tuškanac
DESCRIPTION:Karin's face, 1986 R: Ingmar Bergman
END:VEVENT

BEGIN:VEVENT
UID:7831e6cc6990acfe25ddfe12c4c36d29@kinotuskanac.hr
DTSTAMP:20260421T071852Z
DTSTART:20021020T170000
DTEND:20021020T190000
SUMMARY:Nakon probe
LOCATION:Kino Tuškanac
DESCRIPTION:Efter repetitionen, Švedska, Zapadna Njemačka, 1984 R: Ingmar Bergman
END:VEVENT

BEGIN:VEVENT
UID:0f0512914eacb4d68deac2a19335358f@kinotuskanac.hr
DTSTAMP:20260421T071852Z
DTSTART:20021011T170000
DTEND:20021011T190000
SUMMARY:Osmijesi ljetne noći
LOCATION:Kino Tuškanac
DESCRIPTION:Sommarnattens leende, Švedska, 1955 R: Ingmar Bergman
END:VEVENT

BEGIN:VEVENT
UID:1f46c4348e4e104d70277e1fb8eb3bae@kinotuskanac.hr
DTSTAMP:20260421T071852Z
DTSTART:20021012T170000
DTEND:20021012T190000
SUMMARY:Sedmi pečat
LOCATION:Kino Tuškanac
DESCRIPTION:Det sjunde inseglet, Švedska, 1957 R: Ingmar Bergman
END:VEVENT

BEGIN:VEVENT
UID:48996b69be92f9521255bdbd08ce1774@kinotuskanac.hr
DTSTAMP:20260421T071852Z
DTSTART:20021013T170000
DTEND:20021013T190000
SUMMARY:Divlje jagode
LOCATION:Kino Tuškanac
DESCRIPTION:Smultronstället, Švedska, 1957 R: Ingmar Bergman
END:VEVENT

BEGIN:VEVENT
UID:10ae0699e7bb6ee7039f7a2e586a4583@kinotuskanac.hr
DTSTAMP:20260421T071852Z
DTSTART:20021014T170000
DTEND:20021014T190000
SUMMARY:Lice
LOCATION:Kino Tuškanac
DESCRIPTION:Ansiktet, Švedska, 1958 R: Ingmar Bergman
END:VEVENT

BEGIN:VEVENT
UID:7fd84ae8566a1348318dfcd098210f14@kinotuskanac.hr
DTSTAMP:20260421T071852Z
DTSTART:20021015T170000
DTEND:20021015T190000
SUMMARY:Krici i šaputanja
LOCATION:Kino Tuškanac
DESCRIPTION:Viskningar och rop, Švedska, 1972 | Mjesto prikazivanja filma: Kino Forum (SD Stjepan Radić, Jarunska ul. 2) R: Ingmar Bergman
END:VEVENT

BEGIN:VEVENT
UID:c1e2fad6d2f10dea3ce47be6b032d963@kinotuskanac.hr
DTSTAMP:20260421T071852Z
DTSTART:20021016T170000
DTEND:20021016T190000
SUMMARY:Jesenja sonata
LOCATION:Kino Tuškanac
DESCRIPTION:Höstsonaten, Francuska, Njemačka, Švedska, UK, 1978 R: Ingmar Bergman
END:VEVENT

BEGIN:VEVENT
UID:bc631de61984a4da2b17e02b00ce93b3@kinotuskanac.hr
DTSTAMP:20260421T071852Z
DTSTART:20021017T170000
DTEND:20021017T190000
SUMMARY:Tišina (1963)
LOCATION:Kino Tuškanac
DESCRIPTION:Tystnaden, Švedska, 1963 R: Ingmar Bergman
END:VEVENT

BEGIN:VEVENT
UID:6f404063dd8ec3a1347138581dc092a5@kinotuskanac.hr
DTSTAMP:20260421T071853Z
DTSTART:20021019T150000
DTEND:20021019T170000
SUMMARY:Karins ansikte
LOCATION:Kino Tuškanac
DESCRIPTION:Karin's face, 1986 R: Ingmar Bergman
END:VEVENT

BEGIN:VEVENT
UID:554e88bfd071232d2fdeac06fc7e35d9@kinotuskanac.hr
DTSTAMP:20260421T071853Z
DTSTART:20021019T150000
DTEND:20021019T170000
SUMMARY:Nakon probe
LOCATION:Kino Tuškanac
DESCRIPTION:Efter repetitionen, Švedska, Zapadna Njemačka, 1984 R: Ingmar Bergman
END:VEVENT

BEGIN:VEVENT
UID:b7f76a5e3c48faa3dab11899bdb9f3ae@kinotuskanac.hr
DTSTAMP:20260421T071853Z
DTSTART:20021019T170000
DTEND:20021019T190000
SUMMARY:Bergmans röst / The voice of Bergman
LOCATION:Kino Tuškanac
DESCRIPTION:1997 R: Gunnar Bergdahl
END:VEVENT

BEGIN:VEVENT
UID:f3bbabfa259bec65488fdaaa5b5297eb@kinotuskanac.hr
DTSTAMP:20260421T071853Z
DTSTART:20021020T160000
DTEND:20021020T180000
SUMMARY:Fanny i Alexander
LOCATION:Kino Tuškanac
DESCRIPTION:Fanny och Alexander, 1982 R: Ingmar Bergman
END:VEVENT
END:VCALENDAR