BEGIN:VCALENDAR
VERSION:2.0
PRODID:-//Kino Tuškanac//Filmski programi//HR
URL:http://kinotuskanac/calendar/cycle/240
NAME:Kino Tuškanac ciklus In memoriam.....Gable
X-WR-CALNAME:Kino Tuškanac ciklus In memoriam.....Gable
TIMEZONE-ID:Europe/Zagreb
X-WR-TIMEZONE:Europe/Zagreb
REFRESH-INTERVAL;VALUE=DURATION:PT12H
X-PUBLISHED-TTL:PT12H
METHOD:PUBLISH
BEGIN:VEVENT
UID:687e486ed79a0f777dba20de8d55280d@kinotuskanac.hr
DTSTAMP:20260422T025657Z
DTSTART:20101216T190000
DTEND:20101216T210000
SUMMARY:Dogodilo se jedne noći
LOCATION:Kino Tuškanac
DESCRIPTION:It Happened One Night, SAD, 1934 R: Frank Capra
END:VEVENT

BEGIN:VEVENT
UID:9176144babcc8a5707535bae1b1ecf26@kinotuskanac.hr
DTSTAMP:20260422T025657Z
DTSTART:20101216T210000
DTEND:20101216T230000
SUMMARY:Neprilagođeni
LOCATION:Kino Tuškanac
DESCRIPTION:The Misfits, SAD, 1961 | Mjesto prikazivanja filma: Kulturno informativni centar KIC (Preradovićeva ul. 5) R: John Huston
END:VEVENT

BEGIN:VEVENT
UID:44cab592a239448ddc8cec9c68f39bbc@kinotuskanac.hr
DTSTAMP:20260422T025657Z
DTSTART:20101217T190000
DTEND:20101217T210000
SUMMARY:Neprilagođeni
LOCATION:Kino Tuškanac
DESCRIPTION:The Misfits, SAD, 1961 | Mjesto prikazivanja filma: Kulturno informativni centar KIC (Preradovićeva ul. 5) R: John Huston
END:VEVENT

BEGIN:VEVENT
UID:451e95e6080d53dedf06fbfaeb6a55e1@kinotuskanac.hr
DTSTAMP:20260422T025657Z
DTSTART:20101217T210000
DTEND:20101217T230000
SUMMARY:Dogodilo se jedne noći
LOCATION:Kino Tuškanac
DESCRIPTION:It Happened One Night, SAD, 1934 R: Frank Capra
END:VEVENT
END:VCALENDAR