BEGIN:VCALENDAR
VERSION:2.0
PRODID:-//Kino Tuškanac//Filmski programi//HR
URL:http://kinotuskanac/calendar/cycle/251
NAME:Kino Tuškanac ciklus Peta smotra novog talijanskog filma u Zagrebu i Rijeci
X-WR-CALNAME:Kino Tuškanac ciklus Peta smotra novog talijanskog filma u Zagrebu i Rijeci
TIMEZONE-ID:Europe/Zagreb
X-WR-TIMEZONE:Europe/Zagreb
REFRESH-INTERVAL;VALUE=DURATION:PT12H
X-PUBLISHED-TTL:PT12H
METHOD:PUBLISH
BEGIN:VEVENT
UID:f057b53ecf32f408b5c62333b3f47f76@kinotuskanac.hr
DTSTAMP:20260423T150247Z
DTSTART:20101112T203000
DTEND:20101112T223000
SUMMARY:Osamnaest godina poslije
LOCATION:Kino Tuškanac
DESCRIPTION:Diciotto anni dopo, 2010. R: Edoardo Leo
END:VEVENT

BEGIN:VEVENT
UID:bf8ec11b693ab6aaffae6f16e03c988d@kinotuskanac.hr
DTSTAMP:20260423T150247Z
DTSTART:20101113T190000
DTEND:20101113T210000
SUMMARY:Snaga vode
LOCATION:Kino Tuškanac
DESCRIPTION:La fisica dell'aqua, 2009. R: Felice Farina
END:VEVENT

BEGIN:VEVENT
UID:55b5fb2e533fbd4278195fe157619ad0@kinotuskanac.hr
DTSTAMP:20260423T150247Z
DTSTART:20101113T210000
DTEND:20101113T230000
SUMMARY:Pasija
LOCATION:Kino Tuškanac
DESCRIPTION:La passione, 2010. R: Carlo Mazzacurati
END:VEVENT

BEGIN:VEVENT
UID:668eb06b97f0a11dd0839f56b37a3031@kinotuskanac.hr
DTSTAMP:20260423T150247Z
DTSTART:20101114T190000
DTEND:20101114T210000
SUMMARY:Mračna ljubav
LOCATION:Kino Tuškanac
DESCRIPTION:L'amore buio, 2010. R: Antonio Capuano
END:VEVENT

BEGIN:VEVENT
UID:ba48e251304b6afa3facc7d0969d881d@kinotuskanac.hr
DTSTAMP:20260423T150247Z
DTSTART:20101114T210000
DTEND:20101114T230000
SUMMARY:Vijesti o iskopinama
LOCATION:Kino Tuškanac
DESCRIPTION:Notizie degli scavi, 2010. R: Emidio Greco
END:VEVENT

BEGIN:VEVENT
UID:53136d773c07318102e0a4a5012a090f@kinotuskanac.hr
DTSTAMP:20260423T150247Z
DTSTART:20101115T190000
DTEND:20101115T210000
SUMMARY:Velma
LOCATION:Kino Tuškanac
DESCRIPTION:2009. R: Piero Tomaselli
END:VEVENT

BEGIN:VEVENT
UID:369a8c60515dd1d4bb89ba3498b2ea3b@kinotuskanac.hr
DTSTAMP:20260423T150247Z
DTSTART:20101115T210000
DTEND:20101115T230000
SUMMARY:Ja, oni i Lara
LOCATION:Kino Tuškanac
DESCRIPTION:Io, loro e Lara, 2009. R: Carlo Verdone
END:VEVENT

BEGIN:VEVENT
UID:0bccb4a452b42d429393530249cc1843@kinotuskanac.hr
DTSTAMP:20260423T150247Z
DTSTART:20101116T203000
DTEND:20101116T223000
SUMMARY:Basilicata, od mora do mora
LOCATION:Kino Tuškanac
DESCRIPTION:Basilicata coast to coast, 2010. R: Antonio Papaleo
END:VEVENT

BEGIN:VEVENT
UID:757ac17652699bfce0042a76f468d85d@kinotuskanac.hr
DTSTAMP:20260423T150247Z
DTSTART:20101113T200000
DTEND:20101113T220000
SUMMARY:Osamnaest godina poslije
LOCATION:Kino Tuškanac
DESCRIPTION:Diciotto anni dopo, 2010. R: Edoardo Leo
END:VEVENT

BEGIN:VEVENT
UID:a39b2450270f4285eb0d6d800d6cd599@kinotuskanac.hr
DTSTAMP:20260423T150247Z
DTSTART:20101114T160000
DTEND:20101114T180000
SUMMARY:Snaga vode
LOCATION:Kino Tuškanac
DESCRIPTION:La fisica dell'aqua, 2009. R: Felice Farina
END:VEVENT

BEGIN:VEVENT
UID:f259b8e54e42b3629171197d1d519047@kinotuskanac.hr
DTSTAMP:20260423T150247Z
DTSTART:20101114T200000
DTEND:20101114T220000
SUMMARY:Pasija
LOCATION:Kino Tuškanac
DESCRIPTION:La passione, 2010. R: Carlo Mazzacurati
END:VEVENT

BEGIN:VEVENT
UID:17a41bc49f8b2802759e3aac85c10df7@kinotuskanac.hr
DTSTAMP:20260423T150247Z
DTSTART:20101115T160000
DTEND:20101115T180000
SUMMARY:Mračna ljubav
LOCATION:Kino Tuškanac
DESCRIPTION:L'amore buio, 2010. R: Antonio Capuano
END:VEVENT

BEGIN:VEVENT
UID:1a94d9c1d844c4dd19624354003f9854@kinotuskanac.hr
DTSTAMP:20260423T150247Z
DTSTART:20101115T200000
DTEND:20101115T220000
SUMMARY:Vijesti o iskopinama
LOCATION:Kino Tuškanac
DESCRIPTION:Notizie degli scavi, 2010. R: Emidio Greco
END:VEVENT

BEGIN:VEVENT
UID:847f6f5ccc78feedf3f87eed4e9073c5@kinotuskanac.hr
DTSTAMP:20260423T150247Z
DTSTART:20101116T160000
DTEND:20101116T180000
SUMMARY:Velma
LOCATION:Kino Tuškanac
DESCRIPTION:2009. R: Piero Tomaselli
END:VEVENT

BEGIN:VEVENT
UID:38704f0149005f1a7c0226636daaf78d@kinotuskanac.hr
DTSTAMP:20260423T150247Z
DTSTART:20101116T200000
DTEND:20101116T220000
SUMMARY:Ja, oni i Lara
LOCATION:Kino Tuškanac
DESCRIPTION:Io, loro e Lara, 2009. R: Carlo Verdone
END:VEVENT

BEGIN:VEVENT
UID:df614b450503eff5f7aa0084049d8883@kinotuskanac.hr
DTSTAMP:20260423T150247Z
DTSTART:20101117T200000
DTEND:20101117T220000
SUMMARY:Basilicata, od mora do mora
LOCATION:Kino Tuškanac
DESCRIPTION:Basilicata coast to coast, 2010. R: Antonio Papaleo
END:VEVENT
END:VCALENDAR