BEGIN:VCALENDAR
VERSION:2.0
PRODID:-//Kino Tuškanac//Filmski programi//HR
URL:http://kinotuskanac/calendar/cycle/254
NAME:Kino Tuškanac ciklus Ciklus horora
X-WR-CALNAME:Kino Tuškanac ciklus Ciklus horora
TIMEZONE-ID:Europe/Zagreb
X-WR-TIMEZONE:Europe/Zagreb
REFRESH-INTERVAL;VALUE=DURATION:PT12H
X-PUBLISHED-TTL:PT12H
METHOD:PUBLISH
BEGIN:VEVENT
UID:a176140b59377da381f4f9a453d5f981@kinotuskanac.hr
DTSTAMP:20260421T200306Z
DTSTART:20110131T190000
DTEND:20110131T210000
SUMMARY:Umorna smrt
LOCATION:Kino Tuškanac
DESCRIPTION:Der müde Todd, Njemačka, 1921 | Mjesto prikazivanja filma: Kulturno informativni centar KIC (Preradovićeva ul. 5) R: Fritz Lang
END:VEVENT

BEGIN:VEVENT
UID:754b533ac875eafb9b72fde2cd499649@kinotuskanac.hr
DTSTAMP:20260421T200306Z
DTSTART:20110131T210000
DTEND:20110131T230000
SUMMARY:Nosferatu, simfonija strave
LOCATION:Kino Tuškanac
DESCRIPTION:Nosferatu, eine Symphonie des Grauens, Njemačka, 1922 R: Friedrich Wilhelm Murnau
END:VEVENT

BEGIN:VEVENT
UID:8d45a734b31e155b35b9bba00064c190@kinotuskanac.hr
DTSTAMP:20260421T200306Z
DTSTART:20110201T190000
DTEND:20110201T210000
SUMMARY:Nosferatu, simfonija strave
LOCATION:Kino Tuškanac
DESCRIPTION:Nosferatu, eine Symphonie des Grauens, Njemačka, 1922 R: Friedrich Wilhelm Murnau
END:VEVENT

BEGIN:VEVENT
UID:4303eedcdbc749f229bfeeee829bd6a7@kinotuskanac.hr
DTSTAMP:20260421T200306Z
DTSTART:20110201T210000
DTEND:20110201T230000
SUMMARY:Umorna smrt
LOCATION:Kino Tuškanac
DESCRIPTION:Der müde Todd, Njemačka, 1921 | Mjesto prikazivanja filma: Kulturno informativni centar KIC (Preradovićeva ul. 5) R: Fritz Lang
END:VEVENT

BEGIN:VEVENT
UID:edcc0caa94bbe6df022d1602537d121f@kinotuskanac.hr
DTSTAMP:20260421T200306Z
DTSTART:20110202T190000
DTEND:20110202T210000
SUMMARY:Vampir
LOCATION:Kino Tuškanac
DESCRIPTION:Vampyr, Njemačka, Francuska, 1932 R: Carl Theodor Dreyer
END:VEVENT

BEGIN:VEVENT
UID:22f11d8bdf8aafd6cceaf3e7d34b3829@kinotuskanac.hr
DTSTAMP:20260421T200306Z
DTSTART:20110202T210000
DTEND:20110202T230000
SUMMARY:Crna mačka
LOCATION:Kino Tuškanac
DESCRIPTION:The Black Cat, 1934. R: Edgar G. Ulmer
END:VEVENT

BEGIN:VEVENT
UID:e5f721e1dc015d7d1b73bf7770c83200@kinotuskanac.hr
DTSTAMP:20260421T200306Z
DTSTART:20110203T190000
DTEND:20110203T210000
SUMMARY:Crna mačka
LOCATION:Kino Tuškanac
DESCRIPTION:The Black Cat, 1934. R: Edgar G. Ulmer
END:VEVENT

BEGIN:VEVENT
UID:38495380d66d266a8c92ce24f9d9c16e@kinotuskanac.hr
DTSTAMP:20260421T200306Z
DTSTART:20110203T210000
DTEND:20110203T230000
SUMMARY:Vampir
LOCATION:Kino Tuškanac
DESCRIPTION:Vampyr, Njemačka, Francuska, 1932 R: Carl Theodor Dreyer
END:VEVENT

BEGIN:VEVENT
UID:3d676ea66460ef9e1c9f69087dad9302@kinotuskanac.hr
DTSTAMP:20260421T200306Z
DTSTART:20110204T190000
DTEND:20110204T210000
SUMMARY:Baskervillski pas
LOCATION:Kino Tuškanac
DESCRIPTION:The Hound of the Baskervilles, 1939. R: Sidney Lanfield
END:VEVENT

BEGIN:VEVENT
UID:073a7d40b94da38310c70ba9d0d47ebc@kinotuskanac.hr
DTSTAMP:20260421T200306Z
DTSTART:20110204T210000
DTEND:20110204T230000
SUMMARY:Oči bez lica
LOCATION:Kino Tuškanac
DESCRIPTION:Les Yeux sans visage, 1959 R: Georges Franju
END:VEVENT

BEGIN:VEVENT
UID:729cc17203bf5b89f692b6192c063928@kinotuskanac.hr
DTSTAMP:20260421T200306Z
DTSTART:20110205T190000
DTEND:20110205T210000
SUMMARY:Oči bez lica
LOCATION:Kino Tuškanac
DESCRIPTION:Les Yeux sans visage, 1959 R: Georges Franju
END:VEVENT

BEGIN:VEVENT
UID:2ac9cc90756f04e9606659c6ace9b958@kinotuskanac.hr
DTSTAMP:20260421T200306Z
DTSTART:20110205T210000
DTEND:20110205T230000
SUMMARY:Baskervillski pas
LOCATION:Kino Tuškanac
DESCRIPTION:The Hound of the Baskervilles, 1939. R: Sidney Lanfield
END:VEVENT

BEGIN:VEVENT
UID:2ebe08f02bcecf42fc99b8e8eec1ba73@kinotuskanac.hr
DTSTAMP:20260421T200306Z
DTSTART:20110207T190000
DTEND:20110207T210000
SUMMARY:Kaidan
LOCATION:Kino Tuškanac
DESCRIPTION:2007. R: Hideo Nakata
END:VEVENT

BEGIN:VEVENT
UID:9eb3f38c0e3b63f2697e002dc08b69bb@kinotuskanac.hr
DTSTAMP:20260421T200306Z
DTSTART:20110207T210000
DTEND:20110207T230000
SUMMARY:Krug 2
LOCATION:Kino Tuškanac
DESCRIPTION:Ringu 2, 1999. R: Hideo Nakata
END:VEVENT

BEGIN:VEVENT
UID:4d0dd66b4da73aca4c2585a01315b23d@kinotuskanac.hr
DTSTAMP:20260421T200306Z
DTSTART:20110208T190000
DTEND:20110208T210000
SUMMARY:Krug 2
LOCATION:Kino Tuškanac
DESCRIPTION:Ringu 2, 1999. R: Hideo Nakata
END:VEVENT

BEGIN:VEVENT
UID:574cd0786ea6c81d91cebb1fe71ce400@kinotuskanac.hr
DTSTAMP:20260421T200306Z
DTSTART:20110209T190000
DTEND:20110209T210000
SUMMARY:Teksaški masakr motornom pilom (2003)
LOCATION:Kino Tuškanac
DESCRIPTION:The Texas Chainsaw Massacre, 2003. R: Marcus Nispel
END:VEVENT

BEGIN:VEVENT
UID:df8a91c7fb142139b27cd1d47a30f65d@kinotuskanac.hr
DTSTAMP:20260421T200306Z
DTSTART:20110209T210000
DTEND:20110209T230000
SUMMARY:Kaidan
LOCATION:Kino Tuškanac
DESCRIPTION:2007. R: Hideo Nakata
END:VEVENT

BEGIN:VEVENT
UID:279a1e037c0e4e20d6cf45029837300a@kinotuskanac.hr
DTSTAMP:20260421T200306Z
DTSTART:20110210T190000
DTEND:20110210T210000
SUMMARY:Oko
LOCATION:Kino Tuškanac
DESCRIPTION:Gin gwai, 2002. R: Danny Pang
END:VEVENT

BEGIN:VEVENT
UID:c6c9611c4fc20f4f83c68b7d26a97dfa@kinotuskanac.hr
DTSTAMP:20260421T200306Z
DTSTART:20110210T210000
DTEND:20110210T230000
SUMMARY:Oko 2
LOCATION:Kino Tuškanac
DESCRIPTION:Gin gwai 2, 2004. R: Danny Pang
END:VEVENT

BEGIN:VEVENT
UID:2e5cd3a476fb3dcd9459085509f7f913@kinotuskanac.hr
DTSTAMP:20260421T200306Z
DTSTART:20110211T190000
DTEND:20110211T210000
SUMMARY:Oko 2
LOCATION:Kino Tuškanac
DESCRIPTION:Gin gwai 2, 2004. R: Danny Pang
END:VEVENT

BEGIN:VEVENT
UID:6bff3a6a62e99ef79bc1646246de420a@kinotuskanac.hr
DTSTAMP:20260421T200306Z
DTSTART:20110211T210000
DTEND:20110211T230000
SUMMARY:Teksaški masakr motornom pilom (2003)
LOCATION:Kino Tuškanac
DESCRIPTION:The Texas Chainsaw Massacre, 2003. R: Marcus Nispel
END:VEVENT

BEGIN:VEVENT
UID:f9057e190af0469f1139d884776ec9da@kinotuskanac.hr
DTSTAMP:20260421T200306Z
DTSTART:20110212T190000
DTEND:20110212T210000
SUMMARY:Izolacija
LOCATION:Kino Tuškanac
DESCRIPTION:Isolation, 2005. R: Billy O´Brien
END:VEVENT

BEGIN:VEVENT
UID:a8f76a877d54aa60b3cad37e7ab2f019@kinotuskanac.hr
DTSTAMP:20260421T200306Z
DTSTART:20110212T210000
DTEND:20110212T230000
SUMMARY:Oko
LOCATION:Kino Tuškanac
DESCRIPTION:Gin gwai, 2002. R: Danny Pang
END:VEVENT

BEGIN:VEVENT
UID:4f5ea02fadf5f150e4c1cf8329dfdf8d@kinotuskanac.hr
DTSTAMP:20260421T200306Z
DTSTART:20110214T190000
DTEND:20110214T210000
SUMMARY:Slagalica strave
LOCATION:Kino Tuškanac
DESCRIPTION:Saw, 2004. R: James Wan
END:VEVENT

BEGIN:VEVENT
UID:34bf352fc7dbc070bd77f4b4798f177d@kinotuskanac.hr
DTSTAMP:20260421T200306Z
DTSTART:20110214T210000
DTEND:20110214T230000
SUMMARY:Slagalica strave 2
LOCATION:Kino Tuškanac
DESCRIPTION:Saw II, 2005. R: Darren Bousman
END:VEVENT

BEGIN:VEVENT
UID:0a1eaffce924a797a6c9cf027e750399@kinotuskanac.hr
DTSTAMP:20260421T200306Z
DTSTART:20110215T190000
DTEND:20110215T210000
SUMMARY:Slagalica strave 2
LOCATION:Kino Tuškanac
DESCRIPTION:Saw II, 2005. R: Darren Bousman
END:VEVENT

BEGIN:VEVENT
UID:515ab6b4766a998d4f0d0b4b441a288d@kinotuskanac.hr
DTSTAMP:20260421T200306Z
DTSTART:20110215T210000
DTEND:20110215T230000
SUMMARY:Sirotište
LOCATION:Kino Tuškanac
DESCRIPTION:El orfanato, 2007. R: Juan Antonio Bayona
END:VEVENT

BEGIN:VEVENT
UID:e054c7d6c8432e5886ffefabad964573@kinotuskanac.hr
DTSTAMP:20260421T200306Z
DTSTART:20110216T190000
DTEND:20110216T210000
SUMMARY:Sirotište
LOCATION:Kino Tuškanac
DESCRIPTION:El orfanato, 2007. R: Juan Antonio Bayona
END:VEVENT

BEGIN:VEVENT
UID:514584bba1e05f5155e951a30e2e151c@kinotuskanac.hr
DTSTAMP:20260421T200306Z
DTSTART:20110216T210000
DTEND:20110216T230000
SUMMARY:Izolacija
LOCATION:Kino Tuškanac
DESCRIPTION:Isolation, 2005. R: Billy O´Brien
END:VEVENT

BEGIN:VEVENT
UID:92fdf9065f732dbee48672526531be79@kinotuskanac.hr
DTSTAMP:20260421T200306Z
DTSTART:20110217T170000
DTEND:20110217T190000
SUMMARY:Slagalica strave
LOCATION:Kino Tuškanac
DESCRIPTION:Saw, 2004. R: James Wan
END:VEVENT
END:VCALENDAR