BEGIN:VCALENDAR
VERSION:2.0
PRODID:-//Kino Tuškanac//Filmski programi//HR
URL:http://kinotuskanac/calendar/cycle/270
NAME:Kino Tuškanac ciklus In memoriam... Peter Yates
X-WR-CALNAME:Kino Tuškanac ciklus In memoriam... Peter Yates
TIMEZONE-ID:Europe/Zagreb
X-WR-TIMEZONE:Europe/Zagreb
REFRESH-INTERVAL;VALUE=DURATION:PT12H
X-PUBLISHED-TTL:PT12H
METHOD:PUBLISH
BEGIN:VEVENT
UID:7b2cc34f2b233933fefeac07c083a1e4@kinotuskanac.hr
DTSTAMP:20260421T234317Z
DTSTART:20110423T210000
DTEND:20110423T230000
SUMMARY:Garderobijer
LOCATION:Kino Tuškanac
DESCRIPTION:The Dresser, 1983. R: Peter Yates
END:VEVENT

BEGIN:VEVENT
UID:554861f86e454af3a471cc2cfa5e67a2@kinotuskanac.hr
DTSTAMP:20260421T234317Z
DTSTART:20110613T190000
DTEND:20110613T210000
SUMMARY:Garderobijer
LOCATION:Kino Tuškanac
DESCRIPTION:The Dresser, 1983. R: Peter Yates
END:VEVENT
END:VCALENDAR