BEGIN:VCALENDAR
VERSION:2.0
PRODID:-//Kino Tuškanac//Filmski programi//HR
URL:http://kinotuskanac/calendar/cycle/274
NAME:Kino Tuškanac ciklus Ciklus Sandrine Bonnaire
X-WR-CALNAME:Kino Tuškanac ciklus Ciklus Sandrine Bonnaire
TIMEZONE-ID:Europe/Zagreb
X-WR-TIMEZONE:Europe/Zagreb
REFRESH-INTERVAL;VALUE=DURATION:PT12H
X-PUBLISHED-TTL:PT12H
METHOD:PUBLISH
BEGIN:VEVENT
UID:6691f2f99a097099caa1e4108767b763@kinotuskanac.hr
DTSTAMP:20260423T144544Z
DTSTART:20110606T200000
DTEND:20110606T220000
SUMMARY:Naše ljubavi
LOCATION:Kino Tuškanac
DESCRIPTION:À nos amours, 1983 R: Maurice Pialat
END:VEVENT

BEGIN:VEVENT
UID:11f68f5972c152fe4e065088a3a457de@kinotuskanac.hr
DTSTAMP:20260423T144544Z
DTSTART:20110607T190000
DTEND:20110607T210000
SUMMARY:Naše ljubavi
LOCATION:Kino Tuškanac
DESCRIPTION:À nos amours, 1983 R: Maurice Pialat
END:VEVENT

BEGIN:VEVENT
UID:f5583aa38af05fe3104c214e76402256@kinotuskanac.hr
DTSTAMP:20260423T144544Z
DTSTART:20110608T190000
DTEND:20110608T210000
SUMMARY:Bez krova i zakona
LOCATION:Kino Tuškanac
DESCRIPTION:Sans toit ni loi, Francuska, 1985 R: Agnès Varda
END:VEVENT

BEGIN:VEVENT
UID:34e6764cc013f5aeaae815b01f5fd34a@kinotuskanac.hr
DTSTAMP:20260423T144544Z
DTSTART:20110608T210000
DTEND:20110608T230000
SUMMARY:Gospođica (2001)
LOCATION:Kino Tuškanac
DESCRIPTION:Mademoiselle, 2001. R: Philippe Lioret
END:VEVENT

BEGIN:VEVENT
UID:467e0c8c89ac4a04c2156bad912309ae@kinotuskanac.hr
DTSTAMP:20260423T144544Z
DTSTART:20110609T190000
DTEND:20110609T210000
SUMMARY:Gospođica (2001)
LOCATION:Kino Tuškanac
DESCRIPTION:Mademoiselle, 2001. R: Philippe Lioret
END:VEVENT

BEGIN:VEVENT
UID:7b3b4a915f1ca6e2b3b1a8e3c2687e5b@kinotuskanac.hr
DTSTAMP:20260423T144544Z
DTSTART:20110609T210000
DTEND:20110609T230000
SUMMARY:Bez krova i zakona
LOCATION:Kino Tuškanac
DESCRIPTION:Sans toit ni loi, Francuska, 1985 R: Agnès Varda
END:VEVENT

BEGIN:VEVENT
UID:2c9cb84e3704478328c348ef802116f7@kinotuskanac.hr
DTSTAMP:20260423T144544Z
DTSTART:20110610T190000
DTEND:20110610T210000
SUMMARY:Ona se zove Sabine
LOCATION:Kino Tuškanac
DESCRIPTION:Elle s'appelle Sabine, 2007. R: Sandrine Bonnaire
END:VEVENT

BEGIN:VEVENT
UID:04328fc196af75713ee9ae6cf5832569@kinotuskanac.hr
DTSTAMP:20260423T144544Z
DTSTART:20110610T210000
DTEND:20110610T230000
SUMMARY:Šahistica
LOCATION:Kino Tuškanac
DESCRIPTION:Joueuse, 2009. R: Caroline Bottaro
END:VEVENT

BEGIN:VEVENT
UID:beacc4ae002e7460b5cfa8858625bdae@kinotuskanac.hr
DTSTAMP:20260423T144544Z
DTSTART:20110611T190000
DTEND:20110611T210000
SUMMARY:Šahistica
LOCATION:Kino Tuškanac
DESCRIPTION:Joueuse, 2009. R: Caroline Bottaro
END:VEVENT

BEGIN:VEVENT
UID:75e10a30a3bcc478a57d40ac5540cd4b@kinotuskanac.hr
DTSTAMP:20260423T144544Z
DTSTART:20110611T210000
DTEND:20110611T230000
SUMMARY:Ona se zove Sabine
LOCATION:Kino Tuškanac
DESCRIPTION:Elle s'appelle Sabine, 2007. R: Sandrine Bonnaire
END:VEVENT
END:VCALENDAR