BEGIN:VCALENDAR
VERSION:2.0
PRODID:-//Kino Tuškanac//Filmski programi//HR
URL:http://kinotuskanac/calendar/cycle/276
NAME:Kino Tuškanac ciklus Ciklus suvremenog mađarskog filma II
X-WR-CALNAME:Kino Tuškanac ciklus Ciklus suvremenog mađarskog filma II
TIMEZONE-ID:Europe/Zagreb
X-WR-TIMEZONE:Europe/Zagreb
REFRESH-INTERVAL;VALUE=DURATION:PT12H
X-PUBLISHED-TTL:PT12H
METHOD:PUBLISH
BEGIN:VEVENT
UID:eff3a5bab33cb4a533d783e0ff31bc34@kinotuskanac.hr
DTSTAMP:20260423T145240Z
DTSTART:20110503T200000
DTEND:20110503T220000
SUMMARY:Obiteljsko gnijezdo
LOCATION:Kino Tuškanac
DESCRIPTION:Családi tüzfészek, Mađarska, 1977 R: Béla Tarr
END:VEVENT

BEGIN:VEVENT
UID:febf3c0b6f08733269c654cc39084b45@kinotuskanac.hr
DTSTAMP:20260423T145240Z
DTSTART:20110504T200000
DTEND:20110504T220000
SUMMARY:Nekako američki 2
LOCATION:Kino Tuškanac
DESCRIPTION:Valami Amerika 2, 2008. R: Gábor Herendi
END:VEVENT

BEGIN:VEVENT
UID:29b71b8ebe521a6d83545dc182a9f7dd@kinotuskanac.hr
DTSTAMP:20260423T145240Z
DTSTART:20110505T200000
DTEND:20110505T220000
SUMMARY:Sretan novi život
LOCATION:Kino Tuškanac
DESCRIPTION:Boldog új élet, 2007. R: Árpád Bogdán
END:VEVENT

BEGIN:VEVENT
UID:0e0a712102ee0cd1a3578554b07b2f28@kinotuskanac.hr
DTSTAMP:20260423T145240Z
DTSTART:20110506T200000
DTEND:20110506T220000
SUMMARY:Intimne slike
LOCATION:Kino Tuškanac
DESCRIPTION:Intim fejlövés, 2009. R: Péter Szajki
END:VEVENT

BEGIN:VEVENT
UID:d41b8e90453b6187dd910abd5dd90726@kinotuskanac.hr
DTSTAMP:20260423T145240Z
DTSTART:20110507T200000
DTEND:20110507T220000
SUMMARY:Ružičasti sir
LOCATION:Kino Tuškanac
DESCRIPTION:Rózsaszín sajt, 2009. R: Barnabás Tóth
END:VEVENT
END:VCALENDAR