BEGIN:VCALENDAR
VERSION:2.0
PRODID:-//Kino Tuškanac//Filmski programi//HR
URL:http://kinotuskanac/calendar/cycle/277
NAME:Kino Tuškanac ciklus Ciklus noir filmova
X-WR-CALNAME:Kino Tuškanac ciklus Ciklus noir filmova
TIMEZONE-ID:Europe/Zagreb
X-WR-TIMEZONE:Europe/Zagreb
REFRESH-INTERVAL;VALUE=DURATION:PT12H
X-PUBLISHED-TTL:PT12H
METHOD:PUBLISH
BEGIN:VEVENT
UID:b882ed7c8ce29f7ce23810e412714f09@kinotuskanac.hr
DTSTAMP:20260420T191159Z
DTSTART:20110505T230000
DTEND:20110506T010000
SUMMARY:Dama iz Šangaja
LOCATION:Kino Tuškanac
DESCRIPTION:The Lady From Shanghai, SAD, 1947 R: Orson Welles
END:VEVENT

BEGIN:VEVENT
UID:f868afe3d37a2d268eeb7a405b1c63e8@kinotuskanac.hr
DTSTAMP:20260420T191159Z
DTSTART:20110506T230000
DTEND:20110507T010000
SUMMARY:Bulevar sumraka
LOCATION:Kino Tuškanac
DESCRIPTION:Sunset Boulevard, SAD, 1950 | Mjesto prikazivanja filma: Kino Forum (SD Stjepan Radić, Jarunska ul. 2) R: Billy Wilder
END:VEVENT

BEGIN:VEVENT
UID:1551965231f2d1f7ec21438cca3d0684@kinotuskanac.hr
DTSTAMP:20260420T191159Z
DTSTART:20110507T030000
DTEND:20110507T050000
SUMMARY:Poljubac smrti (1955)
LOCATION:Kino Tuškanac
DESCRIPTION:Kiss Me Deadly, 1955 | Mjesto prikazivanja filma: Kulturno informativni centar KIC (Preradovićeva ul. 5) R: Robert Aldrich
END:VEVENT

BEGIN:VEVENT
UID:1494e32a398c30705391c87d71f4f2f5@kinotuskanac.hr
DTSTAMP:20260420T191159Z
DTSTART:20110507T010000
DTEND:20110507T030000
SUMMARY:Demoni
LOCATION:Kino Tuškanac
DESCRIPTION:Les diaboliques, Francuska, 1955 R: Henri-Georges Clouzot
END:VEVENT

BEGIN:VEVENT
UID:c7c7e1b84a2ab43705084e1694608e22@kinotuskanac.hr
DTSTAMP:20260420T191159Z
DTSTART:20110507T050000
DTEND:20110507T070000
SUMMARY:Mulholland Drive
LOCATION:Kino Tuškanac
DESCRIPTION:SAD, Francuska, 2001 | Mjesto prikazivanja filma: Centar za kulturu Histrionski dom (Ilica 90) R: David Lynch
END:VEVENT
END:VCALENDAR