BEGIN:VCALENDAR
VERSION:2.0
PRODID:-//Kino Tuškanac//Filmski programi//HR
URL:http://kinotuskanac/calendar/cycle/28
NAME:Kino Tuškanac ciklus Ciklus filmova Pupija Avatija
X-WR-CALNAME:Kino Tuškanac ciklus Ciklus filmova Pupija Avatija
TIMEZONE-ID:Europe/Zagreb
X-WR-TIMEZONE:Europe/Zagreb
REFRESH-INTERVAL;VALUE=DURATION:PT12H
X-PUBLISHED-TTL:PT12H
METHOD:PUBLISH
BEGIN:VEVENT
UID:d76d16a4c65233303f955d5a4f7d883b@kinotuskanac.hr
DTSTAMP:20260422T184734Z
DTSTART:20021123T150000
DTEND:20021123T170000
SUMMARY:Mi troje
LOCATION:Kino Tuškanac
DESCRIPTION:Noi Tre, 1984 R: Pupi Avati
END:VEVENT

BEGIN:VEVENT
UID:0edffeb05e3fb14c15eab82728f67105@kinotuskanac.hr
DTSTAMP:20260422T184734Z
DTSTART:20021123T170000
DTEND:20021123T190000
SUMMARY:Božićni poklon
LOCATION:Kino Tuškanac
DESCRIPTION:Regalo di Natale, 1986 R: Pupi Avati
END:VEVENT

BEGIN:VEVENT
UID:ea6fc2fa3fe9e9f53099a0bea54fdda7@kinotuskanac.hr
DTSTAMP:20260422T184734Z
DTSTART:20021130T150000
DTEND:20021130T170000
SUMMARY:Priča o momcima i djevojkama
LOCATION:Kino Tuškanac
DESCRIPTION:Storia di ragazzi e di ragazze, 1989 R: Pupi Avati
END:VEVENT

BEGIN:VEVENT
UID:393411af581b862f4ee20832a0d8cab7@kinotuskanac.hr
DTSTAMP:20260422T184734Z
DTSTART:20021130T170000
DTEND:20021130T190000
SUMMARY:La via degli angeli
LOCATION:Kino Tuškanac
DESCRIPTION:1999 R: Pupi Avati
END:VEVENT
END:VCALENDAR