BEGIN:VCALENDAR
VERSION:2.0
PRODID:-//Kino Tuškanac//Filmski programi//HR
URL:http://kinotuskanac/calendar/cycle/29
NAME:Kino Tuškanac ciklus Portreti: Ekscentrični svijet Wernera Herzoga
X-WR-CALNAME:Kino Tuškanac ciklus Portreti: Ekscentrični svijet Wernera Herzoga
TIMEZONE-ID:Europe/Zagreb
X-WR-TIMEZONE:Europe/Zagreb
REFRESH-INTERVAL;VALUE=DURATION:PT12H
X-PUBLISHED-TTL:PT12H
METHOD:PUBLISH
BEGIN:VEVENT
UID:dfb9510ffd55f87f20978cd340f1d688@kinotuskanac.hr
DTSTAMP:20260423T144513Z
DTSTART:20200901T190000
DTEND:20200901T210000
SUMMARY:Fitzcarraldo
LOCATION:Kino Tuškanac
DESCRIPTION:Zapadna Njemačka, 1982 R: Werner Herzog
END:VEVENT

BEGIN:VEVENT
UID:92af859039515e4b8b1d5f430c693170@kinotuskanac.hr
DTSTAMP:20260423T144513Z
DTSTART:20200902T190000
DTEND:20200902T210000
SUMMARY:Znaci života
LOCATION:Kino Tuškanac
DESCRIPTION:Lebenszeichen, Zapadna Njemačka, 1968 R: Werner Herzog
END:VEVENT

BEGIN:VEVENT
UID:b09e3ef9159a2a74cf60f28ce9bfc45b@kinotuskanac.hr
DTSTAMP:20260423T144513Z
DTSTART:20200903T190000
DTEND:20200903T210000
SUMMARY:Stroszek
LOCATION:Kino Tuškanac
DESCRIPTION:Zapadna Njemačka, 1977 R: Werner Herzog
END:VEVENT

BEGIN:VEVENT
UID:b6707dd491aa4f289463d0abd20528ab@kinotuskanac.hr
DTSTAMP:20260423T144513Z
DTSTART:20200904T190000
DTEND:20200904T210000
SUMMARY:Aguirre, gnjev božji
LOCATION:Kino Tuškanac
DESCRIPTION:Aguirre, der Zorn Gottes, Zapadna Njemačka, Meksiko, Peru, 1972 R: Werner Herzog
END:VEVENT

BEGIN:VEVENT
UID:659779303d9d64cf8a5e4b1f2ea470da@kinotuskanac.hr
DTSTAMP:20260423T144513Z
DTSTART:20200905T190000
DTEND:20200905T210000
SUMMARY:Nosferatu, vampir noći
LOCATION:Kino Tuškanac
DESCRIPTION:Nosferatu: Phantom der Nacht, Zapadna Njemačka, Francuska, 1979 R: Werner Herzog
END:VEVENT

BEGIN:VEVENT
UID:9e9a1e2143432309a5683e4414d40475@kinotuskanac.hr
DTSTAMP:20260423T144513Z
DTSTART:20200906T190000
DTEND:20200906T210000
SUMMARY:I patuljci počinju mali
LOCATION:Kino Tuškanac
DESCRIPTION:Auch Zwerge haben klein angefangen, Zapadna Njemačka, 1970 R: Werner Herzog
END:VEVENT

BEGIN:VEVENT
UID:fc78d59291d1b710b2e1dc4f06029edb@kinotuskanac.hr
DTSTAMP:20260423T144513Z
DTSTART:20200907T190000
DTEND:20200907T210000
SUMMARY:Srce od stakla
LOCATION:Kino Tuškanac
DESCRIPTION:Herz aus Glas, Zapadna Njemačka, 1976 R: Werner Herzog
END:VEVENT

BEGIN:VEVENT
UID:891b8dfd5fe6b101be6d0ba419f961c9@kinotuskanac.hr
DTSTAMP:20260423T144513Z
DTSTART:20200908T190000
DTEND:20200908T210000
SUMMARY:Woyzeck
LOCATION:Kino Tuškanac
DESCRIPTION:Zapadna Njemačka, 1979 R: Werner Herzog
END:VEVENT

BEGIN:VEVENT
UID:dfc1d2150193267af5654d890591a675@kinotuskanac.hr
DTSTAMP:20260423T144513Z
DTSTART:20200909T190000
DTEND:20200909T210000
SUMMARY:Cobra Verde
LOCATION:Kino Tuškanac
DESCRIPTION:Zapadna Njemačka, Gana, 1987 R: Werner Herzog
END:VEVENT

BEGIN:VEVENT
UID:a2fc4d5b1f150732ef8f364f1cbf8c40@kinotuskanac.hr
DTSTAMP:20260423T144513Z
DTSTART:20200910T190000
DTEND:20200910T210000
SUMMARY:Svatko za sebe i Bog protiv svih (Enigma Kaspara Hausera)
LOCATION:Kino Tuškanac
DESCRIPTION:Jeder für sich und Gott gegen alle, Zapadna Njemačka, 1974 R: Werner Herzog
END:VEVENT
END:VCALENDAR