BEGIN:VCALENDAR
VERSION:2.0
PRODID:-//Kino Tuškanac//Filmski programi//HR
URL:http://kinotuskanac/calendar/cycle/305
NAME:Kino Tuškanac ciklus Retrospektiva Miloša Miše Radivojevića - 50 godina stvaralaštva
X-WR-CALNAME:Kino Tuškanac ciklus Retrospektiva Miloša Miše Radivojevića - 50 godina stvaralaštva
TIMEZONE-ID:Europe/Zagreb
X-WR-TIMEZONE:Europe/Zagreb
REFRESH-INTERVAL;VALUE=DURATION:PT12H
X-PUBLISHED-TTL:PT12H
METHOD:PUBLISH
BEGIN:VEVENT
UID:98fd5874fe71ac1b78c37ac5b9c9eddf@kinotuskanac.hr
DTSTAMP:20260420T070538Z
DTSTART:20120425T190000
DTEND:20120425T210000
SUMMARY:Kako su me ukrali Nemci
LOCATION:Kino Tuškanac
DESCRIPTION:2011. R: Miloš 'Miša' Radivojević
END:VEVENT

BEGIN:VEVENT
UID:73aa6b4d96c643a4bc0300bf055e64b6@kinotuskanac.hr
DTSTAMP:20260420T070538Z
DTSTART:20120426T190000
DTEND:20120426T210000
SUMMARY:Bube u glavi
LOCATION:Kino Tuškanac
DESCRIPTION:1970. R: Miloš 'Miša' Radivojević
END:VEVENT

BEGIN:VEVENT
UID:4bf1d489dbdef26667e01aac1a2024e5@kinotuskanac.hr
DTSTAMP:20260420T070538Z
DTSTART:20120426T210000
DTEND:20120426T230000
SUMMARY:Bez
LOCATION:Kino Tuškanac
DESCRIPTION:1972. R: Miloš 'Miša' Radivojević
END:VEVENT

BEGIN:VEVENT
UID:5e324caa1a9d5e377a80746fc33008ab@kinotuskanac.hr
DTSTAMP:20260420T070538Z
DTSTART:20120427T190000
DTEND:20120427T210000
SUMMARY:Bez
LOCATION:Kino Tuškanac
DESCRIPTION:1972. R: Miloš 'Miša' Radivojević
END:VEVENT

BEGIN:VEVENT
UID:9cd2fad16f72f03fcaf33eeb04f0b453@kinotuskanac.hr
DTSTAMP:20260420T070538Z
DTSTART:20120427T210000
DTEND:20120427T230000
SUMMARY:Bube u glavi
LOCATION:Kino Tuškanac
DESCRIPTION:1970. R: Miloš 'Miša' Radivojević
END:VEVENT

BEGIN:VEVENT
UID:9c1ce699843afd2d879ff69cad8952ad@kinotuskanac.hr
DTSTAMP:20260420T070538Z
DTSTART:20120429T190000
DTEND:20120429T210000
SUMMARY:Testament
LOCATION:Kino Tuškanac
DESCRIPTION:1975. R: Miloš 'Miša' Radivojević
END:VEVENT

BEGIN:VEVENT
UID:7c7c4ebbef88c602a0eaec4acd18030a@kinotuskanac.hr
DTSTAMP:20260420T070538Z
DTSTART:20120429T210000
DTEND:20120429T230000
SUMMARY:Kvar
LOCATION:Kino Tuškanac
DESCRIPTION:1978. R: Miloš 'Miša' Radivojević
END:VEVENT

BEGIN:VEVENT
UID:685e998af4713caf95079cf42ac0c499@kinotuskanac.hr
DTSTAMP:20260420T070538Z
DTSTART:20120430T190000
DTEND:20120430T210000
SUMMARY:Kvar
LOCATION:Kino Tuškanac
DESCRIPTION:1978. R: Miloš 'Miša' Radivojević
END:VEVENT

BEGIN:VEVENT
UID:1677ed9af922bc42cea2f51332c91482@kinotuskanac.hr
DTSTAMP:20260420T070538Z
DTSTART:20120430T210000
DTEND:20120430T230000
SUMMARY:Testament
LOCATION:Kino Tuškanac
DESCRIPTION:1975. R: Miloš 'Miša' Radivojević
END:VEVENT

BEGIN:VEVENT
UID:cc26ee9f05508a90710b416ee442a94b@kinotuskanac.hr
DTSTAMP:20260420T070538Z
DTSTART:20120502T190000
DTEND:20120502T210000
SUMMARY:Dečko koji obećava
LOCATION:Kino Tuškanac
DESCRIPTION:1981. R: Miloš 'Miša' Radivojević
END:VEVENT

BEGIN:VEVENT
UID:ede6220b7db415d9ea4c013ce32c860e@kinotuskanac.hr
DTSTAMP:20260420T070538Z
DTSTART:20120502T210000
DTEND:20120502T230000
SUMMARY:Živeti kao sav normalan svet
LOCATION:Kino Tuškanac
DESCRIPTION:1982. R: Miloš 'Miša' Radivojević
END:VEVENT

BEGIN:VEVENT
UID:3cdc4d7906c03419698f95d82156ed98@kinotuskanac.hr
DTSTAMP:20260420T070538Z
DTSTART:20120503T190000
DTEND:20120503T210000
SUMMARY:Ni na nebu ni na zemlji
LOCATION:Kino Tuškanac
DESCRIPTION:1994. R: Miloš 'Miša' Radivojević
END:VEVENT

BEGIN:VEVENT
UID:adaf9fc4ed27462ea88b53f041fb0256@kinotuskanac.hr
DTSTAMP:20260420T070538Z
DTSTART:20120503T210000
DTEND:20120503T230000
SUMMARY:Buđenje iz mrtvih
LOCATION:Kino Tuškanac
DESCRIPTION:2005. R: Miloš 'Miša' Radivojević
END:VEVENT

BEGIN:VEVENT
UID:12a95e947003c409ac40167494b05aee@kinotuskanac.hr
DTSTAMP:20260420T070538Z
DTSTART:20120504T170000
DTEND:20120504T190000
SUMMARY:Živeti kao sav normalan svet
LOCATION:Kino Tuškanac
DESCRIPTION:1982. R: Miloš 'Miša' Radivojević
END:VEVENT

BEGIN:VEVENT
UID:2e203777bf9fb6e35c6e263b12646e9b@kinotuskanac.hr
DTSTAMP:20260420T070538Z
DTSTART:20120504T210000
DTEND:20120504T230000
SUMMARY:Ni na nebu ni na zemlji
LOCATION:Kino Tuškanac
DESCRIPTION:1994. R: Miloš 'Miša' Radivojević
END:VEVENT

BEGIN:VEVENT
UID:1291716cfed60a5bf07009421879c533@kinotuskanac.hr
DTSTAMP:20260420T070538Z
DTSTART:20120504T190000
DTEND:20120504T210000
SUMMARY:Odbačen
LOCATION:Kino Tuškanac
DESCRIPTION:2007. R: Miloš 'Miša' Radivojević
END:VEVENT

BEGIN:VEVENT
UID:fa486240b9a4bfd8720739e24f4427bb@kinotuskanac.hr
DTSTAMP:20260420T070538Z
DTSTART:20120505T170000
DTEND:20120505T190000
SUMMARY:Dečko koji obećava
LOCATION:Kino Tuškanac
DESCRIPTION:1981. R: Miloš 'Miša' Radivojević
END:VEVENT

BEGIN:VEVENT
UID:76bbe180b67b48b9bf231d5b3e623ffc@kinotuskanac.hr
DTSTAMP:20260420T070538Z
DTSTART:20120505T190000
DTEND:20120505T210000
SUMMARY:Buđenje iz mrtvih
LOCATION:Kino Tuškanac
DESCRIPTION:2005. R: Miloš 'Miša' Radivojević
END:VEVENT

BEGIN:VEVENT
UID:9d74d9b0a4bc882a9279c52eca6ac6ef@kinotuskanac.hr
DTSTAMP:20260420T070538Z
DTSTART:20120505T210000
DTEND:20120505T230000
SUMMARY:Odbačen
LOCATION:Kino Tuškanac
DESCRIPTION:2007. R: Miloš 'Miša' Radivojević
END:VEVENT
END:VCALENDAR