BEGIN:VCALENDAR
VERSION:2.0
PRODID:-//Kino Tuškanac//Filmski programi//HR
URL:http://kinotuskanac/calendar/cycle/308
NAME:Kino Tuškanac ciklus Ciklus Seijuna Suzukija
X-WR-CALNAME:Kino Tuškanac ciklus Ciklus Seijuna Suzukija
TIMEZONE-ID:Europe/Zagreb
X-WR-TIMEZONE:Europe/Zagreb
REFRESH-INTERVAL;VALUE=DURATION:PT12H
X-PUBLISHED-TTL:PT12H
METHOD:PUBLISH
BEGIN:VEVENT
UID:1687bde492209332e66d89d47f91c0f6@kinotuskanac.hr
DTSTAMP:20260423T143528Z
DTSTART:20120604T200000
DTEND:20120604T220000
SUMMARY:Tokijski vjetropir
LOCATION:Kino Tuškanac
DESCRIPTION:Tôkyô nagaremono, Tokyo Drifter, 1966. R: Seijun Suzuki
END:VEVENT

BEGIN:VEVENT
UID:9493444f31f066db3eefd7a233e5f93c@kinotuskanac.hr
DTSTAMP:20260423T143528Z
DTSTART:20120605T190000
DTEND:20120605T210000
SUMMARY:Tokijski vjetropir
LOCATION:Kino Tuškanac
DESCRIPTION:Tôkyô nagaremono, Tokyo Drifter, 1966. R: Seijun Suzuki
END:VEVENT

BEGIN:VEVENT
UID:3ec5fe7c4f20c7ea25ad0f0c98bb1181@kinotuskanac.hr
DTSTAMP:20260423T143528Z
DTSTART:20120606T190000
DTEND:20120606T210000
SUMMARY:Mladost zvijeri
LOCATION:Kino Tuškanac
DESCRIPTION:Yajû no seishun, Youth of the Beast, 1963. R: Seijun Suzuki
END:VEVENT

BEGIN:VEVENT
UID:9ce6ff3ec16bd38c49ccaef879515e83@kinotuskanac.hr
DTSTAMP:20260423T143528Z
DTSTART:20120606T210000
DTEND:20120606T230000
SUMMARY:Ožigosan da ubije
LOCATION:Kino Tuškanac
DESCRIPTION:Koroshi no rakuin, Branded to Kill, 1967. R: Seijun Suzuki
END:VEVENT

BEGIN:VEVENT
UID:c5b71ddd8ae1847ac0460d60bfe141a9@kinotuskanac.hr
DTSTAMP:20260423T143528Z
DTSTART:20120608T190000
DTEND:20120608T210000
SUMMARY:Ožigosan da ubije
LOCATION:Kino Tuškanac
DESCRIPTION:Koroshi no rakuin, Branded to Kill, 1967. R: Seijun Suzuki
END:VEVENT

BEGIN:VEVENT
UID:01032768b2efb2d5100dba09a53f451d@kinotuskanac.hr
DTSTAMP:20260423T143528Z
DTSTART:20120608T210000
DTEND:20120608T230000
SUMMARY:Mladost zvijeri
LOCATION:Kino Tuškanac
DESCRIPTION:Yajû no seishun, Youth of the Beast, 1963. R: Seijun Suzuki
END:VEVENT

BEGIN:VEVENT
UID:74903362d9964865ec930c1f4a286fb2@kinotuskanac.hr
DTSTAMP:20260423T143528Z
DTSTART:20120609T190000
DTEND:20120609T210000
SUMMARY:Mladi buntovnik
LOCATION:Kino Tuškanac
DESCRIPTION:Akutarô, The young Rebel, 1963. R: Seijun Suzuki
END:VEVENT

BEGIN:VEVENT
UID:b66de78b62d572175dbf9b5a9eda9465@kinotuskanac.hr
DTSTAMP:20260423T143528Z
DTSTART:20120609T210000
DTEND:20120609T230000
SUMMARY:Kanto lutalica
LOCATION:Kino Tuškanac
DESCRIPTION:Kantô mushuku, Kanto Wanderer, 1963. R: Seijun Suzuki
END:VEVENT

BEGIN:VEVENT
UID:f0edd694d428faba85d039c370d03e12@kinotuskanac.hr
DTSTAMP:20260423T143528Z
DTSTART:20120611T190000
DTEND:20120611T210000
SUMMARY:Kanto lutalica
LOCATION:Kino Tuškanac
DESCRIPTION:Kantô mushuku, Kanto Wanderer, 1963. R: Seijun Suzuki
END:VEVENT

BEGIN:VEVENT
UID:b95243a79bba89445bc46d95d3604a70@kinotuskanac.hr
DTSTAMP:20260423T143528Z
DTSTART:20120611T210000
DTEND:20120611T230000
SUMMARY:Mladi buntovnik
LOCATION:Kino Tuškanac
DESCRIPTION:Akutarô, The young Rebel, 1963. R: Seijun Suzuki
END:VEVENT

BEGIN:VEVENT
UID:7f4be2649da7255a24ef62de4dded180@kinotuskanac.hr
DTSTAMP:20260423T143528Z
DTSTART:20120612T190000
DTEND:20120612T210000
SUMMARY:Borbena elegija
LOCATION:Kino Tuškanac
DESCRIPTION:Kenka erejii, Fighting Elegy, 1966. R: Seijun Suzuki
END:VEVENT

BEGIN:VEVENT
UID:71649737a4b62b5bfb7f15af2126eda3@kinotuskanac.hr
DTSTAMP:20260423T143528Z
DTSTART:20120612T210000
DTEND:20120612T230000
SUMMARY:Priča o prostitutki
LOCATION:Kino Tuškanac
DESCRIPTION:Shunpu-den, Story of a Prostitute, 1965. R: Seijun Suzuki
END:VEVENT

BEGIN:VEVENT
UID:4e87a3c25f9f6443ca0819f0be761ca1@kinotuskanac.hr
DTSTAMP:20260423T143528Z
DTSTART:20120613T190000
DTEND:20120613T210000
SUMMARY:Priča o prostitutki
LOCATION:Kino Tuškanac
DESCRIPTION:Shunpu-den, Story of a Prostitute, 1965. R: Seijun Suzuki
END:VEVENT

BEGIN:VEVENT
UID:f9f472ccc52024c524f018fcec396beb@kinotuskanac.hr
DTSTAMP:20260423T143528Z
DTSTART:20120613T210000
DTEND:20120613T230000
SUMMARY:Borbena elegija
LOCATION:Kino Tuškanac
DESCRIPTION:Kenka erejii, Fighting Elegy, 1966. R: Seijun Suzuki
END:VEVENT

BEGIN:VEVENT
UID:36eaed05d2df9ed677252f9237fe1bfc@kinotuskanac.hr
DTSTAMP:20260423T143528Z
DTSTART:20120614T190000
DTEND:20120614T210000
SUMMARY:Lučka zdravica: Pobjeda u mojim rukama
LOCATION:Kino Tuškanac
DESCRIPTION:Minato no kanpai: Shôri o waga te ni, Harbour Toast: Victory in My Hands, 1956. R: Seijun Suzuki
END:VEVENT

BEGIN:VEVENT
UID:94f489a08431773c4927b569c7b169b5@kinotuskanac.hr
DTSTAMP:20260423T143528Z
DTSTART:20120614T201000
DTEND:20120614T221000
SUMMARY:Ljubavno pismo
LOCATION:Kino Tuškanac
DESCRIPTION:Rabu retâ, Love letter, 1959. R: Seijun Suzuki
END:VEVENT

BEGIN:VEVENT
UID:d3a4dec39fea7c56b3b834cee795480c@kinotuskanac.hr
DTSTAMP:20260423T143528Z
DTSTART:20120614T210000
DTEND:20120614T230000
SUMMARY:Vrata puti
LOCATION:Kino Tuškanac
DESCRIPTION:Nikutai no mon, Gate of Flesh, 1964. R: Seijun Suzuki
END:VEVENT

BEGIN:VEVENT
UID:f154abee04460cfd683cbe8f9327189c@kinotuskanac.hr
DTSTAMP:20260423T143528Z
DTSTART:20120615T190000
DTEND:20120615T210000
SUMMARY:Vrata puti
LOCATION:Kino Tuškanac
DESCRIPTION:Nikutai no mon, Gate of Flesh, 1964. R: Seijun Suzuki
END:VEVENT

BEGIN:VEVENT
UID:99acd906204bbc50a50255f863d5fdc6@kinotuskanac.hr
DTSTAMP:20260423T143528Z
DTSTART:20120615T210000
DTEND:20120615T230000
SUMMARY:Lučka zdravica: Pobjeda u mojim rukama
LOCATION:Kino Tuškanac
DESCRIPTION:Minato no kanpai: Shôri o waga te ni, Harbour Toast: Victory in My Hands, 1956. R: Seijun Suzuki
END:VEVENT

BEGIN:VEVENT
UID:3b52475efc2783f2648bf726007463df@kinotuskanac.hr
DTSTAMP:20260423T143528Z
DTSTART:20120615T221000
DTEND:20120616T001000
SUMMARY:Ljubavno pismo
LOCATION:Kino Tuškanac
DESCRIPTION:Rabu retâ, Love letter, 1959. R: Seijun Suzuki
END:VEVENT

BEGIN:VEVENT
UID:6271ef79cf64bbdddc8fba57aacc37bf@kinotuskanac.hr
DTSTAMP:20260423T143528Z
DTSTART:20120616T190000
DTEND:20120616T210000
SUMMARY:Cvijeće i gnjev
LOCATION:Kino Tuškanac
DESCRIPTION:Hana to dotô, The Flowers and the Angry Waves, 1964. R: Seijun Suzuki
END:VEVENT

BEGIN:VEVENT
UID:a8531a2aa0aa250ea1b79b131a2f994b@kinotuskanac.hr
DTSTAMP:20260423T143528Z
DTSTART:20120616T210000
DTEND:20120616T230000
SUMMARY:Zigeunerweisen/Ciganske melodije
LOCATION:Kino Tuškanac
DESCRIPTION:Tsigoineruwaizen, Zigeunerweisen/Gipsy Airs, 1980. R: Seijun Suzuki
END:VEVENT

BEGIN:VEVENT
UID:404cc0d25a8863d44e022001db1c5935@kinotuskanac.hr
DTSTAMP:20260423T143528Z
DTSTART:20120618T190000
DTEND:20120618T210000
SUMMARY:Zigeunerweisen/Ciganske melodije
LOCATION:Kino Tuškanac
DESCRIPTION:Tsigoineruwaizen, Zigeunerweisen/Gipsy Airs, 1980. R: Seijun Suzuki
END:VEVENT

BEGIN:VEVENT
UID:acc2bd5cf0f3b6f5ac7410ad25bcd387@kinotuskanac.hr
DTSTAMP:20260423T143528Z
DTSTART:20120618T213000
DTEND:20120618T233000
SUMMARY:Cvijeće i gnjev
LOCATION:Kino Tuškanac
DESCRIPTION:Hana to dotô, The Flowers and the Angry Waves, 1964. R: Seijun Suzuki
END:VEVENT

BEGIN:VEVENT
UID:333ccb516d02faf6b3a1556da8ec85af@kinotuskanac.hr
DTSTAMP:20260423T143528Z
DTSTART:20120619T190000
DTEND:20120619T210000
SUMMARY:Tetovirani život
LOCATION:Kino Tuškanac
DESCRIPTION:Irezumi ichidai, Tatooed Life, 1965. R: Seijun Suzuki
END:VEVENT

BEGIN:VEVENT
UID:354af66ba00b42c8770225aa8c4210e3@kinotuskanac.hr
DTSTAMP:20260423T143528Z
DTSTART:20120619T210000
DTEND:20120619T230000
SUMMARY:Smrt huliganima
LOCATION:Kino Tuškanac
DESCRIPTION:Kutabare gurentai, Death to Punks, 1960. R: Seijun Suzuki
END:VEVENT

BEGIN:VEVENT
UID:a2377817cccee5605a4e15cc2a9224a5@kinotuskanac.hr
DTSTAMP:20260423T143528Z
DTSTART:20120620T190000
DTEND:20120620T210000
SUMMARY:Smrt huliganima
LOCATION:Kino Tuškanac
DESCRIPTION:Kutabare gurentai, Death to Punks, 1960. R: Seijun Suzuki
END:VEVENT

BEGIN:VEVENT
UID:9d02a2d14fdc9aff0eaa396f651b9b80@kinotuskanac.hr
DTSTAMP:20260423T143528Z
DTSTART:20120620T210000
DTEND:20120620T230000
SUMMARY:Tetovirani život
LOCATION:Kino Tuškanac
DESCRIPTION:Irezumi ichidai, Tatooed Life, 1965. R: Seijun Suzuki
END:VEVENT

BEGIN:VEVENT
UID:5bbac6b129621fb8839184fbe14b2fd4@kinotuskanac.hr
DTSTAMP:20260423T143528Z
DTSTART:20120621T190000
DTEND:20120621T210000
SUMMARY:Karmen iz Kawachija
LOCATION:Kino Tuškanac
DESCRIPTION:Kawachi Karumen, Carmen from Kawachi, 1966. R: Seijun Suzuki
END:VEVENT

BEGIN:VEVENT
UID:054f9567176858cccfd8f99bd5313e55@kinotuskanac.hr
DTSTAMP:20260423T143528Z
DTSTART:20120621T210000
DTEND:20120621T230000
SUMMARY:Detektivski ured 23: Dovraga, gadovi!
LOCATION:Kino Tuškanac
DESCRIPTION:Tantei jimusho 23: Kutabare akutô-domo, Detective Bureau 2-3: Go to Hell Bastards, 1963. R: Seijun Suzuki
END:VEVENT

BEGIN:VEVENT
UID:9f839dc050abc16027d9f596dd0cb432@kinotuskanac.hr
DTSTAMP:20260423T143528Z
DTSTART:20120626T170000
DTEND:20120626T190000
SUMMARY:Detektivski ured 23: Dovraga, gadovi!
LOCATION:Kino Tuškanac
DESCRIPTION:Tantei jimusho 23: Kutabare akutô-domo, Detective Bureau 2-3: Go to Hell Bastards, 1963. R: Seijun Suzuki
END:VEVENT

BEGIN:VEVENT
UID:2a0e564b483b8ad9145157e4546e0c94@kinotuskanac.hr
DTSTAMP:20260423T143528Z
DTSTART:20120627T170000
DTEND:20120627T190000
SUMMARY:Karmen iz Kawachija
LOCATION:Kino Tuškanac
DESCRIPTION:Kawachi Karumen, Carmen from Kawachi, 1966. R: Seijun Suzuki
END:VEVENT

BEGIN:VEVENT
UID:b867820ea65fdd151c6bed81d9ba0128@kinotuskanac.hr
DTSTAMP:20260423T143528Z
DTSTART:20120626T190000
DTEND:20120626T210000
SUMMARY:Naša krv neće oprostiti
LOCATION:Kino Tuškanac
DESCRIPTION:Oretachi no chi ga yurusanai, Our Blood Will Not Forgive, 1964. R: Seijun Suzuki
END:VEVENT

BEGIN:VEVENT
UID:247140df22115b458aad5dae0d92a1ce@kinotuskanac.hr
DTSTAMP:20260423T143528Z
DTSTART:20120626T210000
DTEND:20120626T230000
SUMMARY:Glas bez sjenke
LOCATION:Kino Tuškanac
DESCRIPTION:Kagenaki koe, Voice Without a Shadow, 1958. R: Seijun Suzuki
END:VEVENT

BEGIN:VEVENT
UID:490d9c84ab6491cede773d62f6555c07@kinotuskanac.hr
DTSTAMP:20260423T143528Z
DTSTART:20120627T190000
DTEND:20120627T210000
SUMMARY:Glas bez sjenke
LOCATION:Kino Tuškanac
DESCRIPTION:Kagenaki koe, Voice Without a Shadow, 1958. R: Seijun Suzuki
END:VEVENT

BEGIN:VEVENT
UID:ef37e5cd88d3310918d27c4a28db2a3d@kinotuskanac.hr
DTSTAMP:20260423T143528Z
DTSTART:20120627T210000
DTEND:20120627T230000
SUMMARY:Naša krv neće oprostiti
LOCATION:Kino Tuškanac
DESCRIPTION:Oretachi no chi ga yurusanai, Our Blood Will Not Forgive, 1964. R: Seijun Suzuki
END:VEVENT

BEGIN:VEVENT
UID:263e786c933cbf20e8d997cf8ee639f7@kinotuskanac.hr
DTSTAMP:20260423T143528Z
DTSTART:20120628T190000
DTEND:20120628T210000
SUMMARY:Mladi vjetar nad planinskim prijevojem
LOCATION:Kino Tuškanac
DESCRIPTION:Toge o wataru wakai kaze, New Wind of Youth Over the Mountain Pass, 1961. R: Seijun Suzuki
END:VEVENT

BEGIN:VEVENT
UID:468195ecf9331b3ef49e8cf259848e13@kinotuskanac.hr
DTSTAMP:20260423T143528Z
DTSTART:20120628T210000
DTEND:20120628T230000
SUMMARY:Kageroza/Ljeskanje
LOCATION:Kino Tuškanac
DESCRIPTION:Kagerô-za, Heat Shimmer Theater, 1981. R: Seijun Suzuki
END:VEVENT

BEGIN:VEVENT
UID:3f71117a2959ce79eff168bdc46a89b7@kinotuskanac.hr
DTSTAMP:20260423T143528Z
DTSTART:20120629T190000
DTEND:20120629T210000
SUMMARY:Kageroza/Ljeskanje
LOCATION:Kino Tuškanac
DESCRIPTION:Kagerô-za, Heat Shimmer Theater, 1981. R: Seijun Suzuki
END:VEVENT

BEGIN:VEVENT
UID:8d60516729255d70007a99e33c9edcf4@kinotuskanac.hr
DTSTAMP:20260423T143528Z
DTSTART:20120629T213000
DTEND:20120629T233000
SUMMARY:Mladi vjetar nad planinskim prijevojem
LOCATION:Kino Tuškanac
DESCRIPTION:Toge o wataru wakai kaze, New Wind of Youth Over the Mountain Pass, 1961. R: Seijun Suzuki
END:VEVENT

BEGIN:VEVENT
UID:fecfdf579a5e6cf6e4f3ded3df456a85@kinotuskanac.hr
DTSTAMP:20260423T143528Z
DTSTART:20120630T190000
DTEND:20120630T210000
SUMMARY:Yumeji
LOCATION:Kino Tuškanac
DESCRIPTION:1991. R: Seijun Suzuki
END:VEVENT

BEGIN:VEVENT
UID:79218c8faa112e2dbd368cdad138d3c7@kinotuskanac.hr
DTSTAMP:20260423T143528Z
DTSTART:20120630T210000
DTEND:20120630T230000
SUMMARY:Ljepotica podzemlja
LOCATION:Kino Tuškanac
DESCRIPTION:Ankokugai no bijo, Underworld Beauty, 1958. R: Seijun Suzuki
END:VEVENT

BEGIN:VEVENT
UID:4dc9c93bc8fe217685ccb40fa276af37@kinotuskanac.hr
DTSTAMP:20260423T143528Z
DTSTART:20120702T190000
DTEND:20120702T210000
SUMMARY:Ljepotica podzemlja
LOCATION:Kino Tuškanac
DESCRIPTION:Ankokugai no bijo, Underworld Beauty, 1958. R: Seijun Suzuki
END:VEVENT

BEGIN:VEVENT
UID:c908dac25a3dd67171924fe3c757df45@kinotuskanac.hr
DTSTAMP:20260423T143528Z
DTSTART:20120702T210000
DTEND:20120702T230000
SUMMARY:Yumeji
LOCATION:Kino Tuškanac
DESCRIPTION:1991. R: Seijun Suzuki
END:VEVENT
END:VCALENDAR