BEGIN:VCALENDAR
VERSION:2.0
PRODID:-//Kino Tuškanac//Filmski programi//HR
URL:http://kinotuskanac/calendar/cycle/326
NAME:Kino Tuškanac ciklus In memoriam… Sylvia Kristel
X-WR-CALNAME:Kino Tuškanac ciklus In memoriam… Sylvia Kristel
TIMEZONE-ID:Europe/Zagreb
X-WR-TIMEZONE:Europe/Zagreb
REFRESH-INTERVAL;VALUE=DURATION:PT12H
X-PUBLISHED-TTL:PT12H
METHOD:PUBLISH
BEGIN:VEVENT
UID:28b20842d67df44d9e57ed5cc8eec0e3@kinotuskanac.hr
DTSTAMP:20260422T012104Z
DTSTART:20130130T210000
DTEND:20130130T230000
SUMMARY:Vjerna žena
LOCATION:Kino Tuškanac
DESCRIPTION:Une femme fidèle, 1976. R: Roger Vadim
END:VEVENT

BEGIN:VEVENT
UID:d57207352ec0f72cc3c902186c1721fe@kinotuskanac.hr
DTSTAMP:20260422T012104Z
DTSTART:20130131T190000
DTEND:20130131T210000
SUMMARY:Vjerna žena
LOCATION:Kino Tuškanac
DESCRIPTION:Une femme fidèle, 1976. R: Roger Vadim
END:VEVENT

BEGIN:VEVENT
UID:05714923a27905ae6425995a3486e4af@kinotuskanac.hr
DTSTAMP:20260422T012104Z
DTSTART:20130201T190000
DTEND:20130201T210000
SUMMARY:Privatne poduke
LOCATION:Kino Tuškanac
DESCRIPTION:Private Lessons, 1980. R: Alan Myerson
END:VEVENT

BEGIN:VEVENT
UID:1c5ed14f9de04640229d8dd9f60b0bd6@kinotuskanac.hr
DTSTAMP:20260422T012104Z
DTSTART:20130201T210000
DTEND:20130201T230000
SUMMARY:Uličarka
LOCATION:Kino Tuškanac
DESCRIPTION:La marge, 1976. R: Walerian Borowczyk
END:VEVENT

BEGIN:VEVENT
UID:5c2b4f0e4341732281be3058fa2b64f7@kinotuskanac.hr
DTSTAMP:20260422T012104Z
DTSTART:20130204T190000
DTEND:20130204T210000
SUMMARY:Uličarka
LOCATION:Kino Tuškanac
DESCRIPTION:La marge, 1976. R: Walerian Borowczyk
END:VEVENT

BEGIN:VEVENT
UID:14d80e2fae53444d6da1bc06823f1500@kinotuskanac.hr
DTSTAMP:20260422T012104Z
DTSTART:20130204T210000
DTEND:20130204T230000
SUMMARY:Privatne poduke
LOCATION:Kino Tuškanac
DESCRIPTION:Private Lessons, 1980. R: Alan Myerson
END:VEVENT
END:VCALENDAR