BEGIN:VCALENDAR
VERSION:2.0
PRODID:-//Kino Tuškanac//Filmski programi//HR
URL:http://kinotuskanac/calendar/cycle/332
NAME:Kino Tuškanac ciklus 100 godina od rođenja: Burt Lancaster
X-WR-CALNAME:Kino Tuškanac ciklus 100 godina od rođenja: Burt Lancaster
TIMEZONE-ID:Europe/Zagreb
X-WR-TIMEZONE:Europe/Zagreb
REFRESH-INTERVAL;VALUE=DURATION:PT12H
X-PUBLISHED-TTL:PT12H
METHOD:PUBLISH
BEGIN:VEVENT
UID:c49ddca3928f47077286f555ab20a0ca@kinotuskanac.hr
DTSTAMP:20260422T045520Z
DTSTART:20130213T190000
DTEND:20130213T210000
SUMMARY:Odavde do vječnosti
LOCATION:Kino Tuškanac
DESCRIPTION:From Here To Eternity, SAD, 1953 R: Fred Zinnemann
END:VEVENT

BEGIN:VEVENT
UID:87e2abcd0d8d5c0172dbb398e64bae97@kinotuskanac.hr
DTSTAMP:20260422T045520Z
DTSTART:20130213T210000
DTEND:20130213T230000
SUMMARY:Atlantic City
LOCATION:Kino Tuškanac
DESCRIPTION:1980. R: Louis Malle
END:VEVENT

BEGIN:VEVENT
UID:dfd9a1dc7f32486e666e589d388956e2@kinotuskanac.hr
DTSTAMP:20260422T045520Z
DTSTART:20130214T190000
DTEND:20130214T210000
SUMMARY:Atlantic City
LOCATION:Kino Tuškanac
DESCRIPTION:1980. R: Louis Malle
END:VEVENT

BEGIN:VEVENT
UID:e89f91cb7fc38b457fd211050d657070@kinotuskanac.hr
DTSTAMP:20260422T045520Z
DTSTART:20130214T210000
DTEND:20130214T230000
SUMMARY:Odavde do vječnosti
LOCATION:Kino Tuškanac
DESCRIPTION:From Here To Eternity, SAD, 1953 R: Fred Zinnemann
END:VEVENT

BEGIN:VEVENT
UID:d135cd4e55afd65005f6bc44cad29adb@kinotuskanac.hr
DTSTAMP:20260422T045520Z
DTSTART:20130215T190000
DTEND:20130215T210000
SUMMARY:Elmer Gantry
LOCATION:Kino Tuškanac
DESCRIPTION:1960. R: Richard Brooks
END:VEVENT

BEGIN:VEVENT
UID:3d00ab8c913d7c60896c942ed340ca06@kinotuskanac.hr
DTSTAMP:20260422T045520Z
DTSTART:20130216T190000
DTEND:20130216T210000
SUMMARY:Lokalni junak
LOCATION:Kino Tuškanac
DESCRIPTION:Local Hero, 1982. R: Bill Forsyth
END:VEVENT

BEGIN:VEVENT
UID:64e3c0261483b8bc75721dc76b9c2261@kinotuskanac.hr
DTSTAMP:20260422T045520Z
DTSTART:20130225T210000
DTEND:20130225T230000
SUMMARY:Lokalni junak
LOCATION:Kino Tuškanac
DESCRIPTION:Local Hero, 1982. R: Bill Forsyth
END:VEVENT

BEGIN:VEVENT
UID:36779c25298e1c1b6711d5a256e90911@kinotuskanac.hr
DTSTAMP:20260422T045520Z
DTSTART:20130227T190000
DTEND:20130227T210000
SUMMARY:Elmer Gantry
LOCATION:Kino Tuškanac
DESCRIPTION:1960. R: Richard Brooks
END:VEVENT
END:VCALENDAR