BEGIN:VCALENDAR
VERSION:2.0
PRODID:-//Kino Tuškanac//Filmski programi//HR
URL:http://kinotuskanac/calendar/cycle/339
NAME:Kino Tuškanac ciklus Ciklus novog brazilskog filma II
X-WR-CALNAME:Kino Tuškanac ciklus Ciklus novog brazilskog filma II
TIMEZONE-ID:Europe/Zagreb
X-WR-TIMEZONE:Europe/Zagreb
REFRESH-INTERVAL;VALUE=DURATION:PT12H
X-PUBLISHED-TTL:PT12H
METHOD:PUBLISH
BEGIN:VEVENT
UID:48ebcd7e4694741ffa8631ffd27f29eb@kinotuskanac.hr
DTSTAMP:20260423T145241Z
DTSTART:20130408T193000
DTEND:20130408T213000
SUMMARY:Dnevnik Helene Morley
LOCATION:Kino Tuškanac
DESCRIPTION:Vida de Menina, 2005. R: Helena Solberg
END:VEVENT

BEGIN:VEVENT
UID:32b970190435429a689aa1457fb1ceb9@kinotuskanac.hr
DTSTAMP:20260423T145241Z
DTSTART:20130409T190000
DTEND:20130409T210000
SUMMARY:Dnevnik Helene Morley
LOCATION:Kino Tuškanac
DESCRIPTION:Vida de Menina, 2005. R: Helena Solberg
END:VEVENT

BEGIN:VEVENT
UID:060344207586e2c619092910aa3739d2@kinotuskanac.hr
DTSTAMP:20260423T145241Z
DTSTART:20130409T210000
DTEND:20130409T230000
SUMMARY:Bratić Basílio
LOCATION:Kino Tuškanac
DESCRIPTION:Primo Basílio, 2007. R: Daniel Filho
END:VEVENT

BEGIN:VEVENT
UID:b3160cedecdd48ce58b2b475e447ddce@kinotuskanac.hr
DTSTAMP:20260423T145241Z
DTSTART:20130410T190000
DTEND:20130410T210000
SUMMARY:Bratić Basílio
LOCATION:Kino Tuškanac
DESCRIPTION:Primo Basílio, 2007. R: Daniel Filho
END:VEVENT

BEGIN:VEVENT
UID:9f30894a8092da3990f870050c9ec246@kinotuskanac.hr
DTSTAMP:20260423T145241Z
DTSTART:20130410T210000
DTEND:20130410T230000
SUMMARY:Krvavo krštenje
LOCATION:Kino Tuškanac
DESCRIPTION:Batismo de sangue, 2006. R: Helvécio Ratton
END:VEVENT

BEGIN:VEVENT
UID:24a401591de001fbb681a94d7915dca7@kinotuskanac.hr
DTSTAMP:20260423T145241Z
DTSTART:20130411T190000
DTEND:20130411T210000
SUMMARY:Krvavo krštenje
LOCATION:Kino Tuškanac
DESCRIPTION:Batismo de sangue, 2006. R: Helvécio Ratton
END:VEVENT

BEGIN:VEVENT
UID:4798811a199650e2faef602ae7973881@kinotuskanac.hr
DTSTAMP:20260423T145241Z
DTSTART:20130411T210000
DTEND:20130411T230000
SUMMARY:Nije slučajno
LOCATION:Kino Tuškanac
DESCRIPTION:Não por acaso, 2007. R: Philippe Barcinski
END:VEVENT

BEGIN:VEVENT
UID:2e022c37c2a65f200920506e781523ed@kinotuskanac.hr
DTSTAMP:20260423T145241Z
DTSTART:20130412T190000
DTEND:20130412T210000
SUMMARY:Nije slučajno
LOCATION:Kino Tuškanac
DESCRIPTION:Não por acaso, 2007. R: Philippe Barcinski
END:VEVENT

BEGIN:VEVENT
UID:dceecf1a0a269726dd7fae4287ef405e@kinotuskanac.hr
DTSTAMP:20260423T145241Z
DTSTART:20130412T210000
DTEND:20130412T230000
SUMMARY:Donji grad
LOCATION:Kino Tuškanac
DESCRIPTION:Cidade baixa, 2005. R: Ribeiro Machado
END:VEVENT

BEGIN:VEVENT
UID:921bc84150c12950552df58defe6c053@kinotuskanac.hr
DTSTAMP:20260423T145241Z
DTSTART:20130413T190000
DTEND:20130413T210000
SUMMARY:Donji grad
LOCATION:Kino Tuškanac
DESCRIPTION:Cidade baixa, 2005. R: Ribeiro Machado
END:VEVENT
END:VCALENDAR