BEGIN:VCALENDAR
VERSION:2.0
PRODID:-//Kino Tuškanac//Filmski programi//HR
URL:http://kinotuskanac/calendar/cycle/34
NAME:Kino Tuškanac ciklus Ciklus filmova Vittoria De Sice
X-WR-CALNAME:Kino Tuškanac ciklus Ciklus filmova Vittoria De Sice
TIMEZONE-ID:Europe/Zagreb
X-WR-TIMEZONE:Europe/Zagreb
REFRESH-INTERVAL;VALUE=DURATION:PT12H
X-PUBLISHED-TTL:PT12H
METHOD:PUBLISH
BEGIN:VEVENT
UID:25630833e86f7900d314b9473d85d591@kinotuskanac.hr
DTSTAMP:20260420T071203Z
DTSTART:20030218T190000
DTEND:20030218T210000
SUMMARY:Brak na talijanski način
LOCATION:Kino Tuškanac
DESCRIPTION:Matrimonio all'italiana, 1964 R: Vittorio De Sica
END:VEVENT

BEGIN:VEVENT
UID:3f77c8dbe2a0fcb51dabfaf41b06d406@kinotuskanac.hr
DTSTAMP:20260420T071203Z
DTSTART:20030218T210000
DTEND:20030218T230000
SUMMARY:Zlato Napulja
LOCATION:Kino Tuškanac
DESCRIPTION:L'Oro di Napoli, 1954 R: Vittorio De Sica
END:VEVENT

BEGIN:VEVENT
UID:b3e99c7ed8cacff9c538e729c411c855@kinotuskanac.hr
DTSTAMP:20260420T071203Z
DTSTART:20030222T150000
DTEND:20030222T170000
SUMMARY:Krov
LOCATION:Kino Tuškanac
DESCRIPTION:Il tetto, 1956 R: Vittorio De Sica
END:VEVENT

BEGIN:VEVENT
UID:534ee0ea30df2a14d381b7bc0dd5cda8@kinotuskanac.hr
DTSTAMP:20260420T071203Z
DTSTART:20030222T170000
DTEND:20030222T190000
SUMMARY:La Ciociara
LOCATION:Kino Tuškanac
DESCRIPTION:1960 R: Vittorio De Sica
END:VEVENT

BEGIN:VEVENT
UID:be8d31f7339d7bfdddf3da49b395f608@kinotuskanac.hr
DTSTAMP:20260420T071203Z
DTSTART:20030225T190000
DTEND:20030225T210000
SUMMARY:Čudo u Milanu
LOCATION:Kino Tuškanac
DESCRIPTION:Miracolo a Milano, 1951 R: Vittorio De Sica
END:VEVENT

BEGIN:VEVENT
UID:e0a464efce6a3c517cb70b41a28cc9f6@kinotuskanac.hr
DTSTAMP:20260420T071203Z
DTSTART:20030225T210000
DTEND:20030225T230000
SUMMARY:Vrt Finzi-Continijevih
LOCATION:Kino Tuškanac
DESCRIPTION:Il Giardino dei Finzi-Contini, 1970 R: Vittorio De Sica
END:VEVENT

BEGIN:VEVENT
UID:90f4a89628ac25c5eaee41e85d273ac3@kinotuskanac.hr
DTSTAMP:20260420T071203Z
DTSTART:20030301T150000
DTEND:20030301T170000
SUMMARY:Putovanje (1974)
LOCATION:Kino Tuškanac
DESCRIPTION:Il Viaggio, 1974 R: Vittorio De Sica
END:VEVENT

BEGIN:VEVENT
UID:dbee59e5cdd4e69579ccfcbcddb1e96e@kinotuskanac.hr
DTSTAMP:20260420T071203Z
DTSTART:20030301T190000
DTEND:20030301T210000
SUMMARY:Vrt Finzi-Continijevih
LOCATION:Kino Tuškanac
DESCRIPTION:Il Giardino dei Finzi-Contini, 1970 R: Vittorio De Sica
END:VEVENT
END:VCALENDAR